BEGIN:VCALENDAR
VERSION:2.0
PRODID:-//近畿福音放送伝道協力会 – 近放伝公式ウェブサイト - ECPv6.15.16//NONSGML v1.0//EN
CALSCALE:GREGORIAN
METHOD:PUBLISH
X-WR-CALNAME:近畿福音放送伝道協力会 – 近放伝公式ウェブサイト
X-ORIGINAL-URL:https://kinpoden.com
X-WR-CALDESC:近畿福音放送伝道協力会 – 近放伝公式ウェブサイト のイベント
REFRESH-INTERVAL;VALUE=DURATION:PT1H
X-Robots-Tag:noindex
X-PUBLISHED-TTL:PT1H
BEGIN:VTIMEZONE
TZID:Asia/Tokyo
BEGIN:STANDARD
TZOFFSETFROM:+0900
TZOFFSETTO:+0900
TZNAME:JST
DTSTART:20220101T000000
END:STANDARD
END:VTIMEZONE
BEGIN:VEVENT
DTSTART;TZID=Asia/Tokyo:20231209T000000
DTEND;TZID=Asia/Tokyo:20231210T235959
DTSTAMP:20260422T062916
CREATED:20231120T023512Z
LAST-MODIFIED:20231120T023512Z
UID:14559-1702080000-1702252799@kinpoden.com
SUMMARY:「The First Christmas～世界で最初のクリスマス 」
DESCRIPTION:吉村美穂さん \nミュージカル「The First Christmas ～世界で最初のクリスマス」を紹介します。 \nこのミュージカルは、イエス・キリストの降誕を題材にしたもので、ソプラノシンガーの吉村美穂さんが脚本・演出を、ピアニストの野田常喜さんが音楽制作を担当しました。ミュージカルの公演の様子とともに吉村さんにお話を伺います。 \n　
URL:https://kinpoden.com/lifeline/%e3%80%8cthe-first-christmas%ef%bd%9e%e4%b8%96%e7%95%8c%e3%81%a7%e6%9c%80%e5%88%9d%e3%81%ae%e3%82%af%e3%83%aa%e3%82%b9%e3%83%9e%e3%82%b9-%e3%80%8d-3/
CATEGORIES:テレビ「ライフライン」番組表
ATTACH;FMTTYPE=image/jpeg:https://kinpoden.com/wp-content/uploads/2023/11/image-2023-11-20T111706.708.jpg
END:VEVENT
BEGIN:VEVENT
DTSTART;TZID=Asia/Tokyo:20231202T000000
DTEND;TZID=Asia/Tokyo:20231203T235959
DTSTAMP:20260422T062916
CREATED:20231120T023331Z
LAST-MODIFIED:20231120T023331Z
UID:14558-1701475200-1701647999@kinpoden.com
SUMMARY:「アドベントにクリスマスツリーを！！」
DESCRIPTION:佐々木潤さん \nお話：岩井基雄牧師 \n音楽家の佐々木潤さんは、クリスマスツリーコーディネーター、フラワーアーティストとしても活躍しています。そんな佐々木さんに、クリスマスリースの作り方を紹介してもらうとともにお話を伺います。 \n　
URL:https://kinpoden.com/lifeline/%e3%80%8c%e3%82%a2%e3%83%89%e3%83%99%e3%83%b3%e3%83%88%e3%81%ab%e3%82%af%e3%83%aa%e3%82%b9%e3%83%9e%e3%82%b9%e3%83%84%e3%83%aa%e3%83%bc%e3%82%92%ef%bc%81%ef%bc%81%e3%80%8d-3/
CATEGORIES:テレビ「ライフライン」番組表
ATTACH;FMTTYPE=image/jpeg:https://kinpoden.com/wp-content/uploads/2023/11/image.jpg
END:VEVENT
BEGIN:VEVENT
DTSTART;TZID=Asia/Tokyo:20231125T000000
DTEND;TZID=Asia/Tokyo:20231126T235959
DTSTAMP:20260422T062916
CREATED:20231013T045016Z
LAST-MODIFIED:20231013T045016Z
UID:14557-1700870400-1701043199@kinpoden.com
SUMMARY:「あの子どもたちを決して忘れない  〜トルコ・シリア大地震の緊急援助〜」
DESCRIPTION:伊藤真里さん \nお話：原田憲夫牧師 \n２月６日に発生したトルコ・シリア大地震では５万人以上が犠牲となり、今も多くの人々が家を失い、避難生活を余儀なくされています。被災地の子どもたちと人々の命を守るため支援活動を続けている特定非営利活動法人ワールド・ビジョン・ジャパンの伊藤真理さんに、現地を視察した時のお話や、活動に携わる思いなどを伺います。
URL:https://kinpoden.com/lifeline/%e3%80%8c%e3%81%82%e3%81%ae%e5%ad%90%e3%81%a9%e3%82%82%e3%81%9f%e3%81%a1%e3%82%92%e6%b1%ba%e3%81%97%e3%81%a6%e5%bf%98%e3%82%8c%e3%81%aa%e3%81%84-%e3%80%9c%e3%83%88%e3%83%ab%e3%82%b3%e3%83%bb-3/
CATEGORIES:テレビ「ライフライン」番組表
ATTACH;FMTTYPE=image/png:https://kinpoden.com/wp-content/uploads/2023/10/image-40.png
END:VEVENT
BEGIN:VEVENT
DTSTART;TZID=Asia/Tokyo:20231118T000000
DTEND;TZID=Asia/Tokyo:20231119T235959
DTSTAMP:20260422T062916
CREATED:20231013T044910Z
LAST-MODIFIED:20231013T044910Z
UID:14556-1700265600-1700438399@kinpoden.com
SUMMARY:「Believe in Love」
DESCRIPTION:サムエル・ソングさん \nお話：関根弘興牧師 \nゴスペルシンガーのサムエル・ソングさんは韓国ソウル生まれで、６歳の時に牧師である両親と共に日本に移住しました。中学生の頃にいじめにあっていましたが、音楽とキリスト教会が自分の居場所だったといいます。痛みや苦しみ、辛さを抱えている人が自分の歌で励まされ、心が温かくなってくれたらと願うサムエルさんにお話を伺うとともに、昨年、東京のキリスト教会で行われたコンサートの様子をお届けします。
URL:https://kinpoden.com/lifeline/%e3%80%8cbelieve-in-love%e3%80%8d-3/
CATEGORIES:テレビ「ライフライン」番組表
ATTACH;FMTTYPE=image/jpeg:https://kinpoden.com/wp-content/uploads/2023/10/image-2023-10-13T133914.150.jpg
END:VEVENT
BEGIN:VEVENT
DTSTART;TZID=Asia/Tokyo:20231111T000000
DTEND;TZID=Asia/Tokyo:20231112T235959
DTSTAMP:20260422T062916
CREATED:20231013T044807Z
LAST-MODIFIED:20231013T044807Z
UID:14555-1699660800-1699833599@kinpoden.com
SUMMARY:「真の希望に生かされて」
DESCRIPTION:ライフ・ラインのつどい in 福島「真の希望に生かされて」　 \n  \n岩井基雄牧師、吉村美穂さん、野田常喜さん \n  \n福島県いわき市で行った「ライフ・ラインのつどい」の様子を紹介します。このつどいでは、岩井基雄牧師が「真の希望に生かされて」というタイトルで聖書からお話をしました。また、音楽ゲストはソプラノシンガーの吉村美穂さんとピアニストの野田常喜さんで、讃美歌やオリジナルのゴスペルソングを披露しました。音楽と聖書のお話をお届けします。
URL:https://kinpoden.com/lifeline/%e3%80%8c%e7%9c%9f%e3%81%ae%e5%b8%8c%e6%9c%9b%e3%81%ab%e7%94%9f%e3%81%8b%e3%81%95%e3%82%8c%e3%81%a6%e3%80%8d-3/
CATEGORIES:テレビ「ライフライン」番組表
ATTACH;FMTTYPE=image/jpeg:https://kinpoden.com/wp-content/uploads/2023/10/image-2023-10-13T133904.079.jpg
END:VEVENT
BEGIN:VEVENT
DTSTART;TZID=Asia/Tokyo:20231104T000000
DTEND;TZID=Asia/Tokyo:20231105T235959
DTSTAMP:20260422T062916
CREATED:20231013T044609Z
LAST-MODIFIED:20231013T044609Z
UID:14554-1699056000-1699228799@kinpoden.com
SUMMARY:「ティーズハレルヤ~若き農家の挑戦~後編」
DESCRIPTION:渥美良太さん \nお話：原田憲夫牧師 \n前回に引き続き、ティーズハレルヤの渥美良太さんにお話を伺います。静岡県浜松市の山間、天竜区春野町でお茶の有機栽培をしている渥美さんに、美味しいお茶の飲み方を紹介いただくとともに、渥美さんご自身のこれまでの歩みについてお話を伺います。
URL:https://kinpoden.com/lifeline/%e3%80%8c%e3%83%86%e3%82%a3%e3%83%bc%e3%82%ba%e3%83%8f%e3%83%ac%e3%83%ab%e3%83%a4%e8%8b%a5%e3%81%8d%e8%be%b2%e5%ae%b6%e3%81%ae%e6%8c%91%e6%88%a6%e5%be%8c%e7%b7%a8%e3%80%8d-3/
CATEGORIES:テレビ「ライフライン」番組表
ATTACH;FMTTYPE=image/jpeg:https://kinpoden.com/wp-content/uploads/2023/10/image-2023-10-13T133852.483.jpg
END:VEVENT
BEGIN:VEVENT
DTSTART;TZID=Asia/Tokyo:20231028T000000
DTEND;TZID=Asia/Tokyo:20231029T235959
DTSTAMP:20260422T062916
CREATED:20231013T044444Z
LAST-MODIFIED:20231013T044444Z
UID:14553-1698451200-1698623999@kinpoden.com
SUMMARY:「神様に委ねて」
DESCRIPTION:小橋川嘉敦さん \nお話：関根弘興牧師 \n沖縄県嘉手納町で沖縄そばの店「海が見えるそば家」を営む小橋川嘉敦さんを紹介します。「海が見えるそば家」は店名のとおり、どの席からも海を臨むことができる沖縄そばの専門店です。小橋川さんは家族の中に起こったあることがきっかけでキリスト教会に行き、クリスチャンになります。今、神様に全てを委ねて生きることの幸いをかみしめているという小橋川さんにお話を伺います。 \n  \n※テレビ神奈川は 横浜マラソンの影響により 11:00から放送になります。
URL:https://kinpoden.com/lifeline/%e3%80%8c%e7%a5%9e%e6%a7%98%e3%81%ab%e5%a7%94%e3%81%ad%e3%81%a6%e3%80%8d-2/
CATEGORIES:テレビ「ライフライン」番組表
ATTACH;FMTTYPE=image/jpeg:https://kinpoden.com/wp-content/uploads/2023/10/image38.jpg
END:VEVENT
BEGIN:VEVENT
DTSTART;TZID=Asia/Tokyo:20231021T000000
DTEND;TZID=Asia/Tokyo:20231022T235959
DTSTAMP:20260422T062916
CREATED:20230921T033631Z
LAST-MODIFIED:20230921T033631Z
UID:14552-1697846400-1698019199@kinpoden.com
SUMMARY:「人とのつながりを紡ぐイーストサイド・カフェ」
DESCRIPTION:ソービ・アブラハムさん \n　お話：関根弘興牧師 \n  \n東京都・東久留米駅前にあるイーストサイド・カフェは、訪れた人が「ここは日本なのか？」と驚くほど、外国人も多く来店しているといいます。この店舗は日曜日にはキリスト教会としても活用されています。「いろいろな人とコミュニケーションを取れる場所を」と語るオーナーのソービ・アブラハムさんにお話を伺います。 \n  \n  \n※SDT静岡第一テレビは放送休止となります。
URL:https://kinpoden.com/lifeline/%e3%80%8c%e4%ba%ba%e3%81%a8%e3%81%ae%e3%81%a4%e3%81%aa%e3%81%8c%e3%82%8a%e3%82%92%e7%b4%a1%e3%81%90%e3%82%a4%e3%83%bc%e3%82%b9%e3%83%88%e3%82%b5%e3%82%a4%e3%83%89%e3%83%bb%e3%82%ab%e3%83%95%e3%82%a7-3/
CATEGORIES:テレビ「ライフライン」番組表
ATTACH;FMTTYPE=image/png:https://kinpoden.com/wp-content/uploads/2023/09/image-39.png
END:VEVENT
BEGIN:VEVENT
DTSTART;TZID=Asia/Tokyo:20231014T000000
DTEND;TZID=Asia/Tokyo:20231015T235959
DTSTAMP:20260422T062916
CREATED:20230921T033050Z
LAST-MODIFIED:20230921T033050Z
UID:14551-1697241600-1697414399@kinpoden.com
SUMMARY:「恐れるな」
DESCRIPTION:ライフ・ラインのつどい in 沖縄「恐れるな」 \n　関根弘興牧師、沖縄の音楽家 \n  \n  \n沖縄県糸満市で行った「ライフ・ラインのつどい」の様子を紹介します。このつどいでは、関根弘興牧師が「恐れるな」というタイトルで聖書からお話をしました。また、地元で活躍するゴスペルシンガーのヨハンナ・サニコラさんの歌声とワールドミッションクリスチャンスクールの生徒たちによる打楽器グループ・ドラムラインの演奏が披露されました。音楽と聖書のお話をお届けします。
URL:https://kinpoden.com/lifeline/%e3%80%8c%e6%81%90%e3%82%8c%e3%82%8b%e3%81%aa%e3%80%8d-3/
CATEGORIES:テレビ「ライフライン」番組表
ATTACH;FMTTYPE=image/jpeg:https://kinpoden.com/wp-content/uploads/2023/09/image-2023-09-21T122110.286.jpg
END:VEVENT
BEGIN:VEVENT
DTSTART;TZID=Asia/Tokyo:20231007T000000
DTEND;TZID=Asia/Tokyo:20231008T235959
DTSTAMP:20260422T062916
CREATED:20230921T032930Z
LAST-MODIFIED:20230921T032930Z
UID:14550-1696636800-1696809599@kinpoden.com
SUMMARY:「お笑い。それは 僕の全部を使って  　人を笑顔にする神様のサプライズ」
DESCRIPTION:お笑い芸人「アイアム」 金城真偉（まさい）さん \n　お話：関根弘興 \n  \n前回に続き、クリスチャン漫才コンビ「アイアム」から、ボケ担当・金城真偉（きんじょうまさい）さんを紹介します。スーパーポジティブで、周りの人を笑わせることが大好きな金城さんですが、当初はミュージシャンを目指していたと言います。過去の失敗も、恥も弱さも、すべてが神様からのサプライズで、お笑いに還元されていると話す金城さんにお話を伺います。 \n  \n  \n※ SDT静岡第一テレビは「ティーズハレルヤ~若き農家の挑戦~前編」渥美良太さんの番組をお届けいたします。 \n※ FTV福島テレビは「お笑い。それは人生の苦難を喜劇に変えてくれる神のプレゼント」新垣勝利さんの番組をお届けいたします。
URL:https://kinpoden.com/lifeline/%e3%80%8c%e3%81%8a%e7%ac%91%e3%81%84%e3%80%82%e3%81%9d%e3%82%8c%e3%81%af-%e5%83%95%e3%81%ae%e5%85%a8%e9%83%a8%e3%82%92%e4%bd%bf%e3%81%a3%e3%81%a6-%e3%80%80%e4%ba%ba%e3%82%92%e7%ac%91%e9%a1%94-3/
CATEGORIES:テレビ「ライフライン」番組表
ATTACH;FMTTYPE=image/jpeg:https://kinpoden.com/wp-content/uploads/2023/09/image-2023-09-21T122102.407.jpg
END:VEVENT
BEGIN:VEVENT
DTSTART;TZID=Asia/Tokyo:20230930T000000
DTEND;TZID=Asia/Tokyo:20231001T235959
DTSTAMP:20260422T062916
CREATED:20230921T032754Z
LAST-MODIFIED:20230921T032754Z
UID:14549-1696032000-1696204799@kinpoden.com
SUMMARY:「ティーズハレルヤ~若き農家の挑戦~前編」
DESCRIPTION:渥美良太さん \nお話：原田憲夫牧師 \n  \n静岡県浜松市の山間、天竜区春野町はお茶の有機栽培で有名な地域です。ティーズハレルヤの渥美良太さんは、春野町で一番若いお茶の生産者。そんな渥美さんに、国内外で定評のある春野茶について、そして渥美さんご自身のこれまでの歩みについてお話を伺います。 \n  \n  \n※SDT静岡第一テレビは、放送休止となります。
URL:https://kinpoden.com/lifeline/%e3%80%8c%e3%83%86%e3%82%a3%e3%83%bc%e3%82%ba%e3%83%8f%e3%83%ac%e3%83%ab%e3%83%a4%e8%8b%a5%e3%81%8d%e8%be%b2%e5%ae%b6%e3%81%ae%e6%8c%91%e6%88%a6%e5%89%8d%e7%b7%a8%e3%80%8d-3/
CATEGORIES:テレビ「ライフライン」番組表
ATTACH;FMTTYPE=image/jpeg:https://kinpoden.com/wp-content/uploads/2023/09/image-2023-09-21T122053.987.jpg
END:VEVENT
BEGIN:VEVENT
DTSTART;TZID=Asia/Tokyo:20230923T000000
DTEND;TZID=Asia/Tokyo:20230924T235959
DTSTAMP:20260422T062916
CREATED:20230821T070602Z
LAST-MODIFIED:20230821T070602Z
UID:14548-1695427200-1695599999@kinpoden.com
SUMMARY:「神のことばを紡ぐ」
DESCRIPTION:和泉ちぬさん \n お話：岩井基雄 \n  \n俳優の和泉ちぬさんは、ドラマ、映画、舞台などに数多く出演し、18歳の乙女から老婆まで幅広く演じることができる役者です。小学生の頃に劇団に入団し、現在まで役者として続けてこられたのは、聖書のことばに支えられてきたからだといいます。そんな和泉さんは、聖書のことばを多くの方と分かち合いたいという思いで、聖書のことばを音楽と共に朗読するコンサートを2012年から開始しました。東京都八王子市で行われた聖書朗読コンサートの様子を紹介するとともにお話を伺います。
URL:https://kinpoden.com/lifeline/%e3%80%8c%e7%a5%9e%e3%81%ae%e3%81%93%e3%81%a8%e3%81%b0%e3%82%92%e7%b4%a1%e3%81%90%e3%80%8d-3/
CATEGORIES:テレビ「ライフライン」番組表
ATTACH;FMTTYPE=image/jpeg:https://kinpoden.com/wp-content/uploads/2023/08/image-2023-08-21T155521.814.jpg
END:VEVENT
BEGIN:VEVENT
DTSTART;TZID=Asia/Tokyo:20230909T000000
DTEND;TZID=Asia/Tokyo:20230910T235959
DTSTAMP:20260422T062916
CREATED:20230821T070327Z
LAST-MODIFIED:20230821T070327Z
UID:14546-1694217600-1694390399@kinpoden.com
SUMMARY:「重荷をおろそう」
DESCRIPTION:ライフ・ラインのつどい in福島 \n 関根弘興牧師、平野翔一さん \n  \n福島県で行った「ライフ・ラインのつどい」の様子を紹介します。このつどいでは、関根弘興牧師が「重荷をおろそう」というタイトルで聖書からお話をしました。また、音楽ゲストは番組のオープニングテーマ曲「一歩」を歌う平野翔一さんです。音楽と聖書のお話をお届けします。 \n　
URL:https://kinpoden.com/lifeline/%e3%80%8c%e9%87%8d%e8%8d%b7%e3%82%92%e3%81%8a%e3%82%8d%e3%81%9d%e3%81%86%e3%80%8d-3/
CATEGORIES:テレビ「ライフライン」番組表
ATTACH;FMTTYPE=image/jpeg:https://kinpoden.com/wp-content/uploads/2023/08/image-2023-08-21T155500.824.jpg
END:VEVENT
BEGIN:VEVENT
DTSTART;TZID=Asia/Tokyo:20230902T000000
DTEND;TZID=Asia/Tokyo:20230903T235959
DTSTAMP:20260422T062916
CREATED:20230821T070122Z
LAST-MODIFIED:20230821T070122Z
UID:14545-1693612800-1693785599@kinpoden.com
SUMMARY:「尺八プレイズ」
DESCRIPTION: 飯吉規邦さん \n お話：関根弘興 \n  \n尺八奏者の飯吉規邦さんが奏でる尺八の音色は心の深いところに響き、やすらぎをもたらすと評判です。この４月にリリースしたCD『尺八プレイズ』は、神様が造られた自然、神様の愛、神様の恵みがテーマです。CD発売記念コンサートから演奏をお届けするとともにお話を伺います。
URL:https://kinpoden.com/lifeline/%e3%80%8c%e5%b0%ba%e5%85%ab%e3%83%97%e3%83%ac%e3%82%a4%e3%82%ba%e3%80%8d-3/
CATEGORIES:テレビ「ライフライン」番組表
ATTACH;FMTTYPE=image/jpeg:https://kinpoden.com/wp-content/uploads/2023/08/image.jpg
END:VEVENT
BEGIN:VEVENT
DTSTART;TZID=Asia/Tokyo:20230826T000000
DTEND;TZID=Asia/Tokyo:20230827T235959
DTSTAMP:20260422T062916
CREATED:20230724T042309Z
LAST-MODIFIED:20230724T042309Z
UID:14544-1693008000-1693180799@kinpoden.com
SUMMARY:「信頼し委ねる」
DESCRIPTION:岩井基雄牧師、安武玄晃さん \n  \n\n\n聖書の話と音楽をお届けします。バイブルコーナーでおなじみの岩井基雄牧師が「信頼し委ねる」というタイトルで聖書からお話をしました。また、サックス奏者の安武玄晃さんが、讃美歌や聖書のことばにインスピレーションを受けたオリジナル曲を演奏しました。 \n  \n※HBCテレビ（北海道）とATV青森テレビ、BSNテレビ(新潟）は放送休止となります。 \n　
URL:https://kinpoden.com/lifeline/%e3%80%8c%e4%bf%a1%e9%a0%bc%e3%81%97%e5%a7%94%e3%81%ad%e3%82%8b%e3%80%8d-3/
CATEGORIES:テレビ「ライフライン」番組表
ATTACH;FMTTYPE=image/png:https://kinpoden.com/wp-content/uploads/2023/07/1689152896.png
END:VEVENT
BEGIN:VEVENT
DTSTART;TZID=Asia/Tokyo:20230819T000000
DTEND;TZID=Asia/Tokyo:20230820T235959
DTSTAMP:20260422T062916
CREATED:20230724T042141Z
LAST-MODIFIED:20230724T042141Z
UID:14543-1692403200-1692575999@kinpoden.com
SUMMARY:「One Seed～小さな種まき～」
DESCRIPTION:安藤よしかさん    お話：岩井基雄 \n  \n\n\n横浜市青葉区を拠点に活動しているガーデンコンサルタントの安藤よしかさんを紹介します。安藤さんが代表を務める「One Seed」は、「暮らしに寄り添う緑の空間造りのお手伝い」をモットーに、次世代に繋げる地球環境を考えたガーデンデザインを提案しています。ミツバチや小鳥も訪れるというオープンガーデンの様子をお送りするとともに、聖書に由来するという社名に込めた思いなどを伺います。
URL:https://kinpoden.com/lifeline/%e3%80%8cone-seed%ef%bd%9e%e5%b0%8f%e3%81%95%e3%81%aa%e7%a8%ae%e3%81%be%e3%81%8d%ef%bd%9e%e3%80%8d-3/
CATEGORIES:テレビ「ライフライン」番組表
ATTACH;FMTTYPE=image/png:https://kinpoden.com/wp-content/uploads/2023/07/image-37.png
END:VEVENT
BEGIN:VEVENT
DTSTART;TZID=Asia/Tokyo:20230812T000000
DTEND;TZID=Asia/Tokyo:20230813T235959
DTSTAMP:20260422T062916
CREATED:20230724T042012Z
LAST-MODIFIED:20230724T042012Z
UID:14542-1691798400-1691971199@kinpoden.com
SUMMARY:「暗闇から光～予科練から牧師へ～」
DESCRIPTION:  関根辰雄さん  お話：岩井基雄 \n  \n\n\n関根辰雄さんは、太平洋戦争の最中、海軍飛行予科練習生（通称・予科練）に14歳で入隊しました。厳しい訓練と学びの後に軍人となった関根さんでしたが、乗る飛行機がないまま終戦を迎えます。その後、生きる意味を見失い、自暴自棄な日々を送っていましたが、キリスト教と出会い、牧師となります。94歳となった現在も、現役の牧師として聖書のメッセージを語っている関根さんにお話を伺います。
URL:https://kinpoden.com/lifeline/%e3%80%8c%e6%9a%97%e9%97%87%e3%81%8b%e3%82%89%e5%85%89%ef%bd%9e%e4%ba%88%e7%a7%91%e7%b7%b4%e3%81%8b%e3%82%89%e7%89%a7%e5%b8%ab%e3%81%b8%ef%bd%9e%e3%80%8d-3/
CATEGORIES:テレビ「ライフライン」番組表
ATTACH;FMTTYPE=image/jpeg:https://kinpoden.com/wp-content/uploads/2023/07/image-2023-07-24T130708.013.jpg
END:VEVENT
BEGIN:VEVENT
DTSTART;TZID=Asia/Tokyo:20230805T000000
DTEND;TZID=Asia/Tokyo:20230806T235959
DTSTAMP:20260422T062916
CREATED:20230724T041902Z
LAST-MODIFIED:20230724T041902Z
UID:14541-1691193600-1691366399@kinpoden.com
SUMMARY:「THE BRIDGE        ～被災地に響く愛と希望のコンサート～・2」
DESCRIPTION:Paul M.（ゴン・ミン）さん   お話：原田憲夫 \n  \n\n\n先月に続き、ピアニストのPaul M.ことゴン・ミンさんを紹介します。東京と宮城（石巻）で行われた「THE BRIDGEコンサート」の様子をお届けするとともに、被災地の方々に対する思いと自身を突き動かすイエス・キリストの愛について、ゴン・ミンさんにお話を伺いました。
URL:https://kinpoden.com/lifeline/%e3%80%8cthe-bridge-%ef%bd%9e%e8%a2%ab%e7%81%bd%e5%9c%b0%e3%81%ab%e9%9f%bf%e3%81%8f%e6%84%9b%e3%81%a8%e5%b8%8c%e6%9c%9b%e3%81%ae%e3%82%b3%e3%83%b3%e3%82%b5%e3%83%bc%e3%83%88%ef%bd%9e%e3%83%bb2-3/
CATEGORIES:テレビ「ライフライン」番組表
ATTACH;FMTTYPE=image/png:https://kinpoden.com/wp-content/uploads/2023/07/image-1.png
END:VEVENT
BEGIN:VEVENT
DTSTART;TZID=Asia/Tokyo:20230729T000000
DTEND;TZID=Asia/Tokyo:20230730T235959
DTSTAMP:20260422T062916
CREATED:20230622T013208Z
LAST-MODIFIED:20230622T013208Z
UID:14540-1690588800-1690761599@kinpoden.com
SUMMARY:「あなたの真友」
DESCRIPTION:ライフ・ラインのつどい in 北海道（釧路） \n「あなたの真友」 \n                           原田憲夫牧師、森裕理さん \n  \n\n\n\n\n\n北海道釧路市で行った「ライフ・ラインのつどい」の様子を紹介します。このつどいでは、原田憲夫牧師が「あなたの真友」というタイトルで聖書からお話をしました。また、音楽ゲストは福音歌手の森祐理さんで、讃美歌やゴスペルソングを披露しました。音楽と聖書のお話をお届けします。 \n　
URL:https://kinpoden.com/lifeline/%e3%80%8c%e3%81%82%e3%81%aa%e3%81%9f%e3%81%ae%e7%9c%9f%e5%8f%8b%e3%80%8d-3/
CATEGORIES:テレビ「ライフライン」番組表
ATTACH;FMTTYPE=image/jpeg:https://kinpoden.com/wp-content/uploads/2023/06/image-2023-06-22T102926.612.jpg
END:VEVENT
BEGIN:VEVENT
DTSTART;TZID=Asia/Tokyo:20230722T000000
DTEND;TZID=Asia/Tokyo:20230723T235959
DTSTAMP:20260422T062916
CREATED:20230622T012858Z
LAST-MODIFIED:20230622T012858Z
UID:14539-1689984000-1690156799@kinpoden.com
SUMMARY:「お笑い。それは人生の困難を喜劇に変えてくれる神様からのプレゼント」
DESCRIPTION:お笑い芸人「アイアム」新垣勝利さん \n                                                            お話：関根弘興牧師   \n沖縄県出身のクリスチャン漫才コンビ「アイアム」でつっこみを担当する新垣勝利さんを紹介します。人前でまくしたてる芸人の素性が感じられない程、穏やかで優しい雰囲気が漂う新垣さんですが、上京前は事務所に所属し、一世を風靡した時代がありました。その後、東京進出を機に人生が一転したと言います。一時はお笑いが嫌いになったという新垣さんが、今も続ける理由を伺います。
URL:https://kinpoden.com/lifeline/%e3%80%8c%e3%81%8a%e7%ac%91%e3%81%84%e3%80%82%e3%81%9d%e3%82%8c%e3%81%af%e4%ba%ba%e7%94%9f%e3%81%ae%e5%9b%b0%e9%9b%a3%e3%82%92%e5%96%9c%e5%8a%87%e3%81%ab%e5%a4%89%e3%81%88%e3%81%a6%e3%81%8f%e3%82%8c-3/
CATEGORIES:テレビ「ライフライン」番組表
ATTACH;FMTTYPE=image/jpeg:https://kinpoden.com/wp-content/uploads/2023/06/image-2023-06-22T100812.922.jpg
END:VEVENT
BEGIN:VEVENT
DTSTART;TZID=Asia/Tokyo:20230708T000000
DTEND;TZID=Asia/Tokyo:20230709T235959
DTSTAMP:20260422T062916
CREATED:20230622T012619Z
LAST-MODIFIED:20230622T012619Z
UID:14537-1688774400-1688947199@kinpoden.com
SUMMARY:「ユーオーディア（最上の香り）」
DESCRIPTION:ユーオーディア・アンサンブル　柳瀬洋さん \n                                                   お話：関根弘興牧師 \n\n\n\n\n\n今年結成35周年を迎えたユーオーディア・アンサンブルを紹介します。ユーオーディア・アンサンブルは音楽をとおして、キリストの香り、神の愛の香りを届けたいとの思いで、1988年に結成されました。この４月に行われた35周年記念感謝コンサートから演奏をお届けするとともに、ユーオーディア代表の柳瀬洋さんにお話を伺います。
URL:https://kinpoden.com/lifeline/%e3%80%8c%e3%83%a6%e3%83%bc%e3%82%aa%e3%83%bc%e3%83%87%e3%82%a3%e3%82%a2%ef%bc%88%e6%9c%80%e4%b8%8a%e3%81%ae%e9%a6%99%e3%82%8a%ef%bc%89%e3%80%8d-3/
CATEGORIES:テレビ「ライフライン」番組表
ATTACH;FMTTYPE=image/jpeg:https://kinpoden.com/wp-content/uploads/2023/06/image-2023-06-22T100744.675.jpg
END:VEVENT
BEGIN:VEVENT
DTSTART;TZID=Asia/Tokyo:20230701T000000
DTEND;TZID=Asia/Tokyo:20230702T235959
DTSTAMP:20260422T062916
CREATED:20230622T012455Z
LAST-MODIFIED:20230622T012455Z
UID:14536-1688169600-1688342399@kinpoden.com
SUMMARY:「THE BRIDGE        ～被災地に響く愛と希望のコンサート～・１」
DESCRIPTION:Paul M.（ゴン・ミン）さん \n　　　　　　　　　　　　　　　お話：原田憲夫牧師 \n  \n\n\nピアニストのPaul M.ことゴン・ミンさんを紹介します。ゴン・ミンさんは、K-POPシーンのバッグバンド・メンバーとして活躍する傍ら、東日本大震災の被災地支援を目的としたTHE BRIDGEプロジェクトを立ち上げ、これまで数多くの復興支援コンサートを行ってきました。今回は、３年ぶりに東京と宮城（石巻）で行われた「THE BRIDGEコンサート」の様子を中心にお届けいたします。
URL:https://kinpoden.com/lifeline/%e3%80%8cthe-bridge-%ef%bd%9e%e8%a2%ab%e7%81%bd%e5%9c%b0%e3%81%ab%e9%9f%bf%e3%81%8f%e6%84%9b%e3%81%a8%e5%b8%8c%e6%9c%9b%e3%81%ae%e3%82%b3%e3%83%b3%e3%82%b5%e3%83%bc%e3%83%88%ef%bd%9e%e3%83%bb-3/
CATEGORIES:テレビ「ライフライン」番組表
ATTACH;FMTTYPE=image/png:https://kinpoden.com/wp-content/uploads/2023/06/image-35.png
END:VEVENT
BEGIN:VEVENT
DTSTART;TZID=Asia/Tokyo:20230624T000000
DTEND;TZID=Asia/Tokyo:20230625T235959
DTSTAMP:20260422T062916
CREATED:20230522T034526Z
LAST-MODIFIED:20230522T034526Z
UID:14535-1687564800-1687737599@kinpoden.com
SUMMARY:「インマヌエル 〜神様は共に」
DESCRIPTION:井上とも子さん｜お話：岩井基雄牧師 \n  \n  \n  \n\n\n井上とも子さんは、包み込まれるような温かさと魂の力強さを兼ね備えた演奏が魅力のチェリストです。自身の名前「とも子」の由来となった聖書のことば「インマヌエル ～ 神様は共に」のとおり、これまでどんな時も神様は共に歩んでくださったと実感しているといいます。そんな井上さんにお話を伺うとともに、３月に東京都八王子市にあるキリスト教会で行われたコンサートから演奏をお届けします。
URL:https://kinpoden.com/lifeline/%e3%80%8c%e3%82%a4%e3%83%b3%e3%83%9e%e3%83%8c%e3%82%a8%e3%83%ab-%e3%80%9c%e7%a5%9e%e6%a7%98%e3%81%af%e5%85%b1%e3%81%ab%e3%80%8d-3/
CATEGORIES:テレビ「ライフライン」番組表
ATTACH;FMTTYPE=image/jpeg:https://kinpoden.com/wp-content/uploads/2023/05/image-2023-05-22T123514.331.jpg
END:VEVENT
BEGIN:VEVENT
DTSTART;TZID=Asia/Tokyo:20230622T080000
DTEND;TZID=Asia/Tokyo:20230622T170000
DTSTAMP:20260422T062916
CREATED:20230622T012719Z
LAST-MODIFIED:20230622T012719Z
UID:14538-1687420800-1687453200@kinpoden.com
SUMMARY:「こころのスケッチ～堀肇牧師特別記念番組～」
DESCRIPTION:お話：堀 肇牧師   \n  \n臨床パストラル・カウンセラーであり、大学でも長年教鞭をとってきた堀肇牧師が今年５月に天に召されました。番組では、2020年に出演した際に著書『寄り添いの小みち』から語ったバイブルメッセージをお届けするとともに、堀牧師による絵画作品も紹介します。
URL:https://kinpoden.com/lifeline/%e3%80%8c%e3%81%93%e3%81%93%e3%82%8d%e3%81%ae%e3%82%b9%e3%82%b1%e3%83%83%e3%83%81%ef%bd%9e%e5%a0%80%e8%82%87%e7%89%a7%e5%b8%ab%e7%89%b9%e5%88%a5%e8%a8%98%e5%bf%b5%e7%95%aa%e7%b5%84%ef%bd%9e%e3%80%8d-3/
CATEGORIES:テレビ「ライフライン」番組表
ATTACH;FMTTYPE=image/png:https://kinpoden.com/wp-content/uploads/2023/06/image-36.png
END:VEVENT
BEGIN:VEVENT
DTSTART;TZID=Asia/Tokyo:20230617T000000
DTEND;TZID=Asia/Tokyo:20230618T235959
DTSTAMP:20260422T062916
CREATED:20230522T034155Z
LAST-MODIFIED:20230522T034155Z
UID:14534-1686960000-1687132799@kinpoden.com
SUMMARY:「ここに愛が」
DESCRIPTION:ライフ・ラインのつどい in 静岡 \n　　　　　　　　　　「ここに愛が」 \n関根弘興牧師、Migiwaさん \n  \n  \n  \n\n\n静岡県磐田市で行った「ライフ・ラインのつどい」の様子を紹介します。このつどいでは、関根弘興牧師が「ここに愛が」というタイトルで聖書からお話をしました。また、音楽ゲストはゴスペル・シンガーソングライターのMigiwaさんで、オリジナルのゴスペルソングを披露しました。音楽と聖書のお話をお届けします。 \n　
URL:https://kinpoden.com/lifeline/%e3%80%8c%e3%81%93%e3%81%93%e3%81%ab%e6%84%9b%e3%81%8c%e3%80%8d-3/
CATEGORIES:テレビ「ライフライン」番組表
ATTACH;FMTTYPE=image/jpeg:https://kinpoden.com/wp-content/uploads/2023/05/image-2023-05-22T123504.953.jpg
END:VEVENT
BEGIN:VEVENT
DTSTART;TZID=Asia/Tokyo:20230610T000000
DTEND;TZID=Asia/Tokyo:20230611T235959
DTSTAMP:20260422T062916
CREATED:20230522T034018Z
LAST-MODIFIED:20230522T034018Z
UID:14533-1686355200-1686527999@kinpoden.com
SUMMARY:「あなたを諦めない」
DESCRIPTION:藤藪庸一さん｜お話：岩井基雄牧師 \n  \n  \n  \n\n\n和歌山県南紀白浜にあるキリスト教会の牧師・藤藪庸一さんは、前任牧師から引き継いだ「三段壁いのちの電話」の活動を行っています。これまでに1\,000人以上の自殺志願者を保護し、共同生活をとおして社会復帰を助けてきた藤藪さんは、『あなたを諦めない 自殺救済の現場から』という本を出版しています。本について、また、働きについてのお話を伺います。
URL:https://kinpoden.com/lifeline/%e3%80%8c%e3%81%82%e3%81%aa%e3%81%9f%e3%82%92%e8%ab%a6%e3%82%81%e3%81%aa%e3%81%84%e3%80%8d-2-3/
CATEGORIES:テレビ「ライフライン」番組表
ATTACH;FMTTYPE=image/jpeg:https://kinpoden.com/wp-content/uploads/2023/05/image-2023-05-22T123449.354.jpg
END:VEVENT
BEGIN:VEVENT
DTSTART;TZID=Asia/Tokyo:20230603T000000
DTEND;TZID=Asia/Tokyo:20230604T235959
DTSTAMP:20260422T062916
CREATED:20230522T033908Z
LAST-MODIFIED:20230522T033908Z
UID:14532-1685750400-1685923199@kinpoden.com
SUMMARY:「ホンモノの光・2」
DESCRIPTION:中久木貴（ニール・アンドリュー）さん｜ \n　　　　　　　　　お話：原田憲夫牧師 \n  \n  \n  \n\n\n兵庫県神戸市で医療分野に特化した翻訳・通訳サービスの会社を経営する、中久木貴（なかくきたかし、ニール・アンドリュー）さんを紹介します。 \nアメリカで生まれ育ち、23歳で来日。「2つのカルチャーで生まれ育った」という中久木さんに、会社の立ち上げまでのお話を伺います。
URL:https://kinpoden.com/lifeline/%e3%80%8c%e3%83%9b%e3%83%b3%e3%83%a2%e3%83%8e%e3%81%ae%e5%85%89%e3%83%bb2%e3%80%8d-3/
CATEGORIES:テレビ「ライフライン」番組表
ATTACH;FMTTYPE=image/jpeg:https://kinpoden.com/wp-content/uploads/2023/05/image-2023-05-22T123438.030.jpg
END:VEVENT
BEGIN:VEVENT
DTSTART;TZID=Asia/Tokyo:20230527T000000
DTEND;TZID=Asia/Tokyo:20230528T235959
DTSTAMP:20260422T062916
CREATED:20230420T020237Z
LAST-MODIFIED:20230420T020237Z
UID:14531-1685145600-1685318399@kinpoden.com
SUMMARY:「塩狩峠・海嶺」
DESCRIPTION:礒川道夫さん｜お話：関根弘興牧師 \n  \n  \n  \n\n\n作家・三浦綾子の小説を原作とした映画『塩狩峠』と『海嶺』を紹介します。 \n『塩狩峠』は明治42年２月に北海道・塩狩峠で起こった鉄道事故の乗客を救った実在の人物をモデルに描かれています。また『海嶺』は、モリソン号事件の被害者ながら、聖書の最初の日本語翻訳に協力をした人物たちの実際の物語です。 \n『塩狩峠』が1975年に、『海嶺』が1983年に公開されましたが、昨年、クラウドファンディングの支援で、HDリマスター化され、鮮やかな映像として蘇りました。 \nこの２つの映画について、日本におけるキリスト教関連の映画上映に尽力している礒川道夫さんにお話を伺います。
URL:https://kinpoden.com/lifeline/%e3%80%8c%e5%a1%a9%e7%8b%a9%e5%b3%a0%e3%83%bb%e6%b5%b7%e5%b6%ba%e3%80%8d-3/
CATEGORIES:テレビ「ライフライン」番組表
ATTACH;FMTTYPE=image/jpeg:https://kinpoden.com/wp-content/uploads/2023/04/image-2023-04-20T105106.921.jpg
END:VEVENT
BEGIN:VEVENT
DTSTART;TZID=Asia/Tokyo:20230520T000000
DTEND;TZID=Asia/Tokyo:20230521T235959
DTSTAMP:20260422T062916
CREATED:20230420T020129Z
LAST-MODIFIED:20230420T020129Z
UID:14530-1684540800-1684713599@kinpoden.com
SUMMARY:「神のことばを描く・２　～平和への祈り～」
DESCRIPTION:渡辺総一さん｜お話：岩井基雄牧師 \n  \n  \n  \n\n\n先月に引き続き、日本の代表的なキリスト教画家、渡辺総一さんを紹介します。聖書の中のエピソードや教えを題材として抽象的な技法で描かれた作品は、様々な書籍の表紙や挿絵として用いられ、多くの人の心に神のことばを響かせてきました。今回は、昨年末に開かれた個展「平和への祈り」に出展された作品を紹介するとともに、絵画に込められた平和への思いについて、渡辺さんにお話を伺います。
URL:https://kinpoden.com/lifeline/%e3%80%8c%e7%a5%9e%e3%81%ae%e3%81%93%e3%81%a8%e3%81%b0%e3%82%92%e6%8f%8f%e3%81%8f%e3%83%bb%ef%bc%92%e3%80%80%ef%bd%9e%e5%b9%b3%e5%92%8c%e3%81%b8%e3%81%ae%e7%a5%88%e3%82%8a%ef%bd%9e%e3%80%8d-3/
CATEGORIES:テレビ「ライフライン」番組表
ATTACH;FMTTYPE=image/png:https://kinpoden.com/wp-content/uploads/2023/04/image-34.png
END:VEVENT
BEGIN:VEVENT
DTSTART;TZID=Asia/Tokyo:20230513T000000
DTEND;TZID=Asia/Tokyo:20230514T235959
DTSTAMP:20260422T062916
CREATED:20230420T020019Z
LAST-MODIFIED:20230420T020019Z
UID:14529-1683936000-1684108799@kinpoden.com
SUMMARY:「死という人生の贈り物」
DESCRIPTION:田頭真一さん｜お話：岩井基雄牧師 \n  \n  \n  \n\n\n沖縄県那覇市首里にある社会医療法人葦の会「オリブ山病院」の理事長で、キリスト教会の牧師でもある田頭真一さんにお話を伺います。 \n田頭さんは『死という人生の贈り物』という本を出版しています。この本は、癌を告げられた主人公が死を迎えるまでの様々なストーリーの間に解説が入るというスタイルで書かれています。 \n長年、ホスピスで患者の魂と向き合ってきた田頭さんが考える「死という人生の贈り物」とは、どういうことなのか、関根弘興牧師がお話を伺ってきました。
URL:https://kinpoden.com/lifeline/%e3%80%8c%e6%ad%bb%e3%81%a8%e3%81%84%e3%81%86%e4%ba%ba%e7%94%9f%e3%81%ae%e8%b4%88%e3%82%8a%e7%89%a9%e3%80%8d-3/
CATEGORIES:テレビ「ライフライン」番組表
ATTACH;FMTTYPE=image/jpeg:https://kinpoden.com/wp-content/uploads/2023/04/image-2023-04-20T105047.226.jpg
END:VEVENT
END:VCALENDAR