BEGIN:VCALENDAR
VERSION:2.0
PRODID:-//近畿福音放送伝道協力会 – 近放伝公式ウェブサイト - ECPv6.15.16//NONSGML v1.0//EN
CALSCALE:GREGORIAN
METHOD:PUBLISH
X-WR-CALNAME:近畿福音放送伝道協力会 – 近放伝公式ウェブサイト
X-ORIGINAL-URL:https://kinpoden.com
X-WR-CALDESC:近畿福音放送伝道協力会 – 近放伝公式ウェブサイト のイベント
REFRESH-INTERVAL;VALUE=DURATION:PT1H
X-Robots-Tag:noindex
X-PUBLISHED-TTL:PT1H
BEGIN:VTIMEZONE
TZID:Asia/Tokyo
BEGIN:STANDARD
TZOFFSETFROM:+0900
TZOFFSETTO:+0900
TZNAME:JST
DTSTART:20210101T000000
END:STANDARD
END:VTIMEZONE
BEGIN:VEVENT
DTSTART;TZID=Asia/Tokyo:20230225T000000
DTEND;TZID=Asia/Tokyo:20230226T235959
DTSTAMP:20260422T095057
CREATED:20230124T002503Z
LAST-MODIFIED:20230124T002503Z
UID:14518-1677283200-1677455999@kinpoden.com
SUMMARY:「いのちより大切なもの」
DESCRIPTION:ユーオーディア管弦楽団・合唱団 \n  \n  \n前週に引き続き、昨年８月に東京で開催された「第28回 ユーオーディア賛美の夕べ」を紹介します。 \n２週目は、「賛美の夕べ」の後半で演奏された組曲「いのちより大切なもの」を聞いていただきます。この曲は、詩画作家・星野富弘さんの詩画に曲をつけたものを朗読とともに綴っていく組曲です。
URL:https://kinpoden.com/lifeline/%e3%80%8c%e3%81%84%e3%81%ae%e3%81%a1%e3%82%88%e3%82%8a%e5%a4%a7%e5%88%87%e3%81%aa%e3%82%82%e3%81%ae%e3%80%8d-3/
CATEGORIES:テレビ「ライフライン」番組表
ATTACH;FMTTYPE=image/jpeg:https://kinpoden.com/wp-content/uploads/2023/01/image-2023-01-24T091321.537.jpg
END:VEVENT
BEGIN:VEVENT
DTSTART;TZID=Asia/Tokyo:20230218T000000
DTEND;TZID=Asia/Tokyo:20230219T235959
DTSTAMP:20260422T095057
CREATED:20230124T002352Z
LAST-MODIFIED:20230124T002352Z
UID:14517-1676678400-1676851199@kinpoden.com
SUMMARY:「インマヌエル 〜 神　われらと共にあり」
DESCRIPTION:ユーオーディア管弦楽団・合唱団 \n柳瀬洋さん、柳瀬佐和子さん \n　　　　　　｜お話：岩井基雄牧師 \n  \n昨年８月に東京で開催された「第28回 ユーオーディア賛美の夕べ」を２週にわたって紹介します。 \n今回の「ユーオーディア賛美の夕べ」は、「いのち」というテーマで開催されました。 \n１週目は、ユーオーディア代表の柳瀬洋さんと、「賛美の夕べ」の前半に演奏された「インマヌエル 」を作曲した柳瀬佐和子さんにお話を伺います。 \n　
URL:https://kinpoden.com/lifeline/%e3%80%8c%e3%82%a4%e3%83%b3%e3%83%9e%e3%83%8c%e3%82%a8%e3%83%ab-%e3%80%9c-%e7%a5%9e%e3%80%80%e3%82%8f%e3%82%8c%e3%82%89%e3%81%a8%e5%85%b1%e3%81%ab%e3%81%82%e3%82%8a%e3%80%8d-3/
CATEGORIES:テレビ「ライフライン」番組表
ATTACH;FMTTYPE=image/jpeg:https://kinpoden.com/wp-content/uploads/2023/01/image-2023-01-24T091357.645.jpg
END:VEVENT
BEGIN:VEVENT
DTSTART;TZID=Asia/Tokyo:20230211T000000
DTEND;TZID=Asia/Tokyo:20230212T235959
DTSTAMP:20260422T095058
CREATED:20230124T002134Z
LAST-MODIFIED:20230124T002134Z
UID:14516-1676073600-1676246399@kinpoden.com
SUMMARY:「子どもの心をはぐくむ」講演会2
DESCRIPTION:田中哲さん｜お話：原田憲夫牧師 \n  \n児童精神科医の田中哲（さとし）さんの講演会の様子の２回目をお届けします。田中さんは長年、子どもの心の治療に取り組む傍ら、「子育て」や「子どもの心の成長」についての執筆や講演活動も行っています。今回は、以前放送し好評をいただいた講演会「その子『らしさ』とともにある環境」の様子を、再編集して何回かに分けてお届けします。子どもの心をはぐくむということについて、クリスチャンの児童精神科医である田中さんが、聖書に基づいて、わかりやすくお話しします。
URL:https://kinpoden.com/lifeline/%e3%80%8c%e5%ad%90%e3%81%a9%e3%82%82%e3%81%ae%e5%bf%83%e3%82%92%e3%81%af%e3%81%90%e3%81%8f%e3%82%80%e3%80%8d%e8%ac%9b%e6%bc%94%e4%bc%9a2-3/
CATEGORIES:テレビ「ライフライン」番組表
ATTACH;FMTTYPE=image/png:https://kinpoden.com/wp-content/uploads/2023/01/image-33.png
END:VEVENT
BEGIN:VEVENT
DTSTART;TZID=Asia/Tokyo:20230204T000000
DTEND;TZID=Asia/Tokyo:20230205T235959
DTSTAMP:20260422T095058
CREATED:20230124T002022Z
LAST-MODIFIED:20230124T002022Z
UID:14515-1675468800-1675641599@kinpoden.com
SUMMARY:「いてくれてありがとう」
DESCRIPTION:関根一夫さん \n  \n牧師でカウンセラーの関根一夫さんは、『いてくれてありがとう～介護家族の話をひたすら聴き続けた牧師が伝えたいこと』という本を出版しています。この本は、長年、認知症の介護家族に寄り添い、悩みを聴き続けてきた関根さんが、その体験をまとめたものです。本のサブタイトル「介護家族の話をひたすら聴き続けた牧師が伝えたいこと」とは何でしょうか。関根さんにお話を伺います。（再放送）
URL:https://kinpoden.com/lifeline/%e3%80%8c%e3%81%84%e3%81%a6%e3%81%8f%e3%82%8c%e3%81%a6%e3%81%82%e3%82%8a%e3%81%8c%e3%81%a8%e3%81%86%e3%80%8d-3/
CATEGORIES:テレビ「ライフライン」番組表
ATTACH;FMTTYPE=image/jpeg:https://kinpoden.com/wp-content/uploads/2023/01/image.jpg
END:VEVENT
BEGIN:VEVENT
DTSTART;TZID=Asia/Tokyo:20230128T000000
DTEND;TZID=Asia/Tokyo:20230129T235959
DTSTAMP:20260422T095058
CREATED:20221222T121239Z
LAST-MODIFIED:20221222T121239Z
UID:14514-1674864000-1675036799@kinpoden.com
SUMMARY:「真実な愛に生かされて」
DESCRIPTION:キャサリン・ポーターさん \n\n\n\n\n\n\n\n\n  \n昨年、静岡県静岡市で収録した聖書のお話と音楽をお届けします。 \nバイブルコーナーでおなじみの岩井基雄牧師が「真実な愛に生かされて」というタイトルで聖書からお話をし、ハープ奏者のキャサリン・ポーターさんが賛美歌を演奏しました。聖書のお話とハープの音色をお楽しみください。
URL:https://kinpoden.com/lifeline/%e3%80%8c%e7%9c%9f%e5%ae%9f%e3%81%aa%e6%84%9b%e3%81%ab%e7%94%9f%e3%81%8b%e3%81%95%e3%82%8c%e3%81%a6%e3%80%8d-3/
CATEGORIES:テレビ「ライフライン」番組表
ATTACH;FMTTYPE=image/jpeg:https://kinpoden.com/wp-content/uploads/2022/12/image-2022-12-22T210503.151.jpg
END:VEVENT
BEGIN:VEVENT
DTSTART;TZID=Asia/Tokyo:20230121T000000
DTEND;TZID=Asia/Tokyo:20230122T235959
DTSTAMP:20260422T095058
CREATED:20221222T121137Z
LAST-MODIFIED:20221222T121137Z
UID:14513-1674259200-1674431999@kinpoden.com
SUMMARY:「一人ひとりが輝くコミュニティー『コイノニア』を目指して」
DESCRIPTION:市橋隆雄さん \n  \nケニアのスラム街の子どもたちを教育する「コイノニア教育センター」を20年前に立ち上げた代表の市橋隆雄さんを紹介します。若いころ、人生をかけて取組むべきものを探し求めていた市橋さんは、さまざまな体験をしてきましたが、キリストを信じるようになって「何のために生きるか」ではなく「誰のために生きるか」を求めるようになったといいます。ケニアで誰かのために全身全霊で尽力している市橋さんの生き方をお届けします。どうぞご覧ください。
URL:https://kinpoden.com/lifeline/%e3%80%8c%e4%b8%80%e4%ba%ba%e3%81%b2%e3%81%a8%e3%82%8a%e3%81%8c%e8%bc%9d%e3%81%8f%e3%82%b3%e3%83%9f%e3%83%a5%e3%83%8b%e3%83%86%e3%82%a3%e3%83%bc%e3%80%8e%e3%82%b3%e3%82%a4%e3%83%8e%e3%83%8b%e3%82%a2-3/
CATEGORIES:テレビ「ライフライン」番組表
ATTACH;FMTTYPE=image/jpeg:https://kinpoden.com/wp-content/uploads/2022/12/image-2022-12-22T210454.680.jpg
END:VEVENT
BEGIN:VEVENT
DTSTART;TZID=Asia/Tokyo:20230114T000000
DTEND;TZID=Asia/Tokyo:20230115T235959
DTSTAMP:20260422T095058
CREATED:20221222T121038Z
LAST-MODIFIED:20221222T121038Z
UID:14512-1673654400-1673827199@kinpoden.com
SUMMARY:「子どもの心をはぐくむ|田中哲講演会1」
DESCRIPTION:田中哲さん \n\n\n\n\n\n\n\n\n  \n児童精神科医の田中哲（さとし）さんの講演会の様子をお届けします。田中さんは長年、子どもの心の治療に取り組む傍ら、「子育て」や「子どもの心の成長」についての執筆や講演活動も行っています。今回は、以前放送し好評をいただいた講演会「その子『らしさ』とともにある環境」の様子を、再編集して何回かに分けてお届けします。子どもの心をはぐくむということについて、クリスチャンの児童精神科医である田中さんが、聖書に基づいて、わかりやすくお話しします。
URL:https://kinpoden.com/lifeline/%e3%80%8c%e5%ad%90%e3%81%a9%e3%82%82%e3%81%ae%e5%bf%83%e3%82%92%e3%81%af%e3%81%90%e3%81%8f%e3%82%80%e7%94%b0%e4%b8%ad%e5%93%b2%e8%ac%9b%e6%bc%94%e4%bc%9a1%e3%80%8d-3/
CATEGORIES:テレビ「ライフライン」番組表
ATTACH;FMTTYPE=image/jpeg:https://kinpoden.com/wp-content/uploads/2022/12/image-2022-12-22T210446.397.jpg
END:VEVENT
BEGIN:VEVENT
DTSTART;TZID=Asia/Tokyo:20230107T000000
DTEND;TZID=Asia/Tokyo:20230108T235959
DTSTAMP:20260422T095058
CREATED:20221222T120933Z
LAST-MODIFIED:20221222T120933Z
UID:14511-1673049600-1673222399@kinpoden.com
SUMMARY:「Living Stone 森の中のカフェ生石庵2」
DESCRIPTION:松田献さん \n\n\n\n\n\n\n\n\n  \n宮城県・利府町（りふちょう）の静かな湖のほとりにある、“森の中のカフェ”「生石庵（おいしあん）」の店長、松田献（けん）さんのシリーズの第２回をお送りします。広大なキャンプ場の中に併設されたこのカフェは、自家焙煎のコーヒーやこだわりの手作りスイーツでまたたく間に人気となりました。しかし、オープンまでの道のりは困難の連続だったといいます。前回（11月）に続き、松田さんのこれまでの人生についてお話を伺います。
URL:https://kinpoden.com/lifeline/%e3%80%8cliving-stone-%e6%a3%ae%e3%81%ae%e4%b8%ad%e3%81%ae%e3%82%ab%e3%83%95%e3%82%a7%e7%94%9f%e7%9f%b3%e5%ba%b52%e3%80%8d-3/
CATEGORIES:テレビ「ライフライン」番組表
ATTACH;FMTTYPE=image/jpeg:https://kinpoden.com/wp-content/uploads/2022/12/image-100.jpg
END:VEVENT
BEGIN:VEVENT
DTSTART;TZID=Asia/Tokyo:20221224T000000
DTEND;TZID=Asia/Tokyo:20221225T235959
DTSTAMP:20260422T095058
CREATED:20221123T052611Z
LAST-MODIFIED:20221123T052611Z
UID:14510-1671840000-1672012799@kinpoden.com
SUMMARY:「The First Christmas ～世界で最初のクリスマス」
DESCRIPTION:吉村美穂さん \n\n\n\n\n\n\n\n\n  \nミュージカル「The First Christmas ～世界で最初のクリスマス」を紹介します。 \nこのミュージカルは、イエス・キリストの降誕をミュージカルにしたもので、ソプラノシンガーの吉村美穂さんが脚本・演出を、ピアニストの野田常喜さんが音楽制作を担当しました。ミュージカルの公演の様子とともに、吉村さんにお話を伺います。
URL:https://kinpoden.com/lifeline/%e3%80%8cthe-first-christmas-%ef%bd%9e%e4%b8%96%e7%95%8c%e3%81%a7%e6%9c%80%e5%88%9d%e3%81%ae%e3%82%af%e3%83%aa%e3%82%b9%e3%83%9e%e3%82%b9%e3%80%8d-3/
CATEGORIES:テレビ「ライフライン」番組表
ATTACH;FMTTYPE=image/jpeg:https://kinpoden.com/wp-content/uploads/2022/11/image-99.jpg
END:VEVENT
BEGIN:VEVENT
DTSTART;TZID=Asia/Tokyo:20221217T000000
DTEND;TZID=Asia/Tokyo:20221218T235959
DTSTAMP:20260422T095058
CREATED:20221123T052507Z
LAST-MODIFIED:20221123T052507Z
UID:14509-1671235200-1671407999@kinpoden.com
SUMMARY:「インマヌエル ～ 神 共におられる」
DESCRIPTION:クリスマスのつどい in 福島（いわき） \n　　　　　「インマヌエル ～ 神 共におられる」 \n久米小百合さん、安武玄晃さん｜お話：関根弘興牧師 \n\n\n\n\n\n\n\n\n  \n昨年、福島県いわき市で行った「いわき市民クリスマス」の様子を紹介します。 \nこの市民クリスマスでは、音楽宣教師・久米小百合さんとサックス奏者・安武玄晃さんが演奏をし、関根弘興牧師が「インマヌエル ～ 神 共におられる」というタイトルで聖書のメッセージを語りました。クリスマスの音楽と聖書のお話をお届けします。 \n　　
URL:https://kinpoden.com/lifeline/%e3%80%8c%e3%82%a4%e3%83%b3%e3%83%9e%e3%83%8c%e3%82%a8%e3%83%ab-%ef%bd%9e-%e7%a5%9e-%e5%85%b1%e3%81%ab%e3%81%8a%e3%82%89%e3%82%8c%e3%82%8b%e3%80%8d-3/
CATEGORIES:テレビ「ライフライン」番組表
ATTACH;FMTTYPE=image/jpeg:https://kinpoden.com/wp-content/uploads/2022/11/image-96.jpg
END:VEVENT
BEGIN:VEVENT
DTSTART;TZID=Asia/Tokyo:20221210T000000
DTEND;TZID=Asia/Tokyo:20221211T235959
DTSTAMP:20260422T095058
CREATED:20221123T052326Z
LAST-MODIFIED:20221123T052326Z
UID:14508-1670630400-1670803199@kinpoden.com
SUMMARY:「おくりもの 」
DESCRIPTION:泉谷千賀子さん｜お話：岩井基雄牧師 \n\n\n\n\n\n\n\n\n  \n羊毛でかわいらしい動物や小物を作っている羊毛フェルト作家・泉谷千賀子さんは、「おくりもの」という絵本を出版しています。この絵本は、自分は役立たずだと感じて家を飛び出してしまう子羊の冒険物語です。泉谷さんに、絵本「おくりもの」についてお話を伺うとともに、羊毛で作るクリスマスの飾り、オーナメントの作り方を教えていただきます。
URL:https://kinpoden.com/lifeline/%e3%80%8c%e3%81%8a%e3%81%8f%e3%82%8a%e3%82%82%e3%81%ae-%e3%80%8d-3/
CATEGORIES:テレビ「ライフライン」番組表
ATTACH;FMTTYPE=image/jpeg:https://kinpoden.com/wp-content/uploads/2022/11/image-95.jpg
END:VEVENT
BEGIN:VEVENT
DTSTART;TZID=Asia/Tokyo:20221203T000000
DTEND;TZID=Asia/Tokyo:20221204T235959
DTSTAMP:20260422T095058
CREATED:20221123T052216Z
LAST-MODIFIED:20221123T052216Z
UID:14507-1670025600-1670198399@kinpoden.com
SUMMARY:「holy café 〜紅茶でクリスマスを 」
DESCRIPTION:堀肇牧師 \n\n\n\n\n\n\n\n\n  \n牧師・カウンセラーの堀肇さんは、紅茶コーディネーターとしての顔も持っています。今回は堀さんに、おいしい紅茶の淹れ方やクリスマスティーの楽しみ方について話していただき、聖書からのメッセージを語っていただきます。「五感の祝祭」といわれるクリスマスを、味わい深く過ごしてみてはいかがでしょうか。
URL:https://kinpoden.com/lifeline/%e3%80%8choly-cafe-%e3%80%9c%e7%b4%85%e8%8c%b6%e3%81%a7%e3%82%af%e3%83%aa%e3%82%b9%e3%83%9e%e3%82%b9%e3%82%92-%e3%80%8d-3/
CATEGORIES:テレビ「ライフライン」番組表
ATTACH;FMTTYPE=image/jpeg:https://kinpoden.com/wp-content/uploads/2022/11/image-94.jpg
END:VEVENT
BEGIN:VEVENT
DTSTART;TZID=Asia/Tokyo:20221126T000000
DTEND;TZID=Asia/Tokyo:20221127T235959
DTSTAMP:20260422T095058
CREATED:20221024T034602Z
LAST-MODIFIED:20221024T034602Z
UID:14506-1669420800-1669593599@kinpoden.com
SUMMARY:「BLOSSOM 」
DESCRIPTION:白鞘慧海さん｜お話：岩井基雄牧師 \n\n\n\n\n\n\n\n\n  \n前週に引き続き、シンガー&ソングライターの白鞘慧海さんを紹介します。 \nクリスチャンとなりゴスペルアーティストとしてリリースしたCD「BLOSSOM」は、神様の愛をソウルフルに歌ったアルバムです。５月に行われたコンサートから歌を聞いていただくとともに、このアルバムに込められた思いなどのお話を伺います。
URL:https://kinpoden.com/lifeline/%e3%80%8cblossom-%e3%80%8d-3/
CATEGORIES:テレビ「ライフライン」番組表
ATTACH;FMTTYPE=image/jpeg:https://kinpoden.com/wp-content/uploads/2022/10/image-92.jpg
END:VEVENT
BEGIN:VEVENT
DTSTART;TZID=Asia/Tokyo:20221119T000000
DTEND;TZID=Asia/Tokyo:20221120T235959
DTSTAMP:20260422T095058
CREATED:20221024T034507Z
LAST-MODIFIED:20221024T034507Z
UID:14505-1668816000-1668988799@kinpoden.com
SUMMARY:「希望の光 みつけた！」
DESCRIPTION:白鞘慧海さん｜お話：原田憲夫牧師 \n\n\n\n\n\n\n\n\n  \nシンガー&ソングライターの白鞘慧海さんは、幼い頃からシンガーを目指していました。大学生の時にシンガー＆ソングライターとして活動を始め、1995年にビクターエンタテインメントより「素顔のままで」（NHK「サンデー経済スコープ」エンデイング曲）でメジャーデビューします。その後もリリース曲がCMソングやNHK「みんなのうた」に起用されるなど、順調にシンガーとして活動をしていました。しかし次第に、求められものが自分が歌いたいものとは違っていったといいます。友人の誘いでキリスト教会に行き、クリスチャンとなり、神様の愛、希望を歌うゴスペルアーティストとして活動をするまでのお話を伺います。
URL:https://kinpoden.com/lifeline/%e3%80%8c%e5%b8%8c%e6%9c%9b%e3%81%ae%e5%85%89-%e3%81%bf%e3%81%a4%e3%81%91%e3%81%9f%ef%bc%81%e3%80%8d-3/
CATEGORIES:テレビ「ライフライン」番組表
ATTACH;FMTTYPE=image/jpeg:https://kinpoden.com/wp-content/uploads/2022/10/image-91.jpg
END:VEVENT
BEGIN:VEVENT
DTSTART;TZID=Asia/Tokyo:20221112T000000
DTEND;TZID=Asia/Tokyo:20221113T235959
DTSTAMP:20260422T095058
CREATED:20221024T034411Z
LAST-MODIFIED:20221024T034411Z
UID:14504-1668211200-1668383999@kinpoden.com
SUMMARY:「Living Stone 森の中のカフェ・生石庵-1」
DESCRIPTION:松田献さん｜お話：岩井基雄牧師 \n\n\n\n\n\n\n\n\n  \n宮城県・利府町の静かな湖のほとりに、“森の中のカフェ”「生石庵（おいしあん）」はあります。 \n広大なキャンプ場の中に併設されたこのカフェは、自家焙煎のコーヒーやこだわりの手作りスイーツでまたたく間に人気となりました。しかし、オープンまでの道のりは困難の連続だったといいます。店長の松田献（けん）さんのこれまでの人生のお話とともに、シリーズでお送りします。 \n  \n*カフェを訪問の際はオープン日をホームページでご確認ください。
URL:https://kinpoden.com/lifeline/%e3%80%8cliving-stone-%e6%a3%ae%e3%81%ae%e4%b8%ad%e3%81%ae%e3%82%ab%e3%83%95%e3%82%a7%e3%83%bb%e7%94%9f%e7%9f%b3%e5%ba%b5-1%e3%80%8d-3/
CATEGORIES:テレビ「ライフライン」番組表
ATTACH;FMTTYPE=image/jpeg:https://kinpoden.com/wp-content/uploads/2022/10/image-90.jpg
END:VEVENT
BEGIN:VEVENT
DTSTART;TZID=Asia/Tokyo:20221105T000000
DTEND;TZID=Asia/Tokyo:20221106T235959
DTSTAMP:20260422T095058
CREATED:20221024T034247Z
LAST-MODIFIED:20221024T034247Z
UID:14503-1667606400-1667779199@kinpoden.com
SUMMARY:「人生を通してなすべきこと」
DESCRIPTION:山口正義さん(ワールド・ビジョン・ジャパン) \nお話：原田憲夫牧師 \n\n\n\n\n\n\n\n\n\n  \n世界の貧困や飢餓、紛争に苦しむ子どもたちを支援する特定非営利活動法人ワールド・ビジョン・ジャパンのスタッフ、山口正義さんをご紹介します。かつてバックパッカーとして世界中を旅していた山口さんは、そこで衝撃的な光景を目にして、この活動に身を置く決心をしたといいます。 \n今回は、カンボジアで取材した二人の少女についてのビデオレポートなどを交えながら、スタッフとして働く喜びについて、山口さんに伺います。
URL:https://kinpoden.com/lifeline/%e3%80%8c%e4%ba%ba%e7%94%9f%e3%82%92%e9%80%9a%e3%81%97%e3%81%a6%e3%81%aa%e3%81%99%e3%81%b9%e3%81%8d%e3%81%93%e3%81%a8%e3%80%8d-3/
CATEGORIES:テレビ「ライフライン」番組表
ATTACH;FMTTYPE=image/jpeg:https://kinpoden.com/wp-content/uploads/2022/10/image-89.jpg
END:VEVENT
BEGIN:VEVENT
DTSTART;TZID=Asia/Tokyo:20221029T000000
DTEND;TZID=Asia/Tokyo:20221030T235959
DTSTAMP:20260422T095058
CREATED:20220919T040921Z
LAST-MODIFIED:20220919T040921Z
UID:14502-1667001600-1667174399@kinpoden.com
SUMMARY:「いつまでも残るもの」
DESCRIPTION:ライフ・ラインのつどい in 沖縄 \n「いつまでも残るもの」 \n平野翔一さん｜お話：関根弘興牧師 \n\n\n\n\n\n\n\n\n\n沖縄県嘉手納町で行った「ライフ・ラインのつどい」の様子を紹介します。このつどいでは、関根弘興牧師が「いつまでも残るもの」というタイトルで聖書からお話をしました。また、音楽ゲストは番組のオープニングテーマ曲を歌っている平野翔一さん。音楽と聖書のお話をお届けします。
URL:https://kinpoden.com/lifeline/%e3%80%8c%e3%83%a9%e3%82%a4%e3%83%95%e3%83%bb%e3%83%a9%e3%82%a4%e3%83%b3%e3%81%ae%e3%81%a4%e3%81%a9%e3%81%84-in-%e6%b2%96%e7%b8%84%e3%80%8d-3/
CATEGORIES:テレビ「ライフライン」番組表
ATTACH;FMTTYPE=image/jpeg:https://kinpoden.com/wp-content/uploads/2022/10/image-87.jpg
END:VEVENT
BEGIN:VEVENT
DTSTART;TZID=Asia/Tokyo:20221022T000000
DTEND;TZID=Asia/Tokyo:20221023T235959
DTSTAMP:20260422T095058
CREATED:20220919T040808Z
LAST-MODIFIED:20220919T040808Z
UID:14501-1666396800-1666569599@kinpoden.com
SUMMARY:「ウクライナの人々の悲しみ」
DESCRIPTION:田村治郎さん、森祐理さん \n\n\n\n\n\n\n\n\n  \n\n日本国際飢餓対策機構（ハンガーゼロ）は、飢餓・貧困と闘いながら懸命に生きようとする人々に協力し、飢餓のない世界の実現に取り組んでいます。 \nこの８月にスタッフの田村治郎さんと親善大使の福音歌手・森祐理さんは、ウクライナ避難民支援のため、ポーランドとウクライナに出かけました。現地の現状や活動、出会った人々のことなどのお話を田村さんと森さんに伺います。
URL:https://kinpoden.com/lifeline/%e3%80%8c%e3%82%a6%e3%82%af%e3%83%a9%e3%82%a4%e3%83%8a%e3%81%ae%e4%ba%ba%e3%80%85%e3%81%ae%e6%82%b2%e3%81%97%e3%81%bf%e3%80%8d-3/
CATEGORIES:テレビ「ライフライン」番組表
ATTACH;FMTTYPE=image/jpeg:https://kinpoden.com/wp-content/uploads/2022/09/image-85.jpg
END:VEVENT
BEGIN:VEVENT
DTSTART;TZID=Asia/Tokyo:20221015T000000
DTEND;TZID=Asia/Tokyo:20221016T235959
DTSTAMP:20260422T095058
CREATED:20220919T040711Z
LAST-MODIFIED:20220919T040711Z
UID:14500-1665792000-1665964799@kinpoden.com
SUMMARY:「しそ巻きボクサー牧師を志す」
DESCRIPTION:伊藤走さん \n\n\n\n\n\n\n\n\n  \n\n宮城県大崎市の「惣菜丸走」は、東北の郷土料理であるしそ巻きの専門店。４世代にわたって伝えられてきた秘伝のレシピを使った商品は、各地の道の駅やスーパーなどでも人気です。 \nこの店の代表、伊藤走（そう）さんは、学生時代にボクシングの全国大会でメダルを獲得するほどの実力者。現在は牧師になるための勉強に励んでいるという伊藤さんにお話を伺います。
URL:https://kinpoden.com/lifeline/%e3%80%8c%e3%81%97%e3%81%9d%e5%b7%bb%e3%81%8d%e3%83%9c%e3%82%af%e3%82%b5%e3%83%bc%e7%89%a7%e5%b8%ab%e3%82%92%e5%bf%97%e3%81%99%e3%80%8d-3/
CATEGORIES:テレビ「ライフライン」番組表
ATTACH;FMTTYPE=image/png:https://kinpoden.com/wp-content/uploads/2022/09/image-32.png
END:VEVENT
BEGIN:VEVENT
DTSTART;TZID=Asia/Tokyo:20221008T000000
DTEND;TZID=Asia/Tokyo:20221009T235959
DTSTAMP:20260422T095058
CREATED:20220919T040603Z
LAST-MODIFIED:20220919T040603Z
UID:14499-1665187200-1665359999@kinpoden.com
SUMMARY:「いのちのきらめきを描く」
DESCRIPTION:中井健人さん \n\n\n\n\n\n\n\n\n  \n\n重い自閉症を抱えながら絵画制作に勤しみ、７月に初めて個展を開いた中井健人さんを紹介します。２歳のときに自閉症と診断された健人さんは、小学生の時から絵画を学ぶようになり、そのみずみずしい感性によって描かれる作品は多くの人に感動を与えるものとなりました。番組では、埼玉県越谷市で開かれた個展の様子や作品を紹介するとともに、家族や地域、教会の人たちに見守られながら成長してきた健人さんの姿をお届けします。
URL:https://kinpoden.com/lifeline/%e3%80%8c%e3%81%84%e3%81%ae%e3%81%a1%e3%81%ae%e3%81%8d%e3%82%89%e3%82%81%e3%81%8d%e3%82%92%e6%8f%8f%e3%81%8f%e3%80%8d-3/
CATEGORIES:テレビ「ライフライン」番組表
ATTACH;FMTTYPE=image/png:https://kinpoden.com/wp-content/uploads/2022/09/image-31.png
END:VEVENT
BEGIN:VEVENT
DTSTART;TZID=Asia/Tokyo:20221001T000000
DTEND;TZID=Asia/Tokyo:20221002T235959
DTSTAMP:20260422T095058
CREATED:20220919T040441Z
LAST-MODIFIED:20220919T040441Z
UID:14498-1664582400-1664755199@kinpoden.com
SUMMARY:「スーパーブック」
DESCRIPTION:新美幸子さん \n\n\n\n\n\n\n\n\n  \n\n「スーパーブック」というアニメ番組は、クリス（少年）、ジョイ（少女）、ロビック（ロボット）の３人の主人公をスーパーブックというタイムマシーンが聖書の世界へ連れて行くというストーリーです。 \nこの「スーパーブック」日本語版の放送・DVD制作に携わっている、いのちのことば社・新美幸子さんに「スーパーブック」について、またご自身についてのお話を伺います。
URL:https://kinpoden.com/lifeline/%e3%80%8c%e3%82%b9%e3%83%bc%e3%83%91%e3%83%bc%e3%83%96%e3%83%83%e3%82%af%e3%80%8d-3/
CATEGORIES:テレビ「ライフライン」番組表
ATTACH;FMTTYPE=image/jpeg:https://kinpoden.com/wp-content/uploads/2022/09/image.jpg
END:VEVENT
BEGIN:VEVENT
DTSTART;TZID=Asia/Tokyo:20220924T000000
DTEND;TZID=Asia/Tokyo:20220925T235959
DTSTAMP:20260422T095058
CREATED:20220821T043851Z
LAST-MODIFIED:20220821T043851Z
UID:14497-1663977600-1664150399@kinpoden.com
SUMMARY:「〜継続は力〜被災地に届け続ける働き」
DESCRIPTION:ドナルド・トムソンさん、弓削恵則さん \n\n\n\n\n\n\n\n\n  \n国際NGO、オペレーション・ブレッシング・ジャパンは、東日本大震災を機に、10年以上にわたり日本各地の災害現場へと赴き、継続的に支援活動を行っています。前月に引き続き、代表のドナルド・トムソンさん、そして今回はスタッフの弓削恵則さんにも活動のお話を伺います。\n\n　
URL:https://kinpoden.com/lifeline/%e3%80%8c%e3%80%9c%e7%b6%99%e7%b6%9a%e3%81%af%e5%8a%9b%e3%80%9c%e8%a2%ab%e7%81%bd%e5%9c%b0%e3%81%ab%e5%b1%8a%e3%81%91%e7%b6%9a%e3%81%91%e3%82%8b%e5%83%8d%e3%81%8d%e3%80%8d-2-3/
CATEGORIES:テレビ「ライフライン」番組表
ATTACH;FMTTYPE=image/jpeg:https://kinpoden.com/wp-content/uploads/2022/08/image-84.jpg
END:VEVENT
BEGIN:VEVENT
DTSTART;TZID=Asia/Tokyo:20220917T000000
DTEND;TZID=Asia/Tokyo:20220918T235959
DTSTAMP:20260422T095058
CREATED:20220821T043618Z
LAST-MODIFIED:20220821T043618Z
UID:14496-1663372800-1663545599@kinpoden.com
SUMMARY:「He Comes With The Glory」
DESCRIPTION:小坂忠さん \n\n\n\n\n\n\n\n\n  \n前月に引き続き、今年の４月に天国へと旅立ったシンガー&ソングライター・小坂忠さんを紹介します。 小坂さんは、1966年にロックバンド「ザ・フローラル」のメンバーとして音楽活動を開始し、70年代ポップスの基礎を築きました。そんな中で、クリスチャンとなり、78年には日本初のゴスペルレーベル「ミクタムレコード」を設立し、キリスト教音楽に新風を吹き込んできました。 今回は、５月に行われた小坂さんの葬儀の様子、また以前の出演番組から歌とお話をお届けします。
URL:https://kinpoden.com/lifeline/%e3%80%8che-comes-with-the-glory%e3%80%8d-3/
CATEGORIES:テレビ「ライフライン」番組表
ATTACH;FMTTYPE=image/jpeg:https://kinpoden.com/wp-content/uploads/2022/08/image-83.jpg
END:VEVENT
BEGIN:VEVENT
DTSTART;TZID=Asia/Tokyo:20220910T000000
DTEND;TZID=Asia/Tokyo:20220911T235959
DTSTAMP:20260422T095058
CREATED:20220821T043510Z
LAST-MODIFIED:20220821T043510Z
UID:14495-1662768000-1662940799@kinpoden.com
SUMMARY:「神様が喜ばれる断食を行う祝福」
DESCRIPTION:リンウッド・ガイ・ビショップさん \n\n\n\n\n\n\n\n\n  \nウガンダの孤児を支援する団体「Education for Orphans」の代表、リンウッド・ガイ・ビショップさんをご紹介します。ビショップさんは幼い頃から、途上国で貧困に苦しむ子どもたちや身寄りのない子どもたちのことを気にかけ心を痛めていたといいます。クリスチャン・フリースクールの校長を経て、2021年、ウガンダ孤児のための支援団体を立ち上げ、現在、妻と５人の子どもと共にこの働きに精を出しています。ビショップさんのこれまでの人生は決して平坦ではありませんでした。番組ではウガンダでの支援の働き、そして「苦しみの涙が今は感謝の涙に変えられた」と語る、その半生に迫ります。
URL:https://kinpoden.com/lifeline/%e3%80%8c%e7%a5%9e%e6%a7%98%e3%81%8c%e5%96%9c%e3%81%b0%e3%82%8c%e3%82%8b%e6%96%ad%e9%a3%9f%e3%82%92%e8%a1%8c%e3%81%86%e7%a5%9d%e7%a6%8f%e3%80%8d-3/
CATEGORIES:テレビ「ライフライン」番組表
ATTACH;FMTTYPE=image/jpeg:https://kinpoden.com/wp-content/uploads/2022/08/image-82.jpg
END:VEVENT
BEGIN:VEVENT
DTSTART;TZID=Asia/Tokyo:20220903T000000
DTEND;TZID=Asia/Tokyo:20220904T235959
DTSTAMP:20260422T095058
CREATED:20220821T043350Z
LAST-MODIFIED:20220821T043350Z
UID:14494-1662163200-1662335999@kinpoden.com
SUMMARY:「迷える羊（ストレイ・シープ）～あなたを捜し歩く方」
DESCRIPTION:ライフ・ラインの集い in 福島 \n原田憲夫牧師、森祐理さん \n\n\n\n\n\n\n\n\n  \n福島県白河市で行った「ライフ・ラインのつどい」の様子を紹介します。\n今回の「つどい」では、今年、福音歌手生活30周年を迎えた森祐理さんが賛美歌「迷える羊（ストレイ・シープ）～あなたを捜し歩く方」を歌い、原田憲夫牧師が「迷える羊（ストレイ・シープ）～あなたを捜し歩く方」というタイトルで聖書のメッセージを語りました。\n\n　
URL:https://kinpoden.com/lifeline/%e3%80%8c%e8%bf%b7%e3%81%88%e3%82%8b%e7%be%8a%ef%bc%88%e3%82%b9%e3%83%88%e3%83%ac%e3%82%a4%e3%83%bb%e3%82%b7%e3%83%bc%e3%83%97%ef%bc%89%ef%bd%9e%e3%81%82%e3%81%aa%e3%81%9f%e3%82%92%e6%8d%9c%e3%81%97-3/
CATEGORIES:テレビ「ライフライン」番組表
ATTACH;FMTTYPE=image/jpeg:https://kinpoden.com/wp-content/uploads/2022/08/image-81.jpg
END:VEVENT
BEGIN:VEVENT
DTSTART;TZID=Asia/Tokyo:20220827T000000
DTEND;TZID=Asia/Tokyo:20220828T235959
DTSTAMP:20260422T095058
CREATED:20220720T104640Z
LAST-MODIFIED:20220720T104640Z
UID:14493-1661558400-1661731199@kinpoden.com
SUMMARY:「軌跡」
DESCRIPTION:小坂忠さん \n\n\n\n\n\n\n\n\n  \n今年の４月に天国へと旅立ったシンガー&ソングライター・小坂忠さんを紹介します。 \n  \n小坂さんは、1966年にロックバンド「ザ・フローラル」のメンバーとして音楽活動を開始し、70年代ポップスの基礎を築きました。そんな中で、クリスチャンとなり、78年には日本初のゴスペルレーベル「ミクタムレコード」を設立し、キリスト教音楽に新風を吹き込んできました。小坂さんを偲び、以前の出演番組から歌とお話をお届けします。
URL:https://kinpoden.com/lifeline/%e3%80%8c%e8%bb%8c%e8%b7%a1%e3%80%8d-3/
CATEGORIES:テレビ「ライフライン」番組表
ATTACH;FMTTYPE=image/jpeg:https://kinpoden.com/wp-content/uploads/2022/07/image-79.jpg
END:VEVENT
BEGIN:VEVENT
DTSTART;TZID=Asia/Tokyo:20220813T000000
DTEND;TZID=Asia/Tokyo:20220814T235959
DTSTAMP:20260422T095058
CREATED:20220720T104449Z
LAST-MODIFIED:20220720T104449Z
UID:14491-1660348800-1660521599@kinpoden.com
SUMMARY:「暗闇から光 ～ 予科練から牧師へ」
DESCRIPTION:関根辰雄さん／お話：岩井基雄牧師 \n\n\n\n\n\n\n\n\n  \n  \n関根辰雄さんは、太平洋戦争のさなか、海軍飛行予科練習生（通称・予科練）に14歳で入隊しました。厳しい訓練と学びの後に軍人となった関根さんでしたが、乗る飛行機がないまま終戦を迎えます。その後、生きる意味を見失い、自暴自棄な日々を送っていましたが、キリスト教と出会い、牧師となります。93歳となった現在も、現役の牧師として聖書のメッセージを語っている関根さんにお話を伺います。
URL:https://kinpoden.com/lifeline/%e3%80%8c%e6%9a%97%e9%97%87%e3%81%8b%e3%82%89%e5%85%89-%ef%bd%9e-%e4%ba%88%e7%a7%91%e7%b7%b4%e3%81%8b%e3%82%89%e7%89%a7%e5%b8%ab%e3%81%b8%e3%80%8d-3/
CATEGORIES:テレビ「ライフライン」番組表
ATTACH;FMTTYPE=image/jpeg:https://kinpoden.com/wp-content/uploads/2022/07/image-77.jpg
END:VEVENT
BEGIN:VEVENT
DTSTART;TZID=Asia/Tokyo:20220806T000000
DTEND;TZID=Asia/Tokyo:20220807T235959
DTSTAMP:20260422T095058
CREATED:20220720T104355Z
LAST-MODIFIED:20220720T104355Z
UID:14490-1659744000-1659916799@kinpoden.com
SUMMARY:「 イエスはわがいのち     」
DESCRIPTION:羽鳥明牧師 \n\n\n\n\n\n\n\n\n  \n2017年に召された羽鳥明牧師を改めて紹介します。羽鳥牧師は、1920年に群馬県で生まれ、16歳の時にキリスト教信仰を持ちました。大学卒業後、東京女子高等師範学校教師を経て牧師となり、1951年から57年にわたって、ラジオ「世の光」、テレビ「ライフ・ライン」などで聖書のメッセージを語り続けてきました。羽鳥牧師の生い立ちや、番組で語った聖書のお話をお届けします。 \n　
URL:https://kinpoden.com/lifeline/%e3%80%8c-%e3%82%a4%e3%82%a8%e3%82%b9%e3%81%af%e3%82%8f%e3%81%8c%e3%81%84%e3%81%ae%e3%81%a1-%e3%80%8d-3/
CATEGORIES:テレビ「ライフライン」番組表
ATTACH;FMTTYPE=image/jpeg:https://kinpoden.com/wp-content/uploads/2022/07/image.jpg
END:VEVENT
BEGIN:VEVENT
DTSTART;TZID=Asia/Tokyo:20220730T000000
DTEND;TZID=Asia/Tokyo:20220731T235959
DTSTAMP:20260422T095058
CREATED:20220623T012851Z
LAST-MODIFIED:20220623T012851Z
UID:14489-1659139200-1659311999@kinpoden.com
SUMMARY:「すばらしい恵み〜新しい明日へ〜」
DESCRIPTION:森祐理さん / お話:原田憲夫牧師 \n\n\n\n\n\n\n\n\n  \n福音歌手の森祐理さんは、心に響く美しい歌声で多くの方に愛と希望のメッセージを届けています。森さんは今年、福音歌手として歩み始めて30年目を迎えました。この７月にリリースした30周年記念CD『新しい明日へ』から、森さんの歌声をお届けするとともにお話も伺います。
URL:https://kinpoden.com/lifeline/%e3%80%8c%e3%81%99%e3%81%af%e3%82%99%e3%82%89%e3%81%97%e3%81%84%e6%81%b5%e3%81%bf%e3%80%9c%e6%96%b0%e3%81%97%e3%81%84%e6%98%8e%e6%97%a5%e3%81%b8%e3%80%9c%e3%80%8d-3/
CATEGORIES:テレビ「ライフライン」番組表
ATTACH;FMTTYPE=image/jpeg:https://kinpoden.com/wp-content/uploads/2022/06/image-75.jpg
END:VEVENT
BEGIN:VEVENT
DTSTART;TZID=Asia/Tokyo:20220723T000000
DTEND;TZID=Asia/Tokyo:20220724T235959
DTSTAMP:20260422T095058
CREATED:20220623T012747Z
LAST-MODIFIED:20220623T012747Z
UID:14488-1658534400-1658707199@kinpoden.com
SUMMARY:「『エデンの東』の世界を変える」
DESCRIPTION:堀 肇牧師 \n\n\n\n\n\n\n\n\n  \nカウンセラーであり大学でも長年教鞭をとってきた堀肇牧師の著書『谷陰を越えて歩む〜聖書の世界に生きた人々〜』には、旧約聖書に登場する、弱さを抱え様々な困難や試練に直面しながら、いわば「谷陰」のようなところを越えて歩んだ人物が紹介されています。今回はこの本から、映画「エデンの東」のモチーフともなったカインとアベルの兄弟の確執の物語を取り上げ、人間の心の問題に光を当てます。
URL:https://kinpoden.com/lifeline/%e3%80%8c%e3%80%8e%e3%82%a8%e3%83%86%e3%82%99%e3%83%b3%e3%81%ae%e6%9d%b1%e3%80%8f%e3%81%ae%e4%b8%96%e7%95%8c%e3%82%92%e5%a4%89%e3%81%88%e3%82%8b%e3%80%8d-3/
CATEGORIES:テレビ「ライフライン」番組表
ATTACH;FMTTYPE=image/jpeg:https://kinpoden.com/wp-content/uploads/2022/06/image-74.jpg
END:VEVENT
END:VCALENDAR