BEGIN:VCALENDAR
VERSION:2.0
PRODID:-//近畿福音放送伝道協力会 – 近放伝公式ウェブサイト - ECPv6.15.16//NONSGML v1.0//EN
CALSCALE:GREGORIAN
METHOD:PUBLISH
X-WR-CALNAME:近畿福音放送伝道協力会 – 近放伝公式ウェブサイト
X-ORIGINAL-URL:https://kinpoden.com
X-WR-CALDESC:近畿福音放送伝道協力会 – 近放伝公式ウェブサイト のイベント
REFRESH-INTERVAL;VALUE=DURATION:PT1H
X-Robots-Tag:noindex
X-PUBLISHED-TTL:PT1H
BEGIN:VTIMEZONE
TZID:Asia/Tokyo
BEGIN:STANDARD
TZOFFSETFROM:+0900
TZOFFSETTO:+0900
TZNAME:JST
DTSTART:20200101T000000
END:STANDARD
END:VTIMEZONE
BEGIN:VEVENT
DTSTART;TZID=Asia/Tokyo:20220507T000000
DTEND;TZID=Asia/Tokyo:20220508T235959
DTSTAMP:20260422T183105
CREATED:20220419T015103Z
LAST-MODIFIED:20220419T015103Z
UID:14477-1651881600-1652054399@kinpoden.com
SUMMARY:「神の愛の翼に守られて」
DESCRIPTION:ライフ・ラインのつどい in 京都 \n菅原早樹さん / お話：岩井基雄牧師 \n  \n京都で行った無観客「ライフ・ラインのつどい」の様子を紹介します。今回の「つどい」では、賛美歌 歌手の菅原早樹さんが賛美歌を歌い、岩井基雄牧師が「神の愛の翼に守られて」というタイトルで聖書のメッセージを語りました。 \n　
URL:https://kinpoden.com/lifeline/%e3%80%8c%e7%a5%9e%e3%81%ae%e6%84%9b%e3%81%ae%e7%bf%bc%e3%81%ab%e5%ae%88%e3%82%89%e3%82%8c%e3%81%a6%e3%80%8d-3/
CATEGORIES:テレビ「ライフライン」番組表
ATTACH;FMTTYPE=image/jpeg:https://kinpoden.com/wp-content/uploads/2022/04/image-63.jpg
END:VEVENT
BEGIN:VEVENT
DTSTART;TZID=Asia/Tokyo:20220430T000000
DTEND;TZID=Asia/Tokyo:20220501T235959
DTSTAMP:20260422T183105
CREATED:20220419T014915Z
LAST-MODIFIED:20220419T014915Z
UID:14476-1651276800-1651449599@kinpoden.com
SUMMARY:「たましいに寄り添う〜ホスピスチャプレンの祈り・2 」
DESCRIPTION:淀川キリスト教病院チャプレン 藤井理恵さん \n/ お話：岩井基雄牧師 \n  \n淀川キリスト教病院チャプレンの藤井理恵さんのお話の２回目をお届けします。ホスピスのチャプレンを30年以上務め、350人以上の終末期患者とその家族に寄り添ってきた藤井さんは、その経験をもとに、各地での講演や執筆活動を行っています。今回は、藤井さんの著書『たましいの安らぎ』から、スピリチュアルケア（たましいのケア）について、お話を伺います。
URL:https://kinpoden.com/lifeline/%e3%80%8c%e3%81%9f%e3%81%be%e3%81%97%e3%81%84%e3%81%ab%e5%af%84%e3%82%8a%e6%b7%bb%e3%81%86%e3%80%9c%e3%83%9b%e3%82%b9%e3%83%94%e3%82%b9%e3%83%81%e3%83%a3%e3%83%97%e3%83%ac%e3%83%b3%e3%81%ae%e7%a5%88-3/
CATEGORIES:テレビ「ライフライン」番組表
ATTACH;FMTTYPE=image/png:https://kinpoden.com/wp-content/uploads/2022/04/image-29.png
END:VEVENT
BEGIN:VEVENT
DTSTART;TZID=Asia/Tokyo:20220423T000000
DTEND;TZID=Asia/Tokyo:20220424T235959
DTSTAMP:20260422T183105
CREATED:20220321T002243Z
LAST-MODIFIED:20220321T002243Z
UID:14475-1650672000-1650844799@kinpoden.com
SUMMARY:「存在しているの、見えてますか？」
DESCRIPTION:玉井･チャーリー･千尋さん / お話：原田憲夫牧師 \n  \nグループホーム「ホサナホーム」所長の玉井･チャーリー･千尋さんを紹介します。ホサナホームは、精神障がいのある方々が一人暮らしを練習する場所として入居者に寄り添ってきました。現在の法律では入居の期限が３年と定められていて、自立の準備ができていない入居者に退所を伝える瞬間が一番辛いと玉井さんは言います。過去に「存在しているの、見えてますか？」と言い残してホームを去って行ったある入居者の声に答えるように日々奮闘しているという玉井さんにお話を伺います。
URL:https://kinpoden.com/lifeline/%e3%80%8c%e5%ad%98%e5%9c%a8%e3%81%97%e3%81%a6%e3%81%84%e3%82%8b%e3%81%ae%e3%80%81%e8%a6%8b%e3%81%88%e3%81%a6%e3%81%be%e3%81%99%e3%81%8b%ef%bc%9f%e3%80%8d-3/
CATEGORIES:テレビ「ライフライン」番組表
ATTACH;FMTTYPE=image/jpeg:https://kinpoden.com/wp-content/uploads/2022/03/image-62.jpg
END:VEVENT
BEGIN:VEVENT
DTSTART;TZID=Asia/Tokyo:20220416T000000
DTEND;TZID=Asia/Tokyo:20220417T235959
DTSTAMP:20260422T183105
CREATED:20220321T002135Z
LAST-MODIFIED:20220321T002135Z
UID:14474-1650067200-1650239999@kinpoden.com
SUMMARY:「復活の事実がもたらすもの」
DESCRIPTION:ライフ・ライン　イースターのつどい \n関根弘興牧師、Migiwaさん \n  \nイエス・キリストの復活を記念してお祝いするイースター（復活祭）番組は、無観客「ライフ・ライン イースターのつどい」の様子を紹介します。今回の「つどい」では、ゴスペルシンガーソングライターのMigiwaさんがオリジナルのゴスペルソングを歌い、関根弘興牧師が「復活の事実がもたらすもの」というタイトルで聖書のメッセージを語りました。 \n　
URL:https://kinpoden.com/lifeline/%e3%80%8c%e5%be%a9%e6%b4%bb%e3%81%ae%e4%ba%8b%e5%ae%9f%e3%81%8c%e3%82%82%e3%81%9f%e3%82%89%e3%81%99%e3%82%82%e3%81%ae%e3%80%8d-3/
CATEGORIES:テレビ「ライフライン」番組表
ATTACH;FMTTYPE=image/jpeg:https://kinpoden.com/wp-content/uploads/2022/03/image-61.jpg
END:VEVENT
BEGIN:VEVENT
DTSTART;TZID=Asia/Tokyo:20220409T000000
DTEND;TZID=Asia/Tokyo:20220410T235959
DTSTAMP:20260422T183105
CREATED:20220321T001846Z
LAST-MODIFIED:20220321T001846Z
UID:14473-1649462400-1649635199@kinpoden.com
SUMMARY:「『異邦人』のヒットの陰で」
DESCRIPTION:久米小百合さん / お話：原田憲夫牧師 \n  \n音楽宣教師の久米小百合さんは、久保田早紀として1979年に『異邦人』でデビューしました。この曲は、日本のポップスを語る上で欠かせない１曲として、今でも多くの音楽ファンに愛されています。久米さんは、久保田早紀としての音楽活動を引退した後、音楽宣教師として、新しいスタイルのコンサートを行っています。ライブから歌をお届けするとともに、デビューした頃のエピソードや引退後の活動についてなどのお話を伺います。
URL:https://kinpoden.com/lifeline/%e3%80%8c%e3%80%8e%e7%95%b0%e9%82%a6%e4%ba%ba%e3%80%8f%e3%81%ae%e3%83%92%e3%83%83%e3%83%88%e3%81%ae%e9%99%b0%e3%81%a7%e3%80%8d-2-3/
CATEGORIES:テレビ「ライフライン」番組表
ATTACH;FMTTYPE=image/jpeg:https://kinpoden.com/wp-content/uploads/2022/03/image-59.jpg
END:VEVENT
BEGIN:VEVENT
DTSTART;TZID=Asia/Tokyo:20220402T000000
DTEND;TZID=Asia/Tokyo:20220403T235959
DTSTAMP:20260422T183105
CREATED:20220321T001753Z
LAST-MODIFIED:20220321T001753Z
UID:14472-1648857600-1649030399@kinpoden.com
SUMMARY:「Hajime no Ai」
DESCRIPTION:市川五月さん / お話:原田憲夫牧師 \n  \nフォトグラファーの市川五月さんを紹介します。市川さんは、結婚式や家族写真の撮影などを中心としたHajime no Ai Photography (ハジメノアイフォトグラフィー)というブランドを主宰、これまで1000組を超える結婚式を撮影してきました。そんな市川さんに、ブランド名である「Hajime no Ai」に込められた思いやその働きについてお話を伺います。
URL:https://kinpoden.com/lifeline/%e3%80%8chajime-no-ai%e3%80%8d-3/
CATEGORIES:テレビ「ライフライン」番組表
ATTACH;FMTTYPE=image/jpeg:https://kinpoden.com/wp-content/uploads/2022/03/image-58.jpg
END:VEVENT
BEGIN:VEVENT
DTSTART;TZID=Asia/Tokyo:20220326T000000
DTEND;TZID=Asia/Tokyo:20220327T235959
DTSTAMP:20260422T183105
CREATED:20220220T104741Z
LAST-MODIFIED:20220220T104741Z
UID:14471-1648252800-1648425599@kinpoden.com
SUMMARY:「見えるものよりも」
DESCRIPTION:坂井田真実子さん \n  \n前月に引き続きソプラノの坂井田真実子さんを紹介します。坂井田さんは世界中でソリスト、またオペラの舞台等で将来が期待される歌手として活躍していました。順調にキャリアを積んでいた2016年に、国指定難病NMOSD(視神経脊髄炎)を発症し、一時は下半身不随となります。その後、病症や後遺症と共存しつつ、ステージに復活。各地でコンサート活動を再開しています。昨年の秋に行われたリサイタルから歌をお届するとともに、音楽の道を志すようになったきっかけや、病の中で坂井田さんを支えたキリスト教信仰などについてお話を伺います。
URL:https://kinpoden.com/lifeline/%e3%80%8c%e8%a6%8b%e3%81%88%e3%82%8b%e3%82%82%e3%81%ae%e3%82%88%e3%82%8a%e3%82%82%e3%80%8d-4/
CATEGORIES:テレビ「ライフライン」番組表
ATTACH;FMTTYPE=image/jpeg:https://kinpoden.com/wp-content/uploads/2022/02/image-57.jpg
END:VEVENT
BEGIN:VEVENT
DTSTART;TZID=Asia/Tokyo:20220319T000000
DTEND;TZID=Asia/Tokyo:20220320T235959
DTSTAMP:20260422T183105
CREATED:20220220T104635Z
LAST-MODIFIED:20220220T104635Z
UID:14470-1647648000-1647820799@kinpoden.com
SUMMARY:「たましいに寄り添う 〜ホスピスチャプレンの祈り・１」
DESCRIPTION:淀川キリスト教病院チャプレン 藤井理恵さん \n/ お話：原田憲夫牧師 \n  \n淀川キリスト教病院チャプレンの藤井理恵さんを２回にわたって紹介します。ホスピスのチャプレンを30年以上務め、350人以上の終末期患者とその家族に寄り添ってきた藤井さんは、その経験をもとに、各地での講演や執筆活動を行っています。今回は著書『たましいの安らぎ』から、スピリチュアルペイン（たましいの痛み）とどのように向き合っていけばよいのかなど、お話を伺います。
URL:https://kinpoden.com/lifeline/%e3%80%8c%e3%81%9f%e3%81%be%e3%81%97%e3%81%84%e3%81%ab%e5%af%84%e3%82%8a%e6%b7%bb%e3%81%86-%e3%80%9c%e3%83%9b%e3%82%b9%e3%83%94%e3%82%b9%e3%83%81%e3%83%a3%e3%83%97%e3%83%ac%e3%83%b3%e3%81%ae-4/
CATEGORIES:テレビ「ライフライン」番組表
ATTACH;FMTTYPE=image/png:https://kinpoden.com/wp-content/uploads/2022/02/image-28.png
END:VEVENT
BEGIN:VEVENT
DTSTART;TZID=Asia/Tokyo:20220312T000000
DTEND;TZID=Asia/Tokyo:20220313T235959
DTSTAMP:20260422T183105
CREATED:20220220T104532Z
LAST-MODIFIED:20220220T104532Z
UID:14469-1647043200-1647215999@kinpoden.com
SUMMARY:「祈」
DESCRIPTION:竹下静さん、Migiwaさん、神山みささん \n/ お話：岩井基雄牧師 \n  \nクリスチャンシンガーの竹下静さん、Migiwaさん、神山みささんは、東日本大震災の直後から定期的に東北の各地を訪れ、歌をとおして愛と希望のメッセージを届け続けています。そんな３人が昨年の３月に配信で「3.11メモリアルチャリティーコンサート『祈』～あれから10年 そしてこれからも～」というコンサートを行いました。このコンサートから歌をお届けするとともに、竹下静さんにお話を伺います。
URL:https://kinpoden.com/lifeline/%e3%80%8c%e7%a5%88%e3%80%8d-3/
CATEGORIES:テレビ「ライフライン」番組表
ATTACH;FMTTYPE=image/jpeg:https://kinpoden.com/wp-content/uploads/2022/02/image-56.jpg
END:VEVENT
BEGIN:VEVENT
DTSTART;TZID=Asia/Tokyo:20220305T000000
DTEND;TZID=Asia/Tokyo:20220306T235959
DTSTAMP:20260422T183105
CREATED:20220220T104431Z
LAST-MODIFIED:20220220T104431Z
UID:14468-1646438400-1646611199@kinpoden.com
SUMMARY:「ドラマー牧師が語る、希望の言葉・3」
DESCRIPTION:田中満矢さん / お話:原田憲夫牧師 \n  \n先月に引き続き、北海道を拠点に活動する人気ロックバンドのドラマーで、キリスト教会の牧師の田中満矢(みちや)さんを紹介します。田中さんはミュージシャンとしてテレビやラジオ番組に出演する傍ら、牧師として、これまで2000名を超える若者と向き合ってきました。その経験を綴った著書は大きな反響を呼び、全国の学校や施設で講演活動も行っています。最終回となる今回は、著書『いいんだよ、昨日までのこと全部。』からお話を伺います。
URL:https://kinpoden.com/lifeline/%e3%80%8c%e3%83%89%e3%83%a9%e3%83%9e%e3%83%bc%e7%89%a7%e5%b8%ab%e3%81%8c%e8%aa%9e%e3%82%8b%e3%80%81%e5%b8%8c%e6%9c%9b%e3%81%ae%e8%a8%80%e8%91%89%e3%83%bb3%e3%80%8d-3/
CATEGORIES:テレビ「ライフライン」番組表
ATTACH;FMTTYPE=image/jpeg:https://kinpoden.com/wp-content/uploads/2022/02/1644418859.jpg
END:VEVENT
BEGIN:VEVENT
DTSTART;TZID=Asia/Tokyo:20220226T000000
DTEND;TZID=Asia/Tokyo:20220227T235959
DTSTAMP:20260422T183105
CREATED:20220127T034818Z
LAST-MODIFIED:20220127T034818Z
UID:14467-1645833600-1646006399@kinpoden.com
SUMMARY:「奇跡のソプラノ」
DESCRIPTION:坂井田真実子さん / お話：岩井基雄牧師 \n\n\nソプラノの坂井田真実子さんは、世界中でソリスト、またオペラの舞台等で将来が期待される歌手として活躍していました。順調にキャリアを積んでいた2016年に、国指定難病NMOSD視神経脊髄炎を発症し、一時は下半身不随となります。その後、病症や後遺症と共存しつつステージに復活、各地でコンサート活動を再開しています。また、昨年には賛美歌10曲を収めたCD「Count Your Blessings」をリリースしました。賛美歌に支えられ、励まされてきたと言う坂井田さんにお話を伺うとともに、昨年の秋に行われたリサイタルから歌をお届けします。
URL:https://kinpoden.com/lifeline/%e3%80%8c%e5%a5%87%e8%b7%a1%e3%81%ae%e3%82%bd%e3%83%97%e3%83%a9%e3%83%8e%e3%80%8d-3/
CATEGORIES:テレビ「ライフライン」番組表
ATTACH;FMTTYPE=image/jpeg:https://kinpoden.com/wp-content/uploads/2022/01/image-55.jpg
END:VEVENT
BEGIN:VEVENT
DTSTART;TZID=Asia/Tokyo:20220219T000000
DTEND;TZID=Asia/Tokyo:20220220T235959
DTSTAMP:20260422T183105
CREATED:20220127T034716Z
LAST-MODIFIED:20220127T034716Z
UID:14466-1645228800-1645401599@kinpoden.com
SUMMARY:「癒やしと慰めの歌声・2」
DESCRIPTION:知保子コストナーさん / お話：原田憲夫牧師 \n  \n先月に引き続き、シンガーソングライターの知保子コストナーさんを紹介します。知保子さんは、厳しい家庭環境で育ち心に大きな傷を抱えながらも、夫のクリストフさんと共に、 CMC（Chihoko Music Creation）という非営利音楽活動を始め、多くの人に愛と希望を届けています。今回もスタジオライブでの歌声をお届けするとともに、ご夫妻に音楽活動についての思いを伺います。 \n　
URL:https://kinpoden.com/lifeline/%e3%80%8c%e7%99%92%e3%82%84%e3%81%97%e3%81%a8%e6%85%b0%e3%82%81%e3%81%ae%e6%ad%8c%e5%a3%b0%e3%83%bb2%e3%80%8d-3/
CATEGORIES:テレビ「ライフライン」番組表
ATTACH;FMTTYPE=image/png:https://kinpoden.com/wp-content/uploads/2022/01/1641976780.png
END:VEVENT
BEGIN:VEVENT
DTSTART;TZID=Asia/Tokyo:20220212T000000
DTEND;TZID=Asia/Tokyo:20220213T235959
DTSTAMP:20260422T183105
CREATED:20220127T034550Z
LAST-MODIFIED:20220127T034550Z
UID:14465-1644624000-1644796799@kinpoden.com
SUMMARY:「まことの平安と希望」
DESCRIPTION:ライフ・ラインのつどい in 大阪 \n「まことの平安と希望」 \n岩井基雄牧師、安田美穂子さん \n  \n大阪で行った無観客「ライフ・ラインのつどい」の様子を紹介します。今回の「つどい」では、賛美歌 歌手の安田美穂子さんが賛美歌を歌い、岩井基雄牧師が「まことの平安と希望」というタイトルで聖書のメッセージを語りました。 \n　
URL:https://kinpoden.com/lifeline/%e3%80%8c%e3%81%be%e3%81%93%e3%81%a8%e3%81%ae%e5%b9%b3%e5%ae%89%e3%81%a8%e5%b8%8c%e6%9c%9b%e3%80%8d-3/
CATEGORIES:テレビ「ライフライン」番組表
ATTACH;FMTTYPE=image/jpeg:https://kinpoden.com/wp-content/uploads/2022/01/image-54.jpg
END:VEVENT
BEGIN:VEVENT
DTSTART;TZID=Asia/Tokyo:20220205T000000
DTEND;TZID=Asia/Tokyo:20220206T235959
DTSTAMP:20260422T183105
CREATED:20220127T034408Z
LAST-MODIFIED:20220127T034408Z
UID:14464-1644019200-1644191999@kinpoden.com
SUMMARY:「ドラマー牧師が語る、希望の言葉・２」
DESCRIPTION:田中満矢さん / お話:原田憲夫牧師 \n  \n３回シリーズの２回目。先月に引き続き、北海道を拠点に活動する人気ロックバンドのドラマーで、キリスト教会の牧師の田中満矢(みちや)さんを紹介します。田中さんはミュージシャンとしてテレビやラジオ番組にも出演する傍ら、牧師として、これまで2000名を超える若者と向き合ってきました。その経験を綴った著書は大きな反響を呼び、全国の学校や施設で講演活動も行っています。そんな田中さんに、牧師としての働きについてお話を伺います。
URL:https://kinpoden.com/lifeline/%e3%80%8c%e3%83%89%e3%83%a9%e3%83%9e%e3%83%bc%e7%89%a7%e5%b8%ab%e3%81%8c%e8%aa%9e%e3%82%8b%e3%80%81%e5%b8%8c%e6%9c%9b%e3%81%ae%e8%a8%80%e8%91%89%e3%83%bb%ef%bc%92%e3%80%8d-3/
CATEGORIES:テレビ「ライフライン」番組表
ATTACH;FMTTYPE=image/jpeg:https://kinpoden.com/wp-content/uploads/2022/01/1641974599.jpg
END:VEVENT
BEGIN:VEVENT
DTSTART;TZID=Asia/Tokyo:20220129T000000
DTEND;TZID=Asia/Tokyo:20220130T235959
DTSTAMP:20260422T183105
CREATED:20211221T023158Z
LAST-MODIFIED:20211221T023158Z
UID:14463-1643414400-1643587199@kinpoden.com
SUMMARY:「神様がくれた小さないのちのプレゼント」
DESCRIPTION:堀井栄治さん、祥子さん / お話：岩井基雄牧師 \n  \n以前「ライフ・ライン」のオープニングテーマを担当した音楽ユニット「コパン」の堀井栄治さん、祥子さん夫妻。二人は結婚後13年間子どもに恵まれず辛い時期を過ごしましたが、その後養子縁組が決まり、今は二人の子どもたちの子育てに奮闘しながらも、賑やかで元気なその姿に日々幸せを感じていると言います。事情があって育てられなかったお母さんの思いを受け継ぎ、「神様に選ばれ、託された責任」をもって子どもを愛し育てるお二人に、堀井家でのほっこりするエピソードやお話を伺います。
URL:https://kinpoden.com/lifeline/%e3%80%8c%e7%a5%9e%e6%a7%98%e3%81%8c%e3%81%8f%e3%82%8c%e3%81%9f%e5%b0%8f%e3%81%95%e3%81%aa%e3%81%84%e3%81%ae%e3%81%a1%e3%81%ae%e3%83%97%e3%83%ac%e3%82%bc%e3%83%b3%e3%83%88%e3%80%8d-3/
CATEGORIES:テレビ「ライフライン」番組表
ATTACH;FMTTYPE=image/png:https://kinpoden.com/wp-content/uploads/2021/12/1638952384.png
END:VEVENT
BEGIN:VEVENT
DTSTART;TZID=Asia/Tokyo:20220122T000000
DTEND;TZID=Asia/Tokyo:20220123T235959
DTSTAMP:20260422T183105
CREATED:20211221T023056Z
LAST-MODIFIED:20211221T023056Z
UID:14462-1642809600-1642982399@kinpoden.com
SUMMARY:「新しい歌を主に歌え！」
DESCRIPTION:ライフ・ラインのつどい「新しい歌を主に歌え！」 \n原田憲夫牧師、LYRE(リラ)宮脇栄子さん、小山晶子さん \n  \n無観客「ライフ・ラインのつどい」の様子を紹介します。今回の「つどい」では、賛美グループ・LYRE（リラ）の宮脇栄子さんと小山晶子さんがオリジナルの賛美歌を歌いました。また、原田憲夫牧師が「新しい歌を主に歌え！」というタイトルで聖書のメッセージを語りました。 \n　　
URL:https://kinpoden.com/lifeline/%e3%80%8c%e6%96%b0%e3%81%97%e3%81%84%e6%ad%8c%e3%82%92%e4%b8%bb%e3%81%ab%e6%ad%8c%e3%81%88%ef%bc%81%e3%80%8d-3/
CATEGORIES:テレビ「ライフライン」番組表
ATTACH;FMTTYPE=image/jpeg:https://kinpoden.com/wp-content/uploads/2021/12/image-51.jpg
END:VEVENT
BEGIN:VEVENT
DTSTART;TZID=Asia/Tokyo:20220115T000000
DTEND;TZID=Asia/Tokyo:20220116T235959
DTSTAMP:20260422T183105
CREATED:20211221T022746Z
LAST-MODIFIED:20211221T022746Z
UID:14461-1642204800-1642377599@kinpoden.com
SUMMARY:「癒やしと慰めの歌声・1」
DESCRIPTION:知保子コストナーさん / お話:岩井基雄牧師 \n  \nシンガーソングライターの知保子コストナーさんを紹介します。2011年にファーストアルバム「Sound from Heaven」をリリースしてデビューして以来、日本国内のみならず海外でも広く演奏活動を行っている知保子コストナーさんは、自らの体験から、心に傷を持つ多くの人の癒やしを願って歌い続けていると言います。今月と来月の２回にわたってスタジオライブでの歌声をお届けするとともに、自身の心にどのように向き合ってきたのか、お話を伺います。
URL:https://kinpoden.com/lifeline/%e3%80%8c%e7%99%92%e3%82%84%e3%81%97%e3%81%a8%e6%85%b0%e3%82%81%e3%81%ae%e6%ad%8c%e5%a3%b0%e3%83%bb1%e3%80%8d-3/
CATEGORIES:テレビ「ライフライン」番組表
ATTACH;FMTTYPE=image/png:https://kinpoden.com/wp-content/uploads/2021/12/image-27.png
END:VEVENT
BEGIN:VEVENT
DTSTART;TZID=Asia/Tokyo:20220108T000000
DTEND;TZID=Asia/Tokyo:20220109T235959
DTSTAMP:20260422T183105
CREATED:20211221T022649Z
LAST-MODIFIED:20211221T022649Z
UID:14460-1641600000-1641772799@kinpoden.com
SUMMARY:「ドラマー牧師が語る、希望の言葉」
DESCRIPTION:田中満矢さん / お話:原田憲夫牧師 \n  \n北海道を拠点に活動する４人組ロックバンド「ナイトdeライト」のドラマーで、キリスト教会の牧師の田中満矢(みちや）さんを紹介します。「ナイトdeライト」は、サッカーＪ1チームのテーマソングをはじめ、「北海道いのちの電話」のテーマソングなどを担当し、バンド活動を通して多くの方々に希望を届けてきました。また牧師として、これまで2000名を超える若者と向き合い、その経験を綴った著書は大きな反響を呼び、全国の学校や施設で講演活動も行っています。番組ではこれから３回にわたって田中さんにお話を伺います。
URL:https://kinpoden.com/lifeline/%e3%80%8c%e3%83%89%e3%83%a9%e3%83%9e%e3%83%bc%e7%89%a7%e5%b8%ab%e3%81%8c%e8%aa%9e%e3%82%8b%e3%80%81%e5%b8%8c%e6%9c%9b%e3%81%ae%e8%a8%80%e8%91%89%e3%80%8d-3/
CATEGORIES:テレビ「ライフライン」番組表
ATTACH;FMTTYPE=image/jpeg:https://kinpoden.com/wp-content/uploads/2021/12/image.jpg
END:VEVENT
BEGIN:VEVENT
DTSTART;TZID=Asia/Tokyo:20211225T000000
DTEND;TZID=Asia/Tokyo:20211226T235959
DTSTAMP:20260422T183105
CREATED:20211127T034853Z
LAST-MODIFIED:20211127T034853Z
UID:14459-1640390400-1640563199@kinpoden.com
SUMMARY:「アイ・スティル・ビリーブ」
DESCRIPTION:礒川道夫さん / お話：岩井基雄牧師 \n  \n12月31日に公開する映画「君といた108日」を紹介します。この映画は、クリスチャンシンガーのジェレミー・キャンプと妻・メリッサに起こった実話に基づく物語です。大学で出会った二人は恋に落ち、結婚します。しかし、がんを患っていたメリッサは、結婚から108日で天国へと旅立ちます。死をも別つことのできない愛はどこから生まれるのか、キリストの愛と希望が描かれているこの映画について、日本でキリスト教関連の映画上映に尽力している礒川道夫さんにお話を伺います。
URL:https://kinpoden.com/lifeline/%e3%80%8c%e3%82%a2%e3%82%a4%e3%83%bb%e3%82%b9%e3%83%86%e3%82%a3%e3%83%ab%e3%83%bb%e3%83%93%e3%83%aa%e3%83%bc%e3%83%96%e3%80%8d-3/
CATEGORIES:テレビ「ライフライン」番組表
ATTACH;FMTTYPE=image/jpeg:https://kinpoden.com/wp-content/uploads/2021/11/image-49.jpg
END:VEVENT
BEGIN:VEVENT
DTSTART;TZID=Asia/Tokyo:20211218T000000
DTEND;TZID=Asia/Tokyo:20211219T235959
DTSTAMP:20260422T183105
CREATED:20211127T034757Z
LAST-MODIFIED:20211127T034757Z
UID:14458-1639785600-1639958399@kinpoden.com
SUMMARY:「クリスマスを祝う」
DESCRIPTION:クリスマス番組 \n伊川実花さん / お話：岩井基雄牧師 \n  \n「家族や友人と食卓を囲み、イエス・キリストの誕生をお祝いする時を過ごそう」というテーマでクリスマス番組をお届けします。イタリア料理研究家の伊川実花さんに、心も体も温まる料理とお菓子の作り方を紹介していただくとともにお話を伺います。 \n　
URL:https://kinpoden.com/lifeline/%e3%80%8c%e3%82%af%e3%83%aa%e3%82%b9%e3%83%9e%e3%82%b9%e3%82%92%e7%a5%9d%e3%81%86%e3%80%8d-3/
CATEGORIES:テレビ「ライフライン」番組表
ATTACH;FMTTYPE=image/jpeg:https://kinpoden.com/wp-content/uploads/2021/11/image-47.jpg
END:VEVENT
BEGIN:VEVENT
DTSTART;TZID=Asia/Tokyo:20211211T000000
DTEND;TZID=Asia/Tokyo:20211212T235959
DTSTAMP:20260422T183106
CREATED:20211127T034559Z
LAST-MODIFIED:20211127T034559Z
UID:14457-1639180800-1639353599@kinpoden.com
SUMMARY:「天使の歌が聞こえますか？」
DESCRIPTION:ライフ・ライン クリスマスのつどい \n原田憲夫牧師、紫園 香さん \n  \n無観客「ライフ・ライン クリスマスのつどい」の様子を紹介します。今回の「つどい」では、フルート奏者・紫園香さんがクリスマスキャロルを演奏し、原田憲夫牧師が「天使の歌が聞こえますか？」というタイトルで聖書のメッセージを語りました。
URL:https://kinpoden.com/lifeline/%e3%80%8c%e5%a4%a9%e4%bd%bf%e3%81%ae%e6%ad%8c%e3%81%8c%e8%81%9e%e3%81%93%e3%81%88%e3%81%be%e3%81%99%e3%81%8b%ef%bc%9f%e3%80%8d-3/
CATEGORIES:テレビ「ライフライン」番組表
ATTACH;FMTTYPE=image/jpeg:https://kinpoden.com/wp-content/uploads/2021/11/image-46.jpg
END:VEVENT
BEGIN:VEVENT
DTSTART;TZID=Asia/Tokyo:20211204T000000
DTEND;TZID=Asia/Tokyo:20211205T235959
DTSTAMP:20260422T183106
CREATED:20211127T034447Z
LAST-MODIFIED:20211127T034447Z
UID:14456-1638576000-1638748799@kinpoden.com
SUMMARY:「True Christmas song」
DESCRIPTION:クリスマス番組 \nルーク・スタンリッジさん、ルア・ワーシップ \nお話:原田憲夫牧師 \n  \n音楽プロデューサーで宣教師という異色の肩書きを持つ、ルーク・スタンリッジさんを紹介します。ルークさんは日本で話題となったアニメ映画の音楽作品などを手がけるほか、今年11月にリリースされた４人姉弟のアカペラユニット、ルア・ワーシップのクリスマスアルバム「Christmas Story 天がこの地に」をプロデュースしました。番組では、ルークさんにお話を伺うとともに、ルア・ワーシップによるクリスマスの賛美歌をお届けします。
URL:https://kinpoden.com/lifeline/%e3%80%8ctrue-christmas-song%e3%80%8d-3/
CATEGORIES:テレビ「ライフライン」番組表
ATTACH;FMTTYPE=image/jpeg:https://kinpoden.com/wp-content/uploads/2021/11/image-44.jpg
END:VEVENT
BEGIN:VEVENT
DTSTART;TZID=Asia/Tokyo:20211127T000000
DTEND;TZID=Asia/Tokyo:20211128T235959
DTSTAMP:20260422T183106
CREATED:20211026T001249Z
LAST-MODIFIED:20211026T001249Z
UID:14455-1637971200-1638143999@kinpoden.com
SUMMARY:「世界の子どもたちの傍らに」
DESCRIPTION:ワールド・ビジョン・ジャパン \n松岡拓也さん、李義真さん / お話：原田憲夫牧師 \n  \n貧困や飢餓、紛争などで困難な状況にある世界の子どもたちのために支援活動をしている特定非営利活動法人ワールド・ビジョン・ジャパンのスタッフ、松岡拓也さんと李義真（い・ういじん）さんをご紹介します。カンボジアをはじめ、支援地域での活動に携わるお二人の思いについてお話を伺います。また、海外の子どもたちを支援するチャイルド・スポンサーのご家族の体験談もお届けします。 \n　
URL:https://kinpoden.com/lifeline/%e3%80%8c%e4%b8%96%e7%95%8c%e3%81%ae%e5%ad%90%e3%81%a9%e3%82%82%e3%81%9f%e3%81%a1%e3%81%ae%e5%82%8d%e3%82%89%e3%81%ab%e3%80%8d-3/
CATEGORIES:テレビ「ライフライン」番組表
ATTACH;FMTTYPE=image/png:https://kinpoden.com/wp-content/uploads/2021/10/image-25.png
END:VEVENT
BEGIN:VEVENT
DTSTART;TZID=Asia/Tokyo:20211120T000000
DTEND;TZID=Asia/Tokyo:20211121T235959
DTSTAMP:20260422T183106
CREATED:20211026T001120Z
LAST-MODIFIED:20211026T001120Z
UID:14454-1637366400-1637539199@kinpoden.com
SUMMARY:「喜び、祈り、感謝への招き」
DESCRIPTION:ライフ・ラインのつどい in 滋賀・２ \n岩井基雄牧師、浜岡典子さん \n  \n滋賀県で行った無観客「ライフ・ラインのつどい」２回目の様子を紹介します。今回の「つどい」では、シンガーソングライターの浜岡典子さんがオリジナルのゴスペルソングを歌い、岩井基雄牧師が「喜び、祈り、感謝への招き」というタイトルで聖書のメッセージを語りました。
URL:https://kinpoden.com/lifeline/%e3%80%8c%e5%96%9c%e3%81%b3%e3%80%81%e7%a5%88%e3%82%8a%e3%80%81%e6%84%9f%e8%ac%9d%e3%81%b8%e3%81%ae%e6%8b%9b%e3%81%8d%e3%80%8d-3/
CATEGORIES:テレビ「ライフライン」番組表
ATTACH;FMTTYPE=image/jpeg:https://kinpoden.com/wp-content/uploads/2021/10/image-43.jpg
END:VEVENT
BEGIN:VEVENT
DTSTART;TZID=Asia/Tokyo:20211113T000000
DTEND;TZID=Asia/Tokyo:20211114T235959
DTSTAMP:20260422T183106
CREATED:20211026T001002Z
LAST-MODIFIED:20211026T001002Z
UID:14453-1636761600-1636934399@kinpoden.com
SUMMARY:「永遠の希望」
DESCRIPTION:ユーオーディア管弦楽団・合唱団 \n柳瀬 洋さん、姫野 徹さん / お話:関根弘興牧師 \n  \n先月に引き続き、この７月に東京で開催された「第27回 ユーオーディア賛美の夕べ」を紹介します。今回の「賛美の夕べ」は「永遠の希望、絆」というテーマで開催されました。先月はそのテーマのひとつ、「永遠の絆」について、お話を伺いました。今月は、もうひとつのテーマ「永遠の希望」について、ユーオーディア代表の柳瀬洋さん、指揮者の姫野徹さんにお話を伺うとともに、ユーオーディア管弦楽団・合唱団の演奏をお届けします。 \n　
URL:https://kinpoden.com/lifeline/%e3%80%8c%e6%b0%b8%e9%81%a0%e3%81%ae%e5%b8%8c%e6%9c%9b%e3%80%8d-3/
CATEGORIES:テレビ「ライフライン」番組表
ATTACH;FMTTYPE=image/jpeg:https://kinpoden.com/wp-content/uploads/2021/10/image-42.jpg
END:VEVENT
BEGIN:VEVENT
DTSTART;TZID=Asia/Tokyo:20211106T000000
DTEND;TZID=Asia/Tokyo:20211107T235959
DTSTAMP:20260422T183106
CREATED:20211026T000829Z
LAST-MODIFIED:20211026T000829Z
UID:14452-1636156800-1636329599@kinpoden.com
SUMMARY:「人生のプロデューサーを知って」
DESCRIPTION:ファリア路子さん / お話:原田憲夫牧師 \n  \nかつて「昼ドラの女王」と呼ばれた女優、松木路子さんことファリア路子さんは、華やかな役者人生の後、妻として、そして母としての人生を歩んできました。明るく笑顔の絶えない路子さんですが、幾多の苦難を通ってきたと言います。これまでの半生、また苦しみの中でも喜びに満たされて歩む秘訣についてお話を伺います。
URL:https://kinpoden.com/lifeline/%e3%80%8c%e4%ba%ba%e7%94%9f%e3%81%ae%e3%83%97%e3%83%ad%e3%83%87%e3%83%a5%e3%83%bc%e3%82%b5%e3%83%bc%e3%82%92%e7%9f%a5%e3%81%a3%e3%81%a6%e3%80%8d-3/
CATEGORIES:テレビ「ライフライン」番組表
ATTACH;FMTTYPE=image/jpeg:https://kinpoden.com/wp-content/uploads/2021/10/image-39-e1635206884275.jpg
END:VEVENT
BEGIN:VEVENT
DTSTART;TZID=Asia/Tokyo:20211030T000000
DTEND;TZID=Asia/Tokyo:20211031T235959
DTSTAMP:20260422T183106
CREATED:20210923T001132Z
LAST-MODIFIED:20210923T001132Z
UID:14451-1635552000-1635724799@kinpoden.com
SUMMARY:「わすれものをとどけに」
DESCRIPTION:かめおかあきこさん / お話:岩井基雄牧師 \n  \n山形県米沢市在住の絵本作家・かめおかあきこさんは、2000年に絵本作家としてデビューしました。以来、絵本や童話の出版、また、童話の挿絵やまんが絵本など、幅広い作品を手がけています。2016年に出版した絵本『わすれものをとどけに』は、主人公・こぶたのプーラが、友達のわすれものを届けるために旅に出るというストーリーです。この絵本を紹介するとともに、かめおかさんにお話を伺います。
URL:https://kinpoden.com/lifeline/%e3%80%8c%e3%82%8f%e3%81%99%e3%82%8c%e3%82%82%e3%81%ae%e3%82%92%e3%81%a8%e3%81%a9%e3%81%91%e3%81%ab%e3%80%8d-2-3/
CATEGORIES:テレビ「ライフライン」番組表
ATTACH;FMTTYPE=image/jpeg:https://kinpoden.com/wp-content/uploads/2021/09/image-38.jpg
END:VEVENT
BEGIN:VEVENT
DTSTART;TZID=Asia/Tokyo:20211023T000000
DTEND;TZID=Asia/Tokyo:20211024T235959
DTSTAMP:20260422T183106
CREATED:20210923T001029Z
LAST-MODIFIED:20210923T001029Z
UID:14450-1634947200-1635119999@kinpoden.com
SUMMARY:「賛美と感謝の力」
DESCRIPTION:ライフ・ラインのつどい in 滋賀「賛美と感謝の力」 \n  \n岩井基雄牧師、吉村美穂さん、野田常喜さん \n  \n滋賀県で行った無観客「ライフ・ラインのつどい」の様子を紹介します。今回の「つどい」では、ソプラノシンガー・吉村美穂さん、ピアニスト・野田常喜さんがドイツ歌曲やオリジナルの賛美歌を歌い、岩井基雄牧師が「賛美と感謝の力」というタイトルで聖書のメッセージを語りました。
URL:https://kinpoden.com/lifeline/%e3%80%8c%e8%b3%9b%e7%be%8e%e3%81%a8%e6%84%9f%e8%ac%9d%e3%81%ae%e5%8a%9b%e3%80%8d-3/
CATEGORIES:テレビ「ライフライン」番組表
ATTACH;FMTTYPE=image/jpeg:https://kinpoden.com/wp-content/uploads/2021/09/image-37.jpg
END:VEVENT
BEGIN:VEVENT
DTSTART;TZID=Asia/Tokyo:20211016T000000
DTEND;TZID=Asia/Tokyo:20211017T235959
DTSTAMP:20260422T183106
CREATED:20210923T000917Z
LAST-MODIFIED:20210923T000917Z
UID:14449-1634342400-1634515199@kinpoden.com
SUMMARY:「ナルニア」
DESCRIPTION:吉村美穂さん \n  \n2019年に滋賀県大津市で上演されたミュージカル「ナルニア～ライオンと魔女～」を紹介します。このミュージカルは、イギリスの作家・C.S.ルイスの児童文学「ナルニア国物語」が原作で、ソプラノシンガーの吉村美穂さんが脚本・演出、ピアニストの野田常喜さんが音楽制作を担当しました。ミュージカル「ナルニア～ライオンと魔女～」の公演の様子とともに、吉村さんにお話を伺います。
URL:https://kinpoden.com/lifeline/%e3%80%8c%e3%83%8a%e3%83%ab%e3%83%8b%e3%82%a2%e3%80%8d-3/
CATEGORIES:テレビ「ライフライン」番組表
ATTACH;FMTTYPE=image/jpeg:https://kinpoden.com/wp-content/uploads/2021/09/image-36.jpg
END:VEVENT
BEGIN:VEVENT
DTSTART;TZID=Asia/Tokyo:20211009T000000
DTEND;TZID=Asia/Tokyo:20211010T235959
DTSTAMP:20260422T183106
CREATED:20210923T000553Z
LAST-MODIFIED:20210923T000553Z
UID:14448-1633737600-1633910399@kinpoden.com
SUMMARY:「Welcome to Tokyo Coffee  〜 兄弟で魅せるコーヒーの可能性・２」
DESCRIPTION:ノア・ミラードさん、デイビッド・ミラードさん \nお話:原田憲夫牧師 \n  \n前回に引き続き、東京・東久留米市にあるカフェ、東京コーヒーの共同創業者、ノア・ミラードさん、デイビッド・ミラードさん兄弟を紹介します。東京コーヒーは、昔ながらの商店街の中に昨年オープンし、海外のような開放感のある店内で自家焙煎のコーヒーが味わえます。店内には焙煎工房があり、こだわりの豆は大手ウェブショップでも人気商品となっています。2回目となる今回は、お店のことやこれまでの歩みについてお話を伺います。
URL:https://kinpoden.com/lifeline/%e3%80%8cwelcome-to-tokyo-coffee-%e3%80%9c-%e5%85%84%e5%bc%9f%e3%81%a7%e9%ad%85%e3%81%9b%e3%82%8b%e3%82%b3%e3%83%bc%e3%83%92%e3%83%bc%e3%81%ae%e5%8f%af%e8%83%bd%e6%80%a7%e3%83%bb%ef%bc%92%e3%80%8d-3/
CATEGORIES:テレビ「ライフライン」番組表
ATTACH;FMTTYPE=image/jpeg:https://kinpoden.com/wp-content/uploads/2021/09/image-35.jpg
END:VEVENT
END:VCALENDAR