BEGIN:VCALENDAR
VERSION:2.0
PRODID:-//近畿福音放送伝道協力会 – 近放伝公式ウェブサイト - ECPv6.15.16//NONSGML v1.0//EN
CALSCALE:GREGORIAN
METHOD:PUBLISH
X-WR-CALNAME:近畿福音放送伝道協力会 – 近放伝公式ウェブサイト
X-ORIGINAL-URL:https://kinpoden.com
X-WR-CALDESC:近畿福音放送伝道協力会 – 近放伝公式ウェブサイト のイベント
REFRESH-INTERVAL;VALUE=DURATION:PT1H
X-Robots-Tag:noindex
X-PUBLISHED-TTL:PT1H
BEGIN:VTIMEZONE
TZID:Asia/Tokyo
BEGIN:STANDARD
TZOFFSETFROM:+0900
TZOFFSETTO:+0900
TZNAME:JST
DTSTART:20200101T000000
END:STANDARD
END:VTIMEZONE
BEGIN:VEVENT
DTSTART;TZID=Asia/Tokyo:20210904T000000
DTEND;TZID=Asia/Tokyo:20210905T235959
DTSTAMP:20260424T212742
CREATED:20210827T020514Z
LAST-MODIFIED:20210827T020514Z
UID:14443-1630713600-1630886399@kinpoden.com
SUMMARY:「愛の風」
DESCRIPTION:紫園 香さん / お話:岩井基雄牧師 \n  \n前週に引き続きフルート奏者の紫園香さんを紹介します。紫園さんは東京藝術大学附属音楽高等学校、同大学、同大学院を首席で卒業し、多数の音楽コンクールでの受賞歴があり、世界で活躍しています。今回は、昨年リリースしたCDアルバム「Calling ～よびごえ～」の発売記念コンサートから演奏をお届けするとともに、紫園さんがどのような人生を歩み、神様と出会ったかなどのお話を伺います。
URL:https://kinpoden.com/lifeline/%e3%80%8c%e6%84%9b%e3%81%ae%e9%a2%a8%e3%80%8d-3/
CATEGORIES:テレビ「ライフライン」番組表
ATTACH;FMTTYPE=image/jpeg:https://kinpoden.com/wp-content/uploads/2021/08/image.jpg
END:VEVENT
BEGIN:VEVENT
DTSTART;TZID=Asia/Tokyo:20210828T000000
DTEND;TZID=Asia/Tokyo:20210829T235959
DTSTAMP:20260424T212742
CREATED:20210726T045410Z
LAST-MODIFIED:20210726T045410Z
UID:14442-1630108800-1630281599@kinpoden.com
SUMMARY:「Calling ～よびごえ～」
DESCRIPTION:紫園 香さん / お話:原田憲夫牧師 \n  \n  \nフールト奏者の紫園香さんを２週にわたって紹介します。紫園さんは東京藝術大学附属音楽高等学校、同大学、同大学院を首席で卒業し、多数の音楽コンクールでの受賞歴があり、世界で活躍しています。１週目は、昨年リリースしたアルバム「Calling ～よびごえ～」の発売記念コンサートから演奏をお届けするとともに、このアルバムについてお話を伺います。
URL:https://kinpoden.com/lifeline/%e3%80%8ccalling-%ef%bd%9e%e3%82%88%e3%81%b3%e3%81%94%e3%81%88%ef%bd%9e%e3%80%8d-3/
CATEGORIES:テレビ「ライフライン」番組表
ATTACH;FMTTYPE=image/jpeg:https://kinpoden.com/wp-content/uploads/2021/07/image-32.jpg
END:VEVENT
BEGIN:VEVENT
DTSTART;TZID=Asia/Tokyo:20210821T000000
DTEND;TZID=Asia/Tokyo:20210822T235959
DTSTAMP:20260424T212742
CREATED:20210726T045227Z
LAST-MODIFIED:20210726T045227Z
UID:14441-1629504000-1629676799@kinpoden.com
SUMMARY:「Welcome to Tokyo Coffee  　　　　　〜 兄弟で魅せるコーヒーの可能性・1」
DESCRIPTION:ディビッド・ミラードさん、ノア・ミラードさん \n/ お話:岩井基雄牧師 \n  \n東京・東久留米市にあるカフェ、東京コーヒーの共同創業者、ディビッド・ミラードさん、ノア・ミラードさん兄弟を紹介します。東京コーヒーは、昔ながらの商店街の中に昨年オープンし、海外のような開放感のある店内で自家焙煎のコーヒーが味わえます。店内には焙煎工房があり、こだわりの豆は大手ウェブショップでも人気商品となっています。しかしオープンに至るまでには様々な困難がありました。そんなお二人のこれまでの歩みや、コーヒーに対する思いについてお話を伺います。
URL:https://kinpoden.com/lifeline/%e3%80%8cwelcome-to-tokyo-coffee-%e3%80%80%e3%80%80%e3%80%80%e3%80%80%e3%80%80%e3%80%9c-%e5%85%84%e5%bc%9f%e3%81%a7%e9%ad%85%e3%81%9b%e3%82%8b%e3%82%b3%e3%83%bc%e3%83%92%e3%83%bc%e3%81%ae%e5%8f%af-3/
CATEGORIES:テレビ「ライフライン」番組表
ATTACH;FMTTYPE=image/jpeg:https://kinpoden.com/wp-content/uploads/2021/07/image-31.jpg
END:VEVENT
BEGIN:VEVENT
DTSTART;TZID=Asia/Tokyo:20210814T000000
DTEND;TZID=Asia/Tokyo:20210815T235959
DTSTAMP:20260424T212742
CREATED:20210726T045121Z
LAST-MODIFIED:20210726T045121Z
UID:14440-1628899200-1629071999@kinpoden.com
SUMMARY:ライフ・ラインのつどい「あなたの将来に希望を」
DESCRIPTION:関根弘興牧師、サムエル・ソングさん \n  \n無観客「ライフ・ラインのつどい」の様子を紹介します。今回の「つどい」では、シンガーソングライターのサムエル・ソングさんがオリジナルのゴスペルソングを歌い、関根弘興牧師が「あなたの将来に希望を」というタイトルで聖書のメッセージを語りました。
URL:https://kinpoden.com/lifeline/%e3%83%a9%e3%82%a4%e3%83%95%e3%83%bb%e3%83%a9%e3%82%a4%e3%83%b3%e3%81%ae%e3%81%a4%e3%81%a9%e3%81%84%e3%80%8c%e3%81%82%e3%81%aa%e3%81%9f%e3%81%ae%e5%b0%86%e6%9d%a5%e3%81%ab%e5%b8%8c%e6%9c%9b%e3%82%92-3/
CATEGORIES:テレビ「ライフライン」番組表
ATTACH;FMTTYPE=image/png:https://kinpoden.com/wp-content/uploads/2021/07/image-22.png
END:VEVENT
BEGIN:VEVENT
DTSTART;TZID=Asia/Tokyo:20210807T000000
DTEND;TZID=Asia/Tokyo:20210808T235959
DTSTAMP:20260424T212742
CREATED:20210726T044842Z
LAST-MODIFIED:20210726T044842Z
UID:14439-1628294400-1628467199@kinpoden.com
SUMMARY:「平和を祈る」
DESCRIPTION:国吉 守さん / お話:関根弘興牧師 \n  \n沖縄県西原町にある那覇バプテスト教会の牧師を長年務め、昨年、天国に召された国吉守さんを紹介します。国吉さんは、小学６年生の時に沖縄本島で終戦を迎えました。1945年３月末に始まった沖縄戦は、太平洋戦争最大規模の戦闘となり、３か月で約20万人という尊い命が失われました。国吉さんもこの沖縄戦で両親を失い、自身も疎開先で米兵に見つかり死を覚悟したといいます。そんな国吉さんの戦争体験と、牧師になった経緯を紹介します。
URL:https://kinpoden.com/lifeline/%e3%80%8c%e5%b9%b3%e5%92%8c%e3%82%92%e7%a5%88%e3%82%8b%e3%80%8d-3/
CATEGORIES:テレビ「ライフライン」番組表
ATTACH;FMTTYPE=image/jpeg:https://kinpoden.com/wp-content/uploads/2021/07/image-30.jpg
END:VEVENT
BEGIN:VEVENT
DTSTART;TZID=Asia/Tokyo:20210731T000000
DTEND;TZID=Asia/Tokyo:20210801T235959
DTSTAMP:20260424T212742
CREATED:20210726T044745Z
LAST-MODIFIED:20210726T044745Z
UID:14438-1627689600-1627862399@kinpoden.com
SUMMARY:「ケニアの子どもたちに寄り添う・２」
DESCRIPTION:公文和子さん / お話: 原田憲夫牧師 \n  \n先日に引き続き、ケニアの障がい児支援施設「シロアムの園」の園長、小児科医の公文和子さんを紹介します。６月に出版された公文さんの初めての手記『グッド・モーニング・トゥ・ユー！　ケニアで障がいのある⼦どもたちと⽣きる』の内容に触れながら、今回は、施設での子どもたちとその家族の様子や、いのちの尊さ、そして、公文さんのビジョンについてのお話をお届けします。
URL:https://kinpoden.com/lifeline/%e3%80%8c%e3%82%b1%e3%83%8b%e3%82%a2%e3%81%ae%e5%ad%90%e3%81%a9%e3%82%82%e3%81%9f%e3%81%a1%e3%81%ab%e5%af%84%e3%82%8a%e6%b7%bb%e3%81%86%e3%83%bb%ef%bc%92%e3%80%8d-3/
CATEGORIES:テレビ「ライフライン」番組表
ATTACH;FMTTYPE=image/png:https://kinpoden.com/wp-content/uploads/2021/07/image-21.png
END:VEVENT
BEGIN:VEVENT
DTSTART;TZID=Asia/Tokyo:20210724T000000
DTEND;TZID=Asia/Tokyo:20210725T235959
DTSTAMP:20260424T212742
CREATED:20210624T015441Z
LAST-MODIFIED:20210624T015441Z
UID:14437-1627084800-1627257599@kinpoden.com
SUMMARY:「この心を照らすのは…」
DESCRIPTION:小山晶子さん/ お話: 関根弘興牧師 \n  \n賛美グループ・LYRE（リラ）の歌とメンバーの小山晶子さんのお話を紹介します。LYRE（リラ）は、大学在学中に６名のメンバーによって結成されました。卒業後は、牧師や宣教師など、それぞれの道を歩む中でアルバム制作、コンサート活動を行ってきました。2019年に福島県会津若松市で行った「ライフ・ラインのつどい」から歌をお届けするとともに、中学生の頃にいじめにあっていたという小山さんにお話を伺います。
URL:https://kinpoden.com/lifeline/%e3%80%8c%e3%81%93%e3%81%ae%e5%bf%83%e3%82%92%e7%85%a7%e3%82%89%e3%81%99%e3%81%ae%e3%81%af%e3%80%8d-3/
CATEGORIES:テレビ「ライフライン」番組表
ATTACH;FMTTYPE=image/jpeg:https://kinpoden.com/wp-content/uploads/2021/06/image-29.jpg
END:VEVENT
BEGIN:VEVENT
DTSTART;TZID=Asia/Tokyo:20210717T000000
DTEND;TZID=Asia/Tokyo:20210718T235959
DTSTAMP:20260424T212742
CREATED:20210624T015348Z
LAST-MODIFIED:20210624T015348Z
UID:14436-1626480000-1626652799@kinpoden.com
SUMMARY:「はじめに神が」
DESCRIPTION:ライフ・ラインのつどい \n関根弘興牧師、安武玄晃さん \n  \n  \nこの５月に静岡県浜松市で行った「ライフ・ラインのつどい」の様子を紹介します。今回の「つどい」では、地元で活動をするユースバンドとサックス奏者の安武玄晃さんが賛美歌を演奏し、関根弘興牧師が「はじめに神が」というタイトルで聖書のメッセージを語りました。
URL:https://kinpoden.com/lifeline/%e3%80%8c%e3%81%af%e3%81%98%e3%82%81%e3%81%ab%e7%a5%9e%e3%81%8c%e3%80%8d-3/
CATEGORIES:テレビ「ライフライン」番組表
ATTACH;FMTTYPE=image/jpeg:https://kinpoden.com/wp-content/uploads/2021/06/image-28.jpg
END:VEVENT
BEGIN:VEVENT
DTSTART;TZID=Asia/Tokyo:20210710T000000
DTEND;TZID=Asia/Tokyo:20210711T235959
DTSTAMP:20260424T212742
CREATED:20210624T015238Z
LAST-MODIFIED:20210624T015238Z
UID:14435-1625875200-1626047999@kinpoden.com
SUMMARY:「神はあなたを見捨てない」
DESCRIPTION:奥間英樹さん/ お話: 原田憲夫牧師 \n  \n  \n奥間英樹さんは、東京・代々木公園で20年もの間、ホームレス生活をしていましたが、そこで行われていたクリスチャンの支援ネットワークによる活動によってキリスト教信仰を持ちました。その後、自律神経失調症と統合失調を患い、今は癌と闘病中の奥間さん。「命ある限り」と、キリストに出会ったことの素晴らしさについて懸命に語る姿をお届けします。
URL:https://kinpoden.com/lifeline/%e3%80%8c%e7%a5%9e%e3%81%af%e3%81%82%e3%81%aa%e3%81%9f%e3%82%92%e8%a6%8b%e6%8d%a8%e3%81%a6%e3%81%aa%e3%81%84%e3%80%8d-3/
CATEGORIES:テレビ「ライフライン」番組表
ATTACH;FMTTYPE=image/png:https://kinpoden.com/wp-content/uploads/2021/06/image-20.png
END:VEVENT
BEGIN:VEVENT
DTSTART;TZID=Asia/Tokyo:20210703T000000
DTEND;TZID=Asia/Tokyo:20210704T235959
DTSTAMP:20260424T212742
CREATED:20210624T015142Z
LAST-MODIFIED:20210624T015142Z
UID:14434-1625270400-1625443199@kinpoden.com
SUMMARY:「ケニアの子どもたちに寄り添う・1」
DESCRIPTION:公文和子さん/ お話: 岩井基雄牧師 \n  \nケニアの首都ナイロビ郊外の障がい児支援施設「シロアムの園」の園長を務める、小児科医の公文和子さんを紹介します。先月出版された公文さんの初めての手記『グッド・モーニング・トゥ・ユー！　〜ケニアで障がいのある⼦どもたちと⽣きる』の内容に触れながら、どのようにして海外の障がい児たちと出会い、ケニアで施設を設立するようになったのか、また子どもたちへの思いについて、一時帰国した公文さんにお話を伺いました。
URL:https://kinpoden.com/lifeline/%e3%80%8c%e3%82%b1%e3%83%8b%e3%82%a2%e3%81%ae%e5%ad%90%e3%81%a9%e3%82%82%e3%81%9f%e3%81%a1%e3%81%ab%e5%af%84%e3%82%8a%e6%b7%bb%e3%81%86%e3%83%bb1%e3%80%8d-3/
CATEGORIES:テレビ「ライフライン」番組表
ATTACH;FMTTYPE=image/png:https://kinpoden.com/wp-content/uploads/2021/06/image.png
END:VEVENT
BEGIN:VEVENT
DTSTART;TZID=Asia/Tokyo:20210626T000000
DTEND;TZID=Asia/Tokyo:20210627T235959
DTSTAMP:20260424T212742
CREATED:20210528T235559Z
LAST-MODIFIED:20210528T235559Z
UID:14433-1624665600-1624838399@kinpoden.com
SUMMARY:「スマイル」
DESCRIPTION:岩渕まことさん、岩渕由美子さん、岩井基雄牧師 \n  \n前月に引き続き、シンガーソングライターの岩渕まことさん・由美子さん夫妻を紹介します。1977年に日本コロムビアよりデビューした岩渕まことさんは、40年以上、国内外でコンサート活動を続けています。また2007年からは、由美子さんとのデュエットアルバムの制作やコンサート活動も行っています。二人で活動をすることになったきっかけや由美子さんを突然襲った病についてのお話を歌と共にお届けします。
URL:https://kinpoden.com/lifeline/%e3%80%8c%e3%82%b9%e3%83%9e%e3%82%a4%e3%83%ab%e3%80%8d-3/
CATEGORIES:テレビ「ライフライン」番組表
ATTACH;FMTTYPE=image/jpeg:https://kinpoden.com/wp-content/uploads/2021/05/image-27.jpg
END:VEVENT
BEGIN:VEVENT
DTSTART;TZID=Asia/Tokyo:20210619T000000
DTEND;TZID=Asia/Tokyo:20210620T235959
DTSTAMP:20260424T212742
CREATED:20210528T235505Z
LAST-MODIFIED:20210528T235505Z
UID:14432-1624060800-1624233599@kinpoden.com
SUMMARY:「この時代の家庭と子育てに必要なこと」
DESCRIPTION:金子耕弐さん、岩井基雄牧師 \n  \n特定非営利活動法人ファミリートークネットワークの金子耕弐さんを紹介します。金子さんは、ラジオ番組「金子耕弐のファミリー・トーク」のパーソナリティを務め、放送や講演会を通して、子育てや家族関係に悩んでいる方々を支援する活動を行っています。金子さんに、この時代の家庭と子育てに必要なこと、そして、コロナ時代を生きる私たちに必要なことをお話しいただきます。
URL:https://kinpoden.com/lifeline/%e3%80%8c%e3%81%93%e3%81%ae%e6%99%82%e4%bb%a3%e3%81%ae%e5%ae%b6%e5%ba%ad%e3%81%a8%e5%ad%90%e8%82%b2%e3%81%a6%e3%81%ab%e5%bf%85%e8%a6%81%e3%81%aa%e3%81%93%e3%81%a8%e3%80%8d-3/
CATEGORIES:テレビ「ライフライン」番組表
ATTACH;FMTTYPE=image/jpeg:https://kinpoden.com/wp-content/uploads/2021/05/image-26.jpg
END:VEVENT
BEGIN:VEVENT
DTSTART;TZID=Asia/Tokyo:20210612T000000
DTEND;TZID=Asia/Tokyo:20210613T235959
DTSTAMP:20260424T212742
CREATED:20210528T235410Z
LAST-MODIFIED:20210528T235410Z
UID:14431-1623456000-1623628799@kinpoden.com
SUMMARY:「鷲のように翼を広げて…」
DESCRIPTION:ライフ・ラインのつどい「鷲のように翼を広げて…」 \n原田憲夫牧師、井上とも子さん、菅野万利子さん \n  \n無観客「ライフ・ラインのつどい」の様子を紹介します。今回の「つどい」では、チェロ奏者の井上とも子さんと、ピアニストの菅野万利子さんが賛美歌を演奏し、原田憲夫牧師が「鷲のように翼を広げて…」というタイトルで聖書のメッセージを語りました。
URL:https://kinpoden.com/lifeline/%e3%80%8c%e9%b7%b2%e3%81%ae%e3%82%88%e3%81%86%e3%81%ab%e7%bf%bc%e3%82%92%e5%ba%83%e3%81%92%e3%81%a6%e3%80%8d-3/
CATEGORIES:テレビ「ライフライン」番組表
ATTACH;FMTTYPE=image/jpeg:https://kinpoden.com/wp-content/uploads/2021/05/image-25.jpg
END:VEVENT
BEGIN:VEVENT
DTSTART;TZID=Asia/Tokyo:20210605T000000
DTEND;TZID=Asia/Tokyo:20210606T235959
DTSTAMP:20260424T212742
CREATED:20210528T235253Z
LAST-MODIFIED:20210528T235253Z
UID:14430-1622851200-1623023999@kinpoden.com
SUMMARY:「足元から人生が変わる靴職人の挑戦」
DESCRIPTION:荻野敦子さん、原田憲夫牧師 \n  \n東京・八王子にある靴工房Hyggelig(ヒュケリ)の荻野敦子さんを紹介します。荻野さんは、フルオーダーメイドで靴やインソールなどを製作している靴職人ですが、他にも子どもたちのために正しい靴の履き方を紹介する活動等を行っています。荻野さんに、これまでの歩みと様々な働きについてお話を伺います。
URL:https://kinpoden.com/lifeline/%e3%80%8c%e8%b6%b3%e5%85%83%e3%81%8b%e3%82%89%e4%ba%ba%e7%94%9f%e3%81%8c%e5%a4%89%e3%82%8f%e3%82%8b%e9%9d%b4%e8%81%b7%e4%ba%ba%e3%81%ae%e6%8c%91%e6%88%a6%e3%80%8d-3/
CATEGORIES:テレビ「ライフライン」番組表
ATTACH;FMTTYPE=image/jpeg:https://kinpoden.com/wp-content/uploads/2021/05/image-24.jpg
END:VEVENT
BEGIN:VEVENT
DTSTART;TZID=Asia/Tokyo:20210529T000000
DTEND;TZID=Asia/Tokyo:20210530T235959
DTSTAMP:20260424T212742
CREATED:20210422T003703Z
LAST-MODIFIED:20210422T003703Z
UID:13250-1622246400-1622419199@kinpoden.com
SUMMARY:「風に乗って・2」
DESCRIPTION:岩渕まことさん・由美子さん\n岩井基雄牧師 \n  \nシンガーソングライターの岩渕まことさん・由美子さん夫妻を２週にわたって紹介します。日本コロムビアよりシンガーソングライターとしてデビューした岩渕まことさんは、40年以上、国内外でコンサート活動を行っています。2007年に妻・由美子さんとのデュエットアルバムをリリース。それをきっかけに、夫婦でのコンサート活動を開始しました。デュエットコンサートから歌をお届けするとともに、クリスチャンになるきっかけや突然、家族の中に起こった悲しい出来事などのお話を伺います。
URL:https://kinpoden.com/lifeline/%e3%80%8c%e9%a2%a8%e3%81%ab%e4%b9%97%e3%81%a3%e3%81%a6%e3%83%bb2%e3%80%8d-2/
CATEGORIES:テレビ「ライフライン」番組表
ATTACH;FMTTYPE=image/jpeg:https://kinpoden.com/wp-content/uploads/2021/04/image-23.jpg
END:VEVENT
BEGIN:VEVENT
DTSTART;TZID=Asia/Tokyo:20210529T000000
DTEND;TZID=Asia/Tokyo:20210530T235959
DTSTAMP:20260424T212742
CREATED:20210422T003703Z
LAST-MODIFIED:20210422T003703Z
UID:14429-1622246400-1622419199@kinpoden.com
SUMMARY:「風に乗って・2」
DESCRIPTION:岩渕まことさん・由美子さん\n岩井基雄牧師 \n  \nシンガーソングライターの岩渕まことさん・由美子さん夫妻を２週にわたって紹介します。日本コロムビアよりシンガーソングライターとしてデビューした岩渕まことさんは、40年以上、国内外でコンサート活動を行っています。2007年に妻・由美子さんとのデュエットアルバムをリリース。それをきっかけに、夫婦でのコンサート活動を開始しました。デュエットコンサートから歌をお届けするとともに、クリスチャンになるきっかけや突然、家族の中に起こった悲しい出来事などのお話を伺います。
URL:https://kinpoden.com/lifeline/%e3%80%8c%e9%a2%a8%e3%81%ab%e4%b9%97%e3%81%a3%e3%81%a6%e3%83%bb2%e3%80%8d-3/
CATEGORIES:テレビ「ライフライン」番組表
ATTACH;FMTTYPE=image/jpeg:https://kinpoden.com/wp-content/uploads/2021/04/image-23.jpg
END:VEVENT
BEGIN:VEVENT
DTSTART;TZID=Asia/Tokyo:20210522T000000
DTEND;TZID=Asia/Tokyo:20210523T235959
DTSTAMP:20260424T212742
CREATED:20210422T003604Z
LAST-MODIFIED:20210422T003604Z
UID:14428-1621641600-1621814399@kinpoden.com
SUMMARY:「風に乗って・1」
DESCRIPTION:岩渕まことさん・由美子さん\n関根弘興牧師 \n  \nシンガーソングライターの岩渕まことさん・由美子さん夫妻を２週にわたって紹介します。日本コロムビアよりシンガーソングライターとしてデビューした岩渕まことさんは、40年以上、国内外でコンサート活動を行っています。2007年に妻・由美子さんとのデュエットアルバムをリリース。それをきっかけに、夫婦でのコンサート活動を開始しました。デュエットコンサートから歌をお届けするとともに、クリスチャンになるきっかけや突然、家族の中に起こった悲しい出来事などのお話を伺います。
URL:https://kinpoden.com/lifeline/%e3%80%8c%e9%a2%a8%e3%81%ab%e4%b9%97%e3%81%a3%e3%81%a6%e3%83%bb1%e3%80%8d-3/
CATEGORIES:テレビ「ライフライン」番組表
ATTACH;FMTTYPE=image/jpeg:https://kinpoden.com/wp-content/uploads/2021/04/image-23.jpg
END:VEVENT
BEGIN:VEVENT
DTSTART;TZID=Asia/Tokyo:20210515T000000
DTEND;TZID=Asia/Tokyo:20210516T235959
DTSTAMP:20260424T212742
CREATED:20210422T003504Z
LAST-MODIFIED:20210422T003504Z
UID:14427-1621036800-1621209599@kinpoden.com
SUMMARY:「実現する聖書のことば」
DESCRIPTION:安田正人さん\n原田憲夫牧師 \n  \nキリスト教書籍を中心に扱う出版社、株式会社ヨベルの代表、安田正人さんを紹介します。社名は、聖書に出てくる自由と解放の喜びの年「ヨベルの年」からつけられたといいます。どんなに苦しい時にもその背後に神様の存在があると語る安田さんに、お仕事についてお話を伺うとともに、お薦めの本を紹介していただきます。
URL:https://kinpoden.com/lifeline/%e3%80%8c%e5%ae%9f%e7%8f%be%e3%81%99%e3%82%8b%e8%81%96%e6%9b%b8%e3%81%ae%e3%81%93%e3%81%a8%e3%81%b0%e3%80%8d-4/
CATEGORIES:テレビ「ライフライン」番組表
ATTACH;FMTTYPE=image/png:https://kinpoden.com/wp-content/uploads/2021/04/image-19.png
END:VEVENT
BEGIN:VEVENT
DTSTART;TZID=Asia/Tokyo:20210508T000000
DTEND;TZID=Asia/Tokyo:20210509T235959
DTSTAMP:20260424T212742
CREATED:20210422T003403Z
LAST-MODIFIED:20210422T003403Z
UID:14426-1620432000-1620604799@kinpoden.com
SUMMARY:「スポーツで元気と笑顔を！」
DESCRIPTION:岡澤 元（はじめ）さん \n岩井基雄牧師 \n  \nJiSP［ジスプ］（日本国際スポーツパートナーシップ）スタッフの岡澤元さんを紹介します。JiSPはスポーツを通して人と人との交流を深めることを目的に、東京オリンピックに向けて様々な活動を準備してきました。岡澤さんは「コロナ禍の今だからこそ」という思いで、誰でも参加することのできるフェスティバルや、オンラインのチャリティーイベントを各地で開催しています。岡澤さんに、JiSPの働きを紹介いただくとともに、ご自身のキリスト教信仰について伺います。
URL:https://kinpoden.com/lifeline/%e3%80%8c%e3%82%b9%e3%83%9d%e3%83%bc%e3%83%84%e3%81%a7%e5%85%83%e6%b0%97%e3%81%a8%e7%ac%91%e9%a1%94%e3%82%92%ef%bc%81%e3%80%8d-3/
CATEGORIES:テレビ「ライフライン」番組表
ATTACH;FMTTYPE=image/jpeg:https://kinpoden.com/wp-content/uploads/2021/04/image-22.jpg
END:VEVENT
BEGIN:VEVENT
DTSTART;TZID=Asia/Tokyo:20210501T000000
DTEND;TZID=Asia/Tokyo:20210502T235959
DTSTAMP:20260424T212742
CREATED:20210422T003258Z
LAST-MODIFIED:20210422T003258Z
UID:14425-1619827200-1619999999@kinpoden.com
SUMMARY:「愛されて、変わる人生」
DESCRIPTION:岩井基雄牧師、中村匡さん \n  \n無観客「ライフ・ラインのつどい」の様子を紹介します。今回の「つどい」では、ウクレレ奏者の中村匡さんがオリジナルの曲や賛美歌を演奏し、岩井基雄牧師が「愛されて、変わる人生」というタイトルで聖書のメッセージを語りました。
URL:https://kinpoden.com/lifeline/%e3%80%8c%e6%84%9b%e3%81%95%e3%82%8c%e3%81%a6%e3%80%81%e5%a4%89%e3%82%8f%e3%82%8b%e4%ba%ba%e7%94%9f%e3%80%8d-3/
CATEGORIES:テレビ「ライフライン」番組表
ATTACH;FMTTYPE=image/jpeg:https://kinpoden.com/wp-content/uploads/2021/04/image.jpg
END:VEVENT
BEGIN:VEVENT
DTSTART;TZID=Asia/Tokyo:20210424T000000
DTEND;TZID=Asia/Tokyo:20210425T235959
DTSTAMP:20260424T212742
CREATED:20210320T015041Z
LAST-MODIFIED:20210320T015041Z
UID:14424-1619222400-1619395199@kinpoden.com
SUMMARY:「アートが繋ぐ家族の絆」
DESCRIPTION:正野真侑子さん \n原田憲夫牧師 \n  \nクリスチャンアーティストの正野真侑子さんを紹介します。正野さんは16歳で渡米し、10年間アートを学んだのちに帰国。昨年、自身のブランドLYN(Love Your Neighbor)を立ち上げ、売り上げの一部で、コロナ禍で困っている施設にマスクを届けるなどの社会事業を展開。他にも、渋谷ヒカリエでポップアップストアを成功させるなど広く活躍しています。正野さんの活動とこれまでの歩みについてお話を伺います。
URL:https://kinpoden.com/lifeline/%e3%80%8c%e3%82%a2%e3%83%bc%e3%83%88%e3%81%8c%e7%b9%8b%e3%81%90%e5%ae%b6%e6%97%8f%e3%81%ae%e7%b5%86%e3%80%8d-3/
CATEGORIES:テレビ「ライフライン」番組表
ATTACH;FMTTYPE=image/jpeg:https://kinpoden.com/wp-content/uploads/2021/03/image-21.jpg
END:VEVENT
BEGIN:VEVENT
DTSTART;TZID=Asia/Tokyo:20210417T000000
DTEND;TZID=Asia/Tokyo:20210418T235959
DTSTAMP:20260424T212742
CREATED:20210320T014940Z
LAST-MODIFIED:20210320T014940Z
UID:14423-1618617600-1618790399@kinpoden.com
SUMMARY:「蒼き祈りを描く」
DESCRIPTION:守部喜雅さん \n堀肇牧師 \n  \nジャーナリストとして多くの歴史本を執筆している守部喜雅さん。当初はデザイナーとして出版業界に入ったといいます。その経験を活かし、コロナ禍のなかで、世界的に有名な祈りの言葉にイラストを添えた絵画作品の制作に取り組み、１月には銀座で絵画展を開きました。これまで何度か番組にゲスト出演してくださった守部さんを、今回はアーティストとしてスタジオにお招きし、作品についてお話を伺います。
URL:https://kinpoden.com/lifeline/%e3%80%8c%e8%92%bc%e3%81%8d%e7%a5%88%e3%82%8a%e3%82%92%e6%8f%8f%e3%81%8f%e3%80%8d-3/
CATEGORIES:テレビ「ライフライン」番組表
ATTACH;FMTTYPE=image/png:https://kinpoden.com/wp-content/uploads/2021/03/image-18.png
END:VEVENT
BEGIN:VEVENT
DTSTART;TZID=Asia/Tokyo:20210410T000000
DTEND;TZID=Asia/Tokyo:20210411T235959
DTSTAMP:20260424T212742
CREATED:20210320T014830Z
LAST-MODIFIED:20210320T014830Z
UID:14422-1618012800-1618185599@kinpoden.com
SUMMARY:「あなたを諦めない」
DESCRIPTION:藤藪庸一さん \n岩井基雄牧師 \n  \n和歌山県南紀白浜にあるキリスト教会の牧師・藤藪庸一さんは、前任牧師から引き継いだ「三段壁いのちの電話」の活動を行っています。これまでに900人以上の自殺志願者を保護し、共同生活をとおして社会復帰を助けてきた藤藪さんは、一昨年『あなたを諦めない 自殺救済の現場から』という本を出版しました。本について、また、働きについてのお話を伺います。
URL:https://kinpoden.com/lifeline/%e3%80%8c%e3%81%82%e3%81%aa%e3%81%9f%e3%82%92%e8%ab%a6%e3%82%81%e3%81%aa%e3%81%84%e3%80%8d-4/
CATEGORIES:テレビ「ライフライン」番組表
ATTACH;FMTTYPE=image/jpeg:https://kinpoden.com/wp-content/uploads/2021/03/image-20.jpg
END:VEVENT
BEGIN:VEVENT
DTSTART;TZID=Asia/Tokyo:20210403T000000
DTEND;TZID=Asia/Tokyo:20210404T235959
DTSTAMP:20260424T212742
CREATED:20210320T014729Z
LAST-MODIFIED:20210320T014729Z
UID:14421-1617408000-1617580799@kinpoden.com
SUMMARY:「輝く希望に生かされて」
DESCRIPTION:ライフ・ライン イースターのつどい \n村上信晴さん・理恵さん \n岩井基雄牧師 \n  \nキリストの復活を記念してお祝いするイースター（復活祭）番組は、無観客「ライフ・ライン イースターのつどい」の様子を紹介します。今回の「つどい」では、ヴィオラ奏者の村上信晴さん・理恵さん夫妻が賛美歌を演奏し、岩井基雄牧師が「輝く希望に生かされて」というタイトルで聖書のメッセージを語りました。
URL:https://kinpoden.com/lifeline/%e3%80%8c%e8%bc%9d%e3%81%8f%e5%b8%8c%e6%9c%9b%e3%81%ab%e7%94%9f%e3%81%8b%e3%81%95%e3%82%8c%e3%81%a6%e3%80%8d-3/
CATEGORIES:テレビ「ライフライン」番組表
ATTACH;FMTTYPE=image/jpeg:https://kinpoden.com/wp-content/uploads/2021/03/image20.jpg
END:VEVENT
BEGIN:VEVENT
DTSTART;TZID=Asia/Tokyo:20210327T000000
DTEND;TZID=Asia/Tokyo:20210328T235959
DTSTAMP:20260424T212742
CREATED:20210225T004628Z
LAST-MODIFIED:20210225T004628Z
UID:14420-1616803200-1616975999@kinpoden.com
SUMMARY:「 いてくれてありがとう」
DESCRIPTION:関根一夫さん \n  \n牧師でカウンセラーの関根一夫さんは、昨年、『いてくれてありがとう〜介護家族の話をひたすら聴き続けた牧師が伝えたいこと』という本を出版しました。この本は、長年、認知症の介護家族に寄り添い、悩みを聴き続けてきた関根さんが、その体験をまとめたものです。本のサブタイトル「介護家族の話をひたすら聴き続けた牧師が伝えたいこと」とは何でしょうか。関根さんにお話を伺います。
URL:https://kinpoden.com/lifeline/%e3%80%8c-%e3%81%84%e3%81%a6%e3%81%8f%e3%82%8c%e3%81%a6%e3%81%82%e3%82%8a%e3%81%8c%e3%81%a8%e3%81%86%e3%80%8d-3/
CATEGORIES:テレビ「ライフライン」番組表
ATTACH;FMTTYPE=image/jpeg:https://kinpoden.com/wp-content/uploads/2021/02/image-19.jpg
END:VEVENT
BEGIN:VEVENT
DTSTART;TZID=Asia/Tokyo:20210320T000000
DTEND;TZID=Asia/Tokyo:20210321T235959
DTSTAMP:20260424T212742
CREATED:20210225T004526Z
LAST-MODIFIED:20210225T004526Z
UID:14419-1616198400-1616371199@kinpoden.com
SUMMARY:「“Reborn”〜被災地と世界を繋ぐピアニスト〜 後編」
DESCRIPTION:ゴン・ミン（Paul M.）さん \n原田憲夫牧師 \n  \n先週に続き、ピアニスト Paul M.（ポールエム）こと、ゴン・ミンさんを紹介します。２週目となる今回は、日本で出会った音楽家との演奏、ゴン・ミンさんの妻でシンガーのシオンさんの歌声をお届けするとともに、この働きを始めるに至った背景について伺います。
URL:https://kinpoden.com/lifeline/%e3%80%8creborn%e3%80%9c%e8%a2%ab%e7%81%bd%e5%9c%b0%e3%81%a8%e4%b8%96%e7%95%8c%e3%82%92%e7%b9%8b%e3%81%90%e3%83%94%e3%82%a2%e3%83%8b%e3%82%b9%e3%83%88%e3%80%9c-%e5%be%8c%e7%b7%a8-3/
CATEGORIES:テレビ「ライフライン」番組表
ATTACH;FMTTYPE=image/png:https://kinpoden.com/wp-content/uploads/2021/02/image-17.png
END:VEVENT
BEGIN:VEVENT
DTSTART;TZID=Asia/Tokyo:20210313T000000
DTEND;TZID=Asia/Tokyo:20210314T235959
DTSTAMP:20260424T212742
CREATED:20210225T004427Z
LAST-MODIFIED:20210225T004427Z
UID:14418-1615593600-1615766399@kinpoden.com
SUMMARY:「“Reborn”〜被災地と世界を繋ぐピアニスト〜 前編」
DESCRIPTION:ゴン・ミン（Paul M.）さん \n岩井基雄牧師 \n  \nピアニスト Paul M.（ポールエム）こと、ゴン・ミンさんを紹介します。ゴン・ミンさんは、韓国K-POPシーンで、様々なメジャーアーティストをサポートし、音楽大学の講師としても活動しています。東日本大震災以降、被災地の支援活動を継続的に行い、コンサートを開いてきました。2015年には、より継続的な支援のため家族で日本に移住。国立音楽大学でジャズを専修するなか、世界的なジャズピアニスト小曽根真さんと出会い、活動はさらに広がりを見せます。2018年には、日韓合同ビッグバンド「THE BRIDGE」を立ち上げ、現在も「心の復興」を掲げて活動しています。ゴン・ミンさんのこれまでの人生と活動を、２週にわたってお送りします。
URL:https://kinpoden.com/lifeline/%e3%80%8creborn%e3%80%9c%e8%a2%ab%e7%81%bd%e5%9c%b0%e3%81%a8%e4%b8%96%e7%95%8c%e3%82%92%e7%b9%8b%e3%81%90%e3%83%94%e3%82%a2%e3%83%8b%e3%82%b9%e3%83%88%e3%80%9c-%e5%89%8d%e7%b7%a8-3/
CATEGORIES:テレビ「ライフライン」番組表
ATTACH;FMTTYPE=image/png:https://kinpoden.com/wp-content/uploads/2021/02/image-17.png
END:VEVENT
BEGIN:VEVENT
DTSTART;TZID=Asia/Tokyo:20210306T000000
DTEND;TZID=Asia/Tokyo:20210307T235959
DTSTAMP:20260424T212742
CREATED:20210225T004327Z
LAST-MODIFIED:20210225T004327Z
UID:14417-1614988800-1615161599@kinpoden.com
SUMMARY:「生きるためのヒント」
DESCRIPTION:ライフ・ラインのつどい\n \n安武玄晃さん \n関根弘興牧師 \n  \n昨年の秋に福島県いわき市で行った「ライフ・ラインのつどい」の様子を紹介します。今回の「つどい」では、サックス奏者の安武玄晃さんが賛美歌やオリジナル曲を演奏し、関根弘興牧師が「生きるためのヒント」というタイトルで聖書のメッセージを語りました。
URL:https://kinpoden.com/lifeline/%e3%80%8c%e7%94%9f%e3%81%8d%e3%82%8b%e3%81%9f%e3%82%81%e3%81%ae%e3%83%92%e3%83%b3%e3%83%88%e3%80%8d-3/
CATEGORIES:テレビ「ライフライン」番組表
ATTACH;FMTTYPE=image/jpeg:https://kinpoden.com/wp-content/uploads/2021/02/image-18.jpg
END:VEVENT
BEGIN:VEVENT
DTSTART;TZID=Asia/Tokyo:20210227T000000
DTEND;TZID=Asia/Tokyo:20210228T235959
DTSTAMP:20260424T212742
CREATED:20210123T011416Z
LAST-MODIFIED:20210123T011416Z
UID:14416-1614384000-1614556799@kinpoden.com
SUMMARY:「イエスの愛」
DESCRIPTION:森祐理さん \n関根弘興牧師 \n  \n前月に引き続き、福音歌手・森祐理さんを紹介します。森さんは心に響く美しい歌声で、多くの方々に愛と希望のメッセージを届けています。今回は、福音歌手としての歩みや被災地支援活動についてなどのお話を伺うとともに、昨年、長野県・軽井沢で行われた無観客のコンサートから歌をお届けします。
URL:https://kinpoden.com/lifeline/%e3%80%8c%e3%82%a4%e3%82%a8%e3%82%b9%e3%81%ae%e6%84%9b%e3%80%8d-3/
CATEGORIES:テレビ「ライフライン」番組表
ATTACH;FMTTYPE=image/jpeg:https://kinpoden.com/wp-content/uploads/2021/01/image-17.jpg
END:VEVENT
BEGIN:VEVENT
DTSTART;TZID=Asia/Tokyo:20210220T000000
DTEND;TZID=Asia/Tokyo:20210221T235959
DTSTAMP:20260424T212742
CREATED:20210123T011317Z
LAST-MODIFIED:20210123T011317Z
UID:14415-1613779200-1613951999@kinpoden.com
SUMMARY:「エンジョイ ゴルフ！　エンジョイ ライフ！」
DESCRIPTION:津布久 竜一さん \n原田憲夫牧師  \n  \nNGF Far East（ナショナル・ゴルフ・ファンデーション極東）のCOO（最高責任者）、津布久竜一さんを紹介します。ゴルフが発展したアメリカでは人格形成や人間教育の一環として学校でゴルフが取り入れられ、それには聖書の教えが基盤にあるからだと津布久さんは語ります。ゴルフとキリスト教にはどんなつながりがあるのか、またNGFの取り組みついて、津布久さんにお話を伺います。
URL:https://kinpoden.com/lifeline/%e3%80%8c%e3%82%a8%e3%83%b3%e3%82%b8%e3%83%a7%e3%82%a4-%e3%82%b4%e3%83%ab%e3%83%95%ef%bc%81%e3%80%80%e3%82%a8%e3%83%b3%e3%82%b8%e3%83%a7%e3%82%a4-%e3%83%a9%e3%82%a4%e3%83%95%ef%bc%81%e3%80%8d-3/
CATEGORIES:テレビ「ライフライン」番組表
ATTACH;FMTTYPE=image/png:https://kinpoden.com/wp-content/uploads/2021/01/image-16.png
END:VEVENT
END:VCALENDAR