BEGIN:VCALENDAR
VERSION:2.0
PRODID:-//近畿福音放送伝道協力会 – 近放伝公式ウェブサイト - ECPv6.15.16//NONSGML v1.0//EN
CALSCALE:GREGORIAN
METHOD:PUBLISH
X-WR-CALNAME:近畿福音放送伝道協力会 – 近放伝公式ウェブサイト
X-ORIGINAL-URL:https://kinpoden.com
X-WR-CALDESC:近畿福音放送伝道協力会 – 近放伝公式ウェブサイト のイベント
REFRESH-INTERVAL;VALUE=DURATION:PT1H
X-Robots-Tag:noindex
X-PUBLISHED-TTL:PT1H
BEGIN:VTIMEZONE
TZID:Asia/Tokyo
BEGIN:STANDARD
TZOFFSETFROM:+0900
TZOFFSETTO:+0900
TZNAME:JST
DTSTART:20190101T000000
END:STANDARD
END:VTIMEZONE
BEGIN:VEVENT
DTSTART;TZID=Asia/Tokyo:20210424T000000
DTEND;TZID=Asia/Tokyo:20210425T235959
DTSTAMP:20260425T004817
CREATED:20210320T015041Z
LAST-MODIFIED:20210320T015041Z
UID:14424-1619222400-1619395199@kinpoden.com
SUMMARY:「アートが繋ぐ家族の絆」
DESCRIPTION:正野真侑子さん \n原田憲夫牧師 \n  \nクリスチャンアーティストの正野真侑子さんを紹介します。正野さんは16歳で渡米し、10年間アートを学んだのちに帰国。昨年、自身のブランドLYN(Love Your Neighbor)を立ち上げ、売り上げの一部で、コロナ禍で困っている施設にマスクを届けるなどの社会事業を展開。他にも、渋谷ヒカリエでポップアップストアを成功させるなど広く活躍しています。正野さんの活動とこれまでの歩みについてお話を伺います。
URL:https://kinpoden.com/lifeline/%e3%80%8c%e3%82%a2%e3%83%bc%e3%83%88%e3%81%8c%e7%b9%8b%e3%81%90%e5%ae%b6%e6%97%8f%e3%81%ae%e7%b5%86%e3%80%8d-3/
CATEGORIES:テレビ「ライフライン」番組表
ATTACH;FMTTYPE=image/jpeg:https://kinpoden.com/wp-content/uploads/2021/03/image-21.jpg
END:VEVENT
BEGIN:VEVENT
DTSTART;TZID=Asia/Tokyo:20210417T000000
DTEND;TZID=Asia/Tokyo:20210418T235959
DTSTAMP:20260425T004817
CREATED:20210320T014940Z
LAST-MODIFIED:20210320T014940Z
UID:14423-1618617600-1618790399@kinpoden.com
SUMMARY:「蒼き祈りを描く」
DESCRIPTION:守部喜雅さん \n堀肇牧師 \n  \nジャーナリストとして多くの歴史本を執筆している守部喜雅さん。当初はデザイナーとして出版業界に入ったといいます。その経験を活かし、コロナ禍のなかで、世界的に有名な祈りの言葉にイラストを添えた絵画作品の制作に取り組み、１月には銀座で絵画展を開きました。これまで何度か番組にゲスト出演してくださった守部さんを、今回はアーティストとしてスタジオにお招きし、作品についてお話を伺います。
URL:https://kinpoden.com/lifeline/%e3%80%8c%e8%92%bc%e3%81%8d%e7%a5%88%e3%82%8a%e3%82%92%e6%8f%8f%e3%81%8f%e3%80%8d-3/
CATEGORIES:テレビ「ライフライン」番組表
ATTACH;FMTTYPE=image/png:https://kinpoden.com/wp-content/uploads/2021/03/image-18.png
END:VEVENT
BEGIN:VEVENT
DTSTART;TZID=Asia/Tokyo:20210410T000000
DTEND;TZID=Asia/Tokyo:20210411T235959
DTSTAMP:20260425T004817
CREATED:20210320T014830Z
LAST-MODIFIED:20210320T014830Z
UID:14422-1618012800-1618185599@kinpoden.com
SUMMARY:「あなたを諦めない」
DESCRIPTION:藤藪庸一さん \n岩井基雄牧師 \n  \n和歌山県南紀白浜にあるキリスト教会の牧師・藤藪庸一さんは、前任牧師から引き継いだ「三段壁いのちの電話」の活動を行っています。これまでに900人以上の自殺志願者を保護し、共同生活をとおして社会復帰を助けてきた藤藪さんは、一昨年『あなたを諦めない 自殺救済の現場から』という本を出版しました。本について、また、働きについてのお話を伺います。
URL:https://kinpoden.com/lifeline/%e3%80%8c%e3%81%82%e3%81%aa%e3%81%9f%e3%82%92%e8%ab%a6%e3%82%81%e3%81%aa%e3%81%84%e3%80%8d-4/
CATEGORIES:テレビ「ライフライン」番組表
ATTACH;FMTTYPE=image/jpeg:https://kinpoden.com/wp-content/uploads/2021/03/image-20.jpg
END:VEVENT
BEGIN:VEVENT
DTSTART;TZID=Asia/Tokyo:20210403T000000
DTEND;TZID=Asia/Tokyo:20210404T235959
DTSTAMP:20260425T004817
CREATED:20210320T014729Z
LAST-MODIFIED:20210320T014729Z
UID:14421-1617408000-1617580799@kinpoden.com
SUMMARY:「輝く希望に生かされて」
DESCRIPTION:ライフ・ライン イースターのつどい \n村上信晴さん・理恵さん \n岩井基雄牧師 \n  \nキリストの復活を記念してお祝いするイースター（復活祭）番組は、無観客「ライフ・ライン イースターのつどい」の様子を紹介します。今回の「つどい」では、ヴィオラ奏者の村上信晴さん・理恵さん夫妻が賛美歌を演奏し、岩井基雄牧師が「輝く希望に生かされて」というタイトルで聖書のメッセージを語りました。
URL:https://kinpoden.com/lifeline/%e3%80%8c%e8%bc%9d%e3%81%8f%e5%b8%8c%e6%9c%9b%e3%81%ab%e7%94%9f%e3%81%8b%e3%81%95%e3%82%8c%e3%81%a6%e3%80%8d-3/
CATEGORIES:テレビ「ライフライン」番組表
ATTACH;FMTTYPE=image/jpeg:https://kinpoden.com/wp-content/uploads/2021/03/image20.jpg
END:VEVENT
BEGIN:VEVENT
DTSTART;TZID=Asia/Tokyo:20210327T000000
DTEND;TZID=Asia/Tokyo:20210328T235959
DTSTAMP:20260425T004817
CREATED:20210225T004628Z
LAST-MODIFIED:20210225T004628Z
UID:14420-1616803200-1616975999@kinpoden.com
SUMMARY:「 いてくれてありがとう」
DESCRIPTION:関根一夫さん \n  \n牧師でカウンセラーの関根一夫さんは、昨年、『いてくれてありがとう〜介護家族の話をひたすら聴き続けた牧師が伝えたいこと』という本を出版しました。この本は、長年、認知症の介護家族に寄り添い、悩みを聴き続けてきた関根さんが、その体験をまとめたものです。本のサブタイトル「介護家族の話をひたすら聴き続けた牧師が伝えたいこと」とは何でしょうか。関根さんにお話を伺います。
URL:https://kinpoden.com/lifeline/%e3%80%8c-%e3%81%84%e3%81%a6%e3%81%8f%e3%82%8c%e3%81%a6%e3%81%82%e3%82%8a%e3%81%8c%e3%81%a8%e3%81%86%e3%80%8d-3/
CATEGORIES:テレビ「ライフライン」番組表
ATTACH;FMTTYPE=image/jpeg:https://kinpoden.com/wp-content/uploads/2021/02/image-19.jpg
END:VEVENT
BEGIN:VEVENT
DTSTART;TZID=Asia/Tokyo:20210320T000000
DTEND;TZID=Asia/Tokyo:20210321T235959
DTSTAMP:20260425T004817
CREATED:20210225T004526Z
LAST-MODIFIED:20210225T004526Z
UID:14419-1616198400-1616371199@kinpoden.com
SUMMARY:「“Reborn”〜被災地と世界を繋ぐピアニスト〜 後編」
DESCRIPTION:ゴン・ミン（Paul M.）さん \n原田憲夫牧師 \n  \n先週に続き、ピアニスト Paul M.（ポールエム）こと、ゴン・ミンさんを紹介します。２週目となる今回は、日本で出会った音楽家との演奏、ゴン・ミンさんの妻でシンガーのシオンさんの歌声をお届けするとともに、この働きを始めるに至った背景について伺います。
URL:https://kinpoden.com/lifeline/%e3%80%8creborn%e3%80%9c%e8%a2%ab%e7%81%bd%e5%9c%b0%e3%81%a8%e4%b8%96%e7%95%8c%e3%82%92%e7%b9%8b%e3%81%90%e3%83%94%e3%82%a2%e3%83%8b%e3%82%b9%e3%83%88%e3%80%9c-%e5%be%8c%e7%b7%a8-3/
CATEGORIES:テレビ「ライフライン」番組表
ATTACH;FMTTYPE=image/png:https://kinpoden.com/wp-content/uploads/2021/02/image-17.png
END:VEVENT
BEGIN:VEVENT
DTSTART;TZID=Asia/Tokyo:20210313T000000
DTEND;TZID=Asia/Tokyo:20210314T235959
DTSTAMP:20260425T004817
CREATED:20210225T004427Z
LAST-MODIFIED:20210225T004427Z
UID:14418-1615593600-1615766399@kinpoden.com
SUMMARY:「“Reborn”〜被災地と世界を繋ぐピアニスト〜 前編」
DESCRIPTION:ゴン・ミン（Paul M.）さん \n岩井基雄牧師 \n  \nピアニスト Paul M.（ポールエム）こと、ゴン・ミンさんを紹介します。ゴン・ミンさんは、韓国K-POPシーンで、様々なメジャーアーティストをサポートし、音楽大学の講師としても活動しています。東日本大震災以降、被災地の支援活動を継続的に行い、コンサートを開いてきました。2015年には、より継続的な支援のため家族で日本に移住。国立音楽大学でジャズを専修するなか、世界的なジャズピアニスト小曽根真さんと出会い、活動はさらに広がりを見せます。2018年には、日韓合同ビッグバンド「THE BRIDGE」を立ち上げ、現在も「心の復興」を掲げて活動しています。ゴン・ミンさんのこれまでの人生と活動を、２週にわたってお送りします。
URL:https://kinpoden.com/lifeline/%e3%80%8creborn%e3%80%9c%e8%a2%ab%e7%81%bd%e5%9c%b0%e3%81%a8%e4%b8%96%e7%95%8c%e3%82%92%e7%b9%8b%e3%81%90%e3%83%94%e3%82%a2%e3%83%8b%e3%82%b9%e3%83%88%e3%80%9c-%e5%89%8d%e7%b7%a8-3/
CATEGORIES:テレビ「ライフライン」番組表
ATTACH;FMTTYPE=image/png:https://kinpoden.com/wp-content/uploads/2021/02/image-17.png
END:VEVENT
BEGIN:VEVENT
DTSTART;TZID=Asia/Tokyo:20210306T000000
DTEND;TZID=Asia/Tokyo:20210307T235959
DTSTAMP:20260425T004817
CREATED:20210225T004327Z
LAST-MODIFIED:20210225T004327Z
UID:14417-1614988800-1615161599@kinpoden.com
SUMMARY:「生きるためのヒント」
DESCRIPTION:ライフ・ラインのつどい\n \n安武玄晃さん \n関根弘興牧師 \n  \n昨年の秋に福島県いわき市で行った「ライフ・ラインのつどい」の様子を紹介します。今回の「つどい」では、サックス奏者の安武玄晃さんが賛美歌やオリジナル曲を演奏し、関根弘興牧師が「生きるためのヒント」というタイトルで聖書のメッセージを語りました。
URL:https://kinpoden.com/lifeline/%e3%80%8c%e7%94%9f%e3%81%8d%e3%82%8b%e3%81%9f%e3%82%81%e3%81%ae%e3%83%92%e3%83%b3%e3%83%88%e3%80%8d-3/
CATEGORIES:テレビ「ライフライン」番組表
ATTACH;FMTTYPE=image/jpeg:https://kinpoden.com/wp-content/uploads/2021/02/image-18.jpg
END:VEVENT
BEGIN:VEVENT
DTSTART;TZID=Asia/Tokyo:20210227T000000
DTEND;TZID=Asia/Tokyo:20210228T235959
DTSTAMP:20260425T004817
CREATED:20210123T011416Z
LAST-MODIFIED:20210123T011416Z
UID:14416-1614384000-1614556799@kinpoden.com
SUMMARY:「イエスの愛」
DESCRIPTION:森祐理さん \n関根弘興牧師 \n  \n前月に引き続き、福音歌手・森祐理さんを紹介します。森さんは心に響く美しい歌声で、多くの方々に愛と希望のメッセージを届けています。今回は、福音歌手としての歩みや被災地支援活動についてなどのお話を伺うとともに、昨年、長野県・軽井沢で行われた無観客のコンサートから歌をお届けします。
URL:https://kinpoden.com/lifeline/%e3%80%8c%e3%82%a4%e3%82%a8%e3%82%b9%e3%81%ae%e6%84%9b%e3%80%8d-3/
CATEGORIES:テレビ「ライフライン」番組表
ATTACH;FMTTYPE=image/jpeg:https://kinpoden.com/wp-content/uploads/2021/01/image-17.jpg
END:VEVENT
BEGIN:VEVENT
DTSTART;TZID=Asia/Tokyo:20210220T000000
DTEND;TZID=Asia/Tokyo:20210221T235959
DTSTAMP:20260425T004817
CREATED:20210123T011317Z
LAST-MODIFIED:20210123T011317Z
UID:14415-1613779200-1613951999@kinpoden.com
SUMMARY:「エンジョイ ゴルフ！　エンジョイ ライフ！」
DESCRIPTION:津布久 竜一さん \n原田憲夫牧師  \n  \nNGF Far East（ナショナル・ゴルフ・ファンデーション極東）のCOO（最高責任者）、津布久竜一さんを紹介します。ゴルフが発展したアメリカでは人格形成や人間教育の一環として学校でゴルフが取り入れられ、それには聖書の教えが基盤にあるからだと津布久さんは語ります。ゴルフとキリスト教にはどんなつながりがあるのか、またNGFの取り組みついて、津布久さんにお話を伺います。
URL:https://kinpoden.com/lifeline/%e3%80%8c%e3%82%a8%e3%83%b3%e3%82%b8%e3%83%a7%e3%82%a4-%e3%82%b4%e3%83%ab%e3%83%95%ef%bc%81%e3%80%80%e3%82%a8%e3%83%b3%e3%82%b8%e3%83%a7%e3%82%a4-%e3%83%a9%e3%82%a4%e3%83%95%ef%bc%81%e3%80%8d-3/
CATEGORIES:テレビ「ライフライン」番組表
ATTACH;FMTTYPE=image/png:https://kinpoden.com/wp-content/uploads/2021/01/image-16.png
END:VEVENT
BEGIN:VEVENT
DTSTART;TZID=Asia/Tokyo:20210213T000000
DTEND;TZID=Asia/Tokyo:20210214T235959
DTSTAMP:20260425T004817
CREATED:20210123T011217Z
LAST-MODIFIED:20210123T011217Z
UID:14414-1613174400-1613347199@kinpoden.com
SUMMARY:「塀の中はワンダーランド」
DESCRIPTION:坂原仁基さん  \n岩井基雄牧師 \n  \n建設現場に基準線を引く仕事「墨出し職人」を務める坂原仁基さんは、かつて覚せい剤、傷害、窃盗、詐欺、風俗など、あらゆる犯罪に手を染め、刑務所に合計21年も服役したことのある元暴力団員でした。しかし、あることをきっかけに荒んだ生活は一変し、現在は「“キリスト中毒"の日々を過ごしている」といいます。かつての仲間たちを教会に誘い、キリストを伝えることが生き甲斐となったという坂原さんにお話を伺います。
URL:https://kinpoden.com/lifeline/%e3%80%8c%e5%a1%80%e3%81%ae%e4%b8%ad%e3%81%af%e3%83%af%e3%83%b3%e3%83%80%e3%83%bc%e3%83%a9%e3%83%b3%e3%83%89%e3%80%8d-3/
CATEGORIES:テレビ「ライフライン」番組表
ATTACH;FMTTYPE=image/jpeg:https://kinpoden.com/wp-content/uploads/2021/01/image-16.jpg
END:VEVENT
BEGIN:VEVENT
DTSTART;TZID=Asia/Tokyo:20210206T000000
DTEND;TZID=Asia/Tokyo:20210207T235959
DTSTAMP:20260425T004817
CREATED:20210123T011120Z
LAST-MODIFIED:20210123T011120Z
UID:14413-1612569600-1612742399@kinpoden.com
SUMMARY:「旅の歌」
DESCRIPTION:ライフ・ラインのつどい\n \n原田憲夫牧師  \n  \n無観客「ライフ・ラインのつどい」の様子を紹介します。今回の「つどい」では、ゴスペルシンガーソングライターの竹下静さんがオリジナルのゴスペルソングを歌い、原田憲夫牧師が「旅の歌」というタイトルで聖書のメッセージを語りました。
URL:https://kinpoden.com/lifeline/%e3%80%8c%e6%97%85%e3%81%ae%e6%ad%8c%e3%80%8d-3/
CATEGORIES:テレビ「ライフライン」番組表
ATTACH;FMTTYPE=image/jpeg:https://kinpoden.com/wp-content/uploads/2021/01/image-15.jpg
END:VEVENT
BEGIN:VEVENT
DTSTART;TZID=Asia/Tokyo:20210130T000000
DTEND;TZID=Asia/Tokyo:20210131T235959
DTSTAMP:20260425T004817
CREATED:20201229T041516Z
LAST-MODIFIED:20201229T041516Z
UID:14412-1611964800-1612137599@kinpoden.com
SUMMARY:「牧師の読み解く般若心経・２」
DESCRIPTION:大和昌平さん  \n  \n昨年に引き続き、『牧師の読み解く般若心経』の著者、東京基督教大学の教授・副学長を務める大和昌平さんにお話を伺います。大和さんは、牧師をしながら佛教大学で学び仏教の研究を続けてきたという、異色の経歴の持ち主です。どのように牧師となり仏教と向かい合っているのか、また、互いに響き合うものがあるという般若心経と聖書について、語っていただきます。
URL:https://kinpoden.com/lifeline/%e3%80%8c%e7%89%a7%e5%b8%ab%e3%81%ae%e8%aa%ad%e3%81%bf%e8%a7%a3%e3%81%8f%e8%88%ac%e8%8b%a5%e5%bf%83%e7%b5%8c%e3%83%bb%ef%bc%92%e3%80%8d-3/
CATEGORIES:テレビ「ライフライン」番組表
ATTACH;FMTTYPE=image/png:https://kinpoden.com/wp-content/uploads/2020/12/image-15.png
END:VEVENT
BEGIN:VEVENT
DTSTART;TZID=Asia/Tokyo:20210123T000000
DTEND;TZID=Asia/Tokyo:20210124T235959
DTSTAMP:20260425T004817
CREATED:20201229T041423Z
LAST-MODIFIED:20201229T041423Z
UID:14411-1611360000-1611532799@kinpoden.com
SUMMARY:「こころのメロディー」
DESCRIPTION:森祐理さん  \nメッセージ：岩井基夫牧師 \n  \nイスラエルを旅する「イエス・キリストの生涯をたどる旅」でおなじみの福音歌手・森祐理さんを紹介します。森さんは心に響く美しい歌声で、多くの方々に愛と希望のメッセージを届けています。昨年、長野県・軽井沢で行われた無観客のコンサートから歌をお届けするとともに、クリスチャンになるきっかけや福音歌手としての歩みなどのお話を伺います。
URL:https://kinpoden.com/lifeline/%e3%80%8c%e3%81%93%e3%81%93%e3%82%8d%e3%81%ae%e3%83%a1%e3%83%ad%e3%83%87%e3%82%a3%e3%83%bc%e3%80%8d-3/
CATEGORIES:テレビ「ライフライン」番組表
ATTACH;FMTTYPE=image/jpeg:https://kinpoden.com/wp-content/uploads/2020/12/image-14.jpg
END:VEVENT
BEGIN:VEVENT
DTSTART;TZID=Asia/Tokyo:20210116T000000
DTEND;TZID=Asia/Tokyo:20210117T235959
DTSTAMP:20260425T004817
CREATED:20201229T041323Z
LAST-MODIFIED:20201229T041323Z
UID:14410-1610755200-1610927999@kinpoden.com
SUMMARY:「二人で届ける希望のゴスペル」
DESCRIPTION:ケン・テイラーさん  \nメッセージ：原田憲夫牧師 \n  \nゴスペルディレクターのケン・テイラーさんは、本場アメリカで聖歌隊の指導やゴスペルを学んだ後、1997年に奥様のボラさんとともに来日、以来20年以上にわたって、ゴスペルクワイヤーの指導などを行ってきました。昨年の11月の放送では、ケンさんがどのようにしてキリスト教信仰を持ったのかなどについて伺いました。２回目となる今回は、妻のボラさんと共に歩んだ、日本での活動についてお話を伺います。
URL:https://kinpoden.com/lifeline/%e3%80%8c%e4%ba%8c%e4%ba%ba%e3%81%a7%e5%b1%8a%e3%81%91%e3%82%8b%e5%b8%8c%e6%9c%9b%e3%81%ae%e3%82%b4%e3%82%b9%e3%83%9a%e3%83%ab%e3%80%8d-3/
CATEGORIES:テレビ「ライフライン」番組表
ATTACH;FMTTYPE=image/jpeg:https://kinpoden.com/wp-content/uploads/2020/12/image-13.jpg
END:VEVENT
BEGIN:VEVENT
DTSTART;TZID=Asia/Tokyo:20210109T000000
DTEND;TZID=Asia/Tokyo:20210110T235959
DTSTAMP:20260425T004817
CREATED:20201229T041218Z
LAST-MODIFIED:20201229T041218Z
UID:14409-1610150400-1610323199@kinpoden.com
SUMMARY:「新しい出発」
DESCRIPTION:ライフ・ラインのつどい \n「新しい出発」 \n岩渕まことさん・由美子さん   \nメッセージ：関根弘興牧師 \n  \n無観客「ライフ・ラインのつどい」の様子を紹介します。今回の「つどい」では、シンガーソングライターの岩渕まことさん・由美子さん夫妻がオリジナルのゴスペルソングを歌い、関根弘興牧師が「新しい出発」というタイトルで聖書のメッセージを語りました。新しい年の初めは、聖書のお話とゴスペルソングでお楽しみください。
URL:https://kinpoden.com/lifeline/%e3%80%8c%e6%96%b0%e3%81%97%e3%81%84%e5%87%ba%e7%99%ba%e3%80%8d-3/
CATEGORIES:テレビ「ライフライン」番組表
ATTACH;FMTTYPE=image/jpeg:https://kinpoden.com/wp-content/uploads/2020/12/image-12.jpg
END:VEVENT
BEGIN:VEVENT
DTSTART;TZID=Asia/Tokyo:20201226T000000
DTEND;TZID=Asia/Tokyo:20201227T235959
DTSTAMP:20260425T004817
CREATED:20201121T053839Z
LAST-MODIFIED:20201121T053839Z
UID:14408-1608940800-1609113599@kinpoden.com
SUMMARY:「賛美の人生」
DESCRIPTION:大塚野百合さん   \nメッセージ：原田憲夫牧師 \n  \n昨年12月に天国に旅立った恵泉女学園大学名誉教授の大塚野百合さんの記念会が、今年９月に催されました。大塚さんは賛美歌研究の著書の中で、日本の唱歌にも賛美歌のメロディーが取り入れられているものが多いことを紹介しています。大塚さんの身近な方々のインタビューとともに、2006年に「ライフ・ライン」に出演した時の映像を振り返りながら、いつも神様を賛美しながら生きることの素晴らしさを考えていきましょう。
URL:https://kinpoden.com/lifeline/%e3%80%8c%e8%b3%9b%e7%be%8e%e3%81%ae%e4%ba%ba%e7%94%9f%e3%80%8d-3/
CATEGORIES:テレビ「ライフライン」番組表
ATTACH;FMTTYPE=image/png:https://kinpoden.com/wp-content/uploads/2020/11/image-14.png
END:VEVENT
BEGIN:VEVENT
DTSTART;TZID=Asia/Tokyo:20201219T000000
DTEND;TZID=Asia/Tokyo:20201220T235959
DTSTAMP:20260425T004817
CREATED:20201121T053736Z
LAST-MODIFIED:20201121T053736Z
UID:14407-1608336000-1608508799@kinpoden.com
SUMMARY:「おくりもの」
DESCRIPTION:ライフ・ライン クリスマスのつどい \nメッセージ：岩井基雄牧師 \n  \n無観客「ライフ・ライン クリスマスのつどい」の様子を紹介します。今回の「つどい」では、ソプラノの坂井田真実子さんがクリスマスキャロルを歌い、岩井基雄牧師が「おくりもの」というタイトルでクリスマスのメッセージを語りました。 \n 
URL:https://kinpoden.com/lifeline/%e3%80%8c%e3%81%8a%e3%81%8f%e3%82%8a%e3%82%82%e3%81%ae%e3%80%8d-2-3/
CATEGORIES:テレビ「ライフライン」番組表
ATTACH;FMTTYPE=image/jpeg:https://kinpoden.com/wp-content/uploads/2020/11/image-11.jpg
END:VEVENT
BEGIN:VEVENT
DTSTART;TZID=Asia/Tokyo:20201212T000000
DTEND;TZID=Asia/Tokyo:20201213T235959
DTSTAMP:20260425T004817
CREATED:20201121T053541Z
LAST-MODIFIED:20201121T053541Z
UID:14406-1607731200-1607903999@kinpoden.com
SUMMARY:「おくりもの 〜The Real Christmas〜」
DESCRIPTION:横山大輔さん \nメッセージ：原田憲夫牧師 \n  \nゴスペルシンガー・ソングライター・横山大輔さんは、カリフォルニア州立大学で声楽・音楽理論を学び2004年に帰国、以降、全国47都道府県ツアーや、アジア・中東諸国を巡るツアーを行ってきました。近年は妻・和子さんと活動を共にし、2020年4月にはアルバム「生きる」をリリースしました。横山さんに、クリスマスシーズンにぴったりのオリジナル曲を紹介いただくとともに、ゴスペルの出会いについて伺います。
URL:https://kinpoden.com/lifeline/%e3%80%8c%e3%81%8a%e3%81%8f%e3%82%8a%e3%82%82%e3%81%ae-%e3%80%9cthe-real-christmas%e3%80%9c%e3%80%8d-3/
CATEGORIES:テレビ「ライフライン」番組表
ATTACH;FMTTYPE=image/jpeg:https://kinpoden.com/wp-content/uploads/2020/11/image-9.jpg
END:VEVENT
BEGIN:VEVENT
DTSTART;TZID=Asia/Tokyo:20201205T000000
DTEND;TZID=Asia/Tokyo:20201206T235959
DTSTAMP:20260425T004817
CREATED:20201121T053429Z
LAST-MODIFIED:20201121T053429Z
UID:14405-1607126400-1607299199@kinpoden.com
SUMMARY:「おくりもの」
DESCRIPTION:泉谷千賀子さん \nメッセージ：関根弘興牧師 \n  \n羊毛で、かわいらしい動物や小物を作っている羊毛フェルト作家・泉谷千賀子さんは、昨年、絵本「おくりもの」を出版しました。この絵本は、自分は役立たずだと感じて家を飛び出してしまう子羊の冒険物語です。泉谷さんに、絵本「おくりもの」についてお話を伺うとともに、羊毛で作るクリスマスの飾り、オーナメントの作り方を教えていただきます。
URL:https://kinpoden.com/lifeline/%e3%80%8c%e3%81%8a%e3%81%8f%e3%82%8a%e3%82%82%e3%81%ae%e3%80%8d-4/
CATEGORIES:テレビ「ライフライン」番組表
ATTACH;FMTTYPE=image/jpeg:https://kinpoden.com/wp-content/uploads/2020/11/image-8.jpg
END:VEVENT
BEGIN:VEVENT
DTSTART;TZID=Asia/Tokyo:20201128T000000
DTEND;TZID=Asia/Tokyo:20201129T235959
DTSTAMP:20260425T004817
CREATED:20201022T001718Z
LAST-MODIFIED:20201022T001718Z
UID:14404-1606521600-1606694399@kinpoden.com
SUMMARY:「日本に本物のゴスペルを届けたい」
DESCRIPTION:ケン・テイラー さん \nメッセージ：岩井基雄牧師 \n  \nゴスペルディレクターのケン・テイラーさんは、アメリカの教会で聖歌隊を指導する働きをした後、1997年に来日。以降は、日本各地で様々な音楽活動を精力的に展開してきました。2015年には日本武道館で1300人のクワイヤーを率いて熱演し、観客の心を掴みました。今回は、テイラーさんの人生を紐解くと同時に、ゴスペルについてもお話を伺います。
URL:https://kinpoden.com/lifeline/%e3%80%8c%e6%97%a5%e6%9c%ac%e3%81%ab%e6%9c%ac%e7%89%a9%e3%81%ae%e3%82%b4%e3%82%b9%e3%83%9a%e3%83%ab%e3%82%92%e5%b1%8a%e3%81%91%e3%81%9f%e3%81%84%e3%80%8d-3/
CATEGORIES:テレビ「ライフライン」番組表
ATTACH;FMTTYPE=image/png:https://kinpoden.com/wp-content/uploads/2020/10/image-13.png
END:VEVENT
BEGIN:VEVENT
DTSTART;TZID=Asia/Tokyo:20201121T000000
DTEND;TZID=Asia/Tokyo:20201122T235959
DTSTAMP:20260425T004817
CREATED:20201022T001620Z
LAST-MODIFIED:20201022T001620Z
UID:14403-1605916800-1606089599@kinpoden.com
SUMMARY:「守られて生きる」
DESCRIPTION:ライフ・ラインのつどい \nメッセージ：関根弘興牧師 \n  \n無観客「ライフ・ラインのつどい」の５回目。今回の「つどい」では、福音歌手の森祐理さんが賛美歌を歌い、関根弘興牧師が「守られて生きる」というタイトルで聖書のメッセージを語りました。そんな「つどい」の様子を紹介します。 \n  \n　
URL:https://kinpoden.com/lifeline/%e3%80%8c%e5%ae%88%e3%82%89%e3%82%8c%e3%81%a6%e7%94%9f%e3%81%8d%e3%82%8b%e3%80%8d-3/
CATEGORIES:テレビ「ライフライン」番組表
ATTACH;FMTTYPE=image/png:https://kinpoden.com/wp-content/uploads/2020/10/image-12.png
END:VEVENT
BEGIN:VEVENT
DTSTART;TZID=Asia/Tokyo:20201114T000000
DTEND;TZID=Asia/Tokyo:20201115T235959
DTSTAMP:20260425T004817
CREATED:20201022T001443Z
LAST-MODIFIED:20201022T001443Z
UID:14402-1605312000-1605484799@kinpoden.com
SUMMARY:「小さい者の一人にできること」
DESCRIPTION:山下泉美さん  \nメッセージ：原田憲夫牧師 \n  \n世界の貧困や飢餓、紛争に苦しむ子どもたちを支援する、特定非営利活動法人ワールド・ビジョン・ジャパンのスタッフ 山下泉美さんに、その活動について紹介していただくとともに、実際に支援地域を視察した時の体験や、働きの中での葛藤や喜びを伺います。また、チャイルドスポンサーとして支援に参加されている方々のお話も紹介しつつ、山下さんが支援を通して感じていることを伺います。
URL:https://kinpoden.com/lifeline/%e3%80%8c%e5%b0%8f%e3%81%95%e3%81%84%e8%80%85%e3%81%ae%e4%b8%80%e4%ba%ba%e3%81%ab%e3%81%a7%e3%81%8d%e3%82%8b%e3%81%93%e3%81%a8%e3%80%8d-3/
CATEGORIES:テレビ「ライフライン」番組表
ATTACH;FMTTYPE=image/png:https://kinpoden.com/wp-content/uploads/2020/10/image-10.png
END:VEVENT
BEGIN:VEVENT
DTSTART;TZID=Asia/Tokyo:20201107T000000
DTEND;TZID=Asia/Tokyo:20201108T235959
DTSTAMP:20260425T004817
CREATED:20201022T001341Z
LAST-MODIFIED:20201022T001341Z
UID:14401-1604707200-1604879999@kinpoden.com
SUMMARY:「明日へつなぐ歌」
DESCRIPTION:礒川道夫さん \nメッセージ：岩井基雄牧師 \n  \n11月13日に公開する映画「I CAN ONLY IMAGINE ～明日へつなぐ歌」を紹介します。この映画は、全米で250万枚以上のセールスを記録した大ヒット曲「I CAN ONLY IMAGINE（アイ・キャン・オンリー・イマジン）」の誕生物語です。父親から暴力を受け、将来に挫折した一人の青年が、どのようにこの曲を作ったのか、何が彼を変えたのか、キリストの愛と希望が描かれているこの映画について、日本でこの映画上映に尽力している礒川道夫さんにお話を伺います。
URL:https://kinpoden.com/lifeline/%e3%80%8c%e6%98%8e%e6%97%a5%e3%81%b8%e3%81%a4%e3%81%aa%e3%81%90%e6%ad%8c%e3%80%8d-3/
CATEGORIES:テレビ「ライフライン」番組表
ATTACH;FMTTYPE=image/png:https://kinpoden.com/wp-content/uploads/2020/10/image-9.png
END:VEVENT
BEGIN:VEVENT
DTSTART;TZID=Asia/Tokyo:20201031T000000
DTEND;TZID=Asia/Tokyo:20201101T235959
DTSTAMP:20260425T004817
CREATED:20201022T001235Z
LAST-MODIFIED:20201022T001235Z
UID:14400-1604102400-1604275199@kinpoden.com
SUMMARY:「牧師の読み解く般若心経・１」
DESCRIPTION:大和昌平さん \n  \n東京基督教大学の教授・副学長を務める大和昌平さんの著書『牧師の読み解く般若心経』が今年5月、新装新版として発行されました。大和さんは、牧師をしながら佛教大学で学び仏教の研究を続けてきたという、異色の経歴の持ち主です。多くの日本人に古くから親しまれている般若心経について、聖書と対比させながらわかりやすく解説していただきます。第１回は仏教と聖書の語る「空（くう）」について、東京基督教大学とリモートでつないでお話を伺います。
URL:https://kinpoden.com/lifeline/%e3%80%8c%e7%89%a7%e5%b8%ab%e3%81%ae%e8%aa%ad%e3%81%bf%e8%a7%a3%e3%81%8f%e8%88%ac%e8%8b%a5%e5%bf%83%e7%b5%8c%e3%83%bb%ef%bc%91%e3%80%8d-3/
CATEGORIES:テレビ「ライフライン」番組表
ATTACH;FMTTYPE=image/png:https://kinpoden.com/wp-content/uploads/2020/10/image-8.png
END:VEVENT
BEGIN:VEVENT
DTSTART;TZID=Asia/Tokyo:20201024T000000
DTEND;TZID=Asia/Tokyo:20201025T235959
DTSTAMP:20260425T004817
CREATED:20200922T051641Z
LAST-MODIFIED:20200922T051641Z
UID:14399-1603497600-1603670399@kinpoden.com
SUMMARY:「At The Cross  ～十字架のもとに～」
DESCRIPTION:安武玄晃さん \nメッセージ：関根弘興牧師 \n  \n今年、デビュー10周年を迎えたサックス奏者の安武玄晃さんを２週にわたって紹介します。安武さんは、「ゴスペル スムース ジャズ」という新しいジャンルを開拓したサックス奏者で、昨年、初の聖歌・讚美歌CD「At The Cross」をリリースしました。CD発売記念コンサートから演奏をお届けするとともに、このCDについて、演奏家として届けたい思い、どのようにキリスト教信仰を持ったか、また、10年の歩みなどのお話を伺います。
URL:https://kinpoden.com/lifeline/%e3%80%8cat-the-cross-%ef%bd%9e%e5%8d%81%e5%ad%97%e6%9e%b6%e3%81%ae%e3%82%82%e3%81%a8%e3%81%ab%ef%bd%9e%e3%80%8d-2-3/
CATEGORIES:テレビ「ライフライン」番組表
ATTACH;FMTTYPE=image/png:https://kinpoden.com/wp-content/uploads/2020/09/image-7.png
END:VEVENT
BEGIN:VEVENT
DTSTART;TZID=Asia/Tokyo:20201017T000000
DTEND;TZID=Asia/Tokyo:20201018T235959
DTSTAMP:20260425T004817
CREATED:20200922T051532Z
LAST-MODIFIED:20200922T051532Z
UID:14398-1602892800-1603065599@kinpoden.com
SUMMARY:「At The Cross  ～十字架のもとに～」
DESCRIPTION:安武玄晃さん \nメッセージ：岩井基雄牧師 \n  \n今年、デビュー10周年を迎えたサックス奏者の安武玄晃さんを２週にわたって紹介します。安武さんは、「ゴスペル スムース ジャズ」という新しいジャンルを開拓したサックス奏者で、昨年、初の聖歌・讚美歌CD「At The Cross」をリリースしました。CD発売記念コンサートから演奏をお届けするとともに、このCDについて、演奏家として届けたい思い、どのようにキリスト教信仰を持ったか、また、10年の歩みなどのお話を伺います。
URL:https://kinpoden.com/lifeline/%e3%80%8cat-the-cross-%ef%bd%9e%e5%8d%81%e5%ad%97%e6%9e%b6%e3%81%ae%e3%82%82%e3%81%a8%e3%81%ab%ef%bd%9e%e3%80%8d-4/
CATEGORIES:テレビ「ライフライン」番組表
ATTACH;FMTTYPE=image/png:https://kinpoden.com/wp-content/uploads/2020/09/image-6.png
END:VEVENT
BEGIN:VEVENT
DTSTART;TZID=Asia/Tokyo:20201010T000000
DTEND;TZID=Asia/Tokyo:20201011T235959
DTSTAMP:20260425T004817
CREATED:20200922T051414Z
LAST-MODIFIED:20200922T051414Z
UID:14397-1602288000-1602460799@kinpoden.com
SUMMARY:「プロサッカー選手から牧師へ」
DESCRIPTION:満山浩之さん  \nメッセージ：原田憲夫牧師 \n  \n神奈川県の教会の牧師、満山浩之さんは、かつてはプロサッカー選手としてブラジルやヨーロッパのチームで活躍していました。サッカー強豪校と呼ばれる大学を卒業後プロ選手となり、現在は牧師として働きながら地域の子どもたちにサッカーを教えています。そんな満山さんに、サッカー選手時代のお話や、牧師になるまでの経緯を伺います。
URL:https://kinpoden.com/lifeline/%e3%80%8c%e3%83%97%e3%83%ad%e3%82%b5%e3%83%83%e3%82%ab%e3%83%bc%e9%81%b8%e6%89%8b%e3%81%8b%e3%82%89%e7%89%a7%e5%b8%ab%e3%81%b8%e3%80%8d-3/
CATEGORIES:テレビ「ライフライン」番組表
ATTACH;FMTTYPE=image/png:https://kinpoden.com/wp-content/uploads/2020/09/image-5.png
END:VEVENT
BEGIN:VEVENT
DTSTART;TZID=Asia/Tokyo:20201003T000000
DTEND;TZID=Asia/Tokyo:20201004T235959
DTSTAMP:20260425T004817
CREATED:20200922T051301Z
LAST-MODIFIED:20200922T051301Z
UID:14396-1601683200-1601855999@kinpoden.com
SUMMARY:「朝明けには喜びが」
DESCRIPTION:ライフ・ラインのつどい \nメッセージ：関根弘興牧師 \n  \n無観客「ライフ・ラインのつどい」の４回目。今回の「つどい」では、サックス奏者・安武玄晃さんが演奏をし、関根弘興牧師が「朝明けには喜びが」というタイトルで聖書のメッセージを語りました。そんな「つどい」の様子を紹介します。
URL:https://kinpoden.com/lifeline/%e3%80%8c%e6%9c%9d%e6%98%8e%e3%81%91%e3%81%ab%e3%81%af%e5%96%9c%e3%81%b3%e3%81%8c%e3%80%8d-3/
CATEGORIES:テレビ「ライフライン」番組表
ATTACH;FMTTYPE=image/png:https://kinpoden.com/wp-content/uploads/2020/09/image-4-e1600751569833.png
END:VEVENT
BEGIN:VEVENT
DTSTART;TZID=Asia/Tokyo:20200926T000000
DTEND;TZID=Asia/Tokyo:20200927T235959
DTSTAMP:20260425T004817
CREATED:20200822T020609Z
LAST-MODIFIED:20200822T020609Z
UID:14395-1601078400-1601251199@kinpoden.com
SUMMARY:「寄り添いの小みち・2」
DESCRIPTION:メッセージ：堀 肇牧師 \n  \n臨床パストラル・カウンセラーであり、大学でも長年教鞭をとってきた堀肇牧師による著書『寄り添いの小みち』には、心の悩みやたましいの問題についての、気づきと洞察が綴られています。この本の中から、堀肇牧師によるバイブルメッセージをお届けするとともに、絵画に造詣が深い堀牧師自身による作品も紹介します。
URL:https://kinpoden.com/lifeline/%e3%80%8c%e5%af%84%e3%82%8a%e6%b7%bb%e3%81%84%e3%81%ae%e5%b0%8f%e3%81%bf%e3%81%a1%e3%83%bb2%e3%80%8d-3/
CATEGORIES:テレビ「ライフライン」番組表
ATTACH;FMTTYPE=image/png:https://kinpoden.com/wp-content/uploads/2020/08/image-3.png
END:VEVENT
END:VCALENDAR