BEGIN:VCALENDAR
VERSION:2.0
PRODID:-//近畿福音放送伝道協力会 – 近放伝公式ウェブサイト - ECPv6.15.16//NONSGML v1.0//EN
CALSCALE:GREGORIAN
METHOD:PUBLISH
X-WR-CALNAME:近畿福音放送伝道協力会 – 近放伝公式ウェブサイト
X-ORIGINAL-URL:https://kinpoden.com
X-WR-CALDESC:近畿福音放送伝道協力会 – 近放伝公式ウェブサイト のイベント
REFRESH-INTERVAL;VALUE=DURATION:PT1H
X-Robots-Tag:noindex
X-PUBLISHED-TTL:PT1H
BEGIN:VTIMEZONE
TZID:Asia/Tokyo
BEGIN:STANDARD
TZOFFSETFROM:+0900
TZOFFSETTO:+0900
TZNAME:JST
DTSTART:20190101T000000
END:STANDARD
END:VTIMEZONE
BEGIN:VEVENT
DTSTART;TZID=Asia/Tokyo:20201128T000000
DTEND;TZID=Asia/Tokyo:20201129T235959
DTSTAMP:20260425T040744
CREATED:20201022T001718Z
LAST-MODIFIED:20201022T001718Z
UID:14404-1606521600-1606694399@kinpoden.com
SUMMARY:「日本に本物のゴスペルを届けたい」
DESCRIPTION:ケン・テイラー さん \nメッセージ：岩井基雄牧師 \n  \nゴスペルディレクターのケン・テイラーさんは、アメリカの教会で聖歌隊を指導する働きをした後、1997年に来日。以降は、日本各地で様々な音楽活動を精力的に展開してきました。2015年には日本武道館で1300人のクワイヤーを率いて熱演し、観客の心を掴みました。今回は、テイラーさんの人生を紐解くと同時に、ゴスペルについてもお話を伺います。
URL:https://kinpoden.com/lifeline/%e3%80%8c%e6%97%a5%e6%9c%ac%e3%81%ab%e6%9c%ac%e7%89%a9%e3%81%ae%e3%82%b4%e3%82%b9%e3%83%9a%e3%83%ab%e3%82%92%e5%b1%8a%e3%81%91%e3%81%9f%e3%81%84%e3%80%8d-3/
CATEGORIES:テレビ「ライフライン」番組表
ATTACH;FMTTYPE=image/png:https://kinpoden.com/wp-content/uploads/2020/10/image-13.png
END:VEVENT
BEGIN:VEVENT
DTSTART;TZID=Asia/Tokyo:20201121T000000
DTEND;TZID=Asia/Tokyo:20201122T235959
DTSTAMP:20260425T040744
CREATED:20201022T001620Z
LAST-MODIFIED:20201022T001620Z
UID:14403-1605916800-1606089599@kinpoden.com
SUMMARY:「守られて生きる」
DESCRIPTION:ライフ・ラインのつどい \nメッセージ：関根弘興牧師 \n  \n無観客「ライフ・ラインのつどい」の５回目。今回の「つどい」では、福音歌手の森祐理さんが賛美歌を歌い、関根弘興牧師が「守られて生きる」というタイトルで聖書のメッセージを語りました。そんな「つどい」の様子を紹介します。 \n  \n　
URL:https://kinpoden.com/lifeline/%e3%80%8c%e5%ae%88%e3%82%89%e3%82%8c%e3%81%a6%e7%94%9f%e3%81%8d%e3%82%8b%e3%80%8d-3/
CATEGORIES:テレビ「ライフライン」番組表
ATTACH;FMTTYPE=image/png:https://kinpoden.com/wp-content/uploads/2020/10/image-12.png
END:VEVENT
BEGIN:VEVENT
DTSTART;TZID=Asia/Tokyo:20201114T000000
DTEND;TZID=Asia/Tokyo:20201115T235959
DTSTAMP:20260425T040744
CREATED:20201022T001443Z
LAST-MODIFIED:20201022T001443Z
UID:14402-1605312000-1605484799@kinpoden.com
SUMMARY:「小さい者の一人にできること」
DESCRIPTION:山下泉美さん  \nメッセージ：原田憲夫牧師 \n  \n世界の貧困や飢餓、紛争に苦しむ子どもたちを支援する、特定非営利活動法人ワールド・ビジョン・ジャパンのスタッフ 山下泉美さんに、その活動について紹介していただくとともに、実際に支援地域を視察した時の体験や、働きの中での葛藤や喜びを伺います。また、チャイルドスポンサーとして支援に参加されている方々のお話も紹介しつつ、山下さんが支援を通して感じていることを伺います。
URL:https://kinpoden.com/lifeline/%e3%80%8c%e5%b0%8f%e3%81%95%e3%81%84%e8%80%85%e3%81%ae%e4%b8%80%e4%ba%ba%e3%81%ab%e3%81%a7%e3%81%8d%e3%82%8b%e3%81%93%e3%81%a8%e3%80%8d-3/
CATEGORIES:テレビ「ライフライン」番組表
ATTACH;FMTTYPE=image/png:https://kinpoden.com/wp-content/uploads/2020/10/image-10.png
END:VEVENT
BEGIN:VEVENT
DTSTART;TZID=Asia/Tokyo:20201107T000000
DTEND;TZID=Asia/Tokyo:20201108T235959
DTSTAMP:20260425T040744
CREATED:20201022T001341Z
LAST-MODIFIED:20201022T001341Z
UID:14401-1604707200-1604879999@kinpoden.com
SUMMARY:「明日へつなぐ歌」
DESCRIPTION:礒川道夫さん \nメッセージ：岩井基雄牧師 \n  \n11月13日に公開する映画「I CAN ONLY IMAGINE ～明日へつなぐ歌」を紹介します。この映画は、全米で250万枚以上のセールスを記録した大ヒット曲「I CAN ONLY IMAGINE（アイ・キャン・オンリー・イマジン）」の誕生物語です。父親から暴力を受け、将来に挫折した一人の青年が、どのようにこの曲を作ったのか、何が彼を変えたのか、キリストの愛と希望が描かれているこの映画について、日本でこの映画上映に尽力している礒川道夫さんにお話を伺います。
URL:https://kinpoden.com/lifeline/%e3%80%8c%e6%98%8e%e6%97%a5%e3%81%b8%e3%81%a4%e3%81%aa%e3%81%90%e6%ad%8c%e3%80%8d-3/
CATEGORIES:テレビ「ライフライン」番組表
ATTACH;FMTTYPE=image/png:https://kinpoden.com/wp-content/uploads/2020/10/image-9.png
END:VEVENT
BEGIN:VEVENT
DTSTART;TZID=Asia/Tokyo:20201031T000000
DTEND;TZID=Asia/Tokyo:20201101T235959
DTSTAMP:20260425T040744
CREATED:20201022T001235Z
LAST-MODIFIED:20201022T001235Z
UID:14400-1604102400-1604275199@kinpoden.com
SUMMARY:「牧師の読み解く般若心経・１」
DESCRIPTION:大和昌平さん \n  \n東京基督教大学の教授・副学長を務める大和昌平さんの著書『牧師の読み解く般若心経』が今年5月、新装新版として発行されました。大和さんは、牧師をしながら佛教大学で学び仏教の研究を続けてきたという、異色の経歴の持ち主です。多くの日本人に古くから親しまれている般若心経について、聖書と対比させながらわかりやすく解説していただきます。第１回は仏教と聖書の語る「空（くう）」について、東京基督教大学とリモートでつないでお話を伺います。
URL:https://kinpoden.com/lifeline/%e3%80%8c%e7%89%a7%e5%b8%ab%e3%81%ae%e8%aa%ad%e3%81%bf%e8%a7%a3%e3%81%8f%e8%88%ac%e8%8b%a5%e5%bf%83%e7%b5%8c%e3%83%bb%ef%bc%91%e3%80%8d-3/
CATEGORIES:テレビ「ライフライン」番組表
ATTACH;FMTTYPE=image/png:https://kinpoden.com/wp-content/uploads/2020/10/image-8.png
END:VEVENT
BEGIN:VEVENT
DTSTART;TZID=Asia/Tokyo:20201024T000000
DTEND;TZID=Asia/Tokyo:20201025T235959
DTSTAMP:20260425T040744
CREATED:20200922T051641Z
LAST-MODIFIED:20200922T051641Z
UID:14399-1603497600-1603670399@kinpoden.com
SUMMARY:「At The Cross  ～十字架のもとに～」
DESCRIPTION:安武玄晃さん \nメッセージ：関根弘興牧師 \n  \n今年、デビュー10周年を迎えたサックス奏者の安武玄晃さんを２週にわたって紹介します。安武さんは、「ゴスペル スムース ジャズ」という新しいジャンルを開拓したサックス奏者で、昨年、初の聖歌・讚美歌CD「At The Cross」をリリースしました。CD発売記念コンサートから演奏をお届けするとともに、このCDについて、演奏家として届けたい思い、どのようにキリスト教信仰を持ったか、また、10年の歩みなどのお話を伺います。
URL:https://kinpoden.com/lifeline/%e3%80%8cat-the-cross-%ef%bd%9e%e5%8d%81%e5%ad%97%e6%9e%b6%e3%81%ae%e3%82%82%e3%81%a8%e3%81%ab%ef%bd%9e%e3%80%8d-2-3/
CATEGORIES:テレビ「ライフライン」番組表
ATTACH;FMTTYPE=image/png:https://kinpoden.com/wp-content/uploads/2020/09/image-7.png
END:VEVENT
BEGIN:VEVENT
DTSTART;TZID=Asia/Tokyo:20201017T000000
DTEND;TZID=Asia/Tokyo:20201018T235959
DTSTAMP:20260425T040744
CREATED:20200922T051532Z
LAST-MODIFIED:20200922T051532Z
UID:14398-1602892800-1603065599@kinpoden.com
SUMMARY:「At The Cross  ～十字架のもとに～」
DESCRIPTION:安武玄晃さん \nメッセージ：岩井基雄牧師 \n  \n今年、デビュー10周年を迎えたサックス奏者の安武玄晃さんを２週にわたって紹介します。安武さんは、「ゴスペル スムース ジャズ」という新しいジャンルを開拓したサックス奏者で、昨年、初の聖歌・讚美歌CD「At The Cross」をリリースしました。CD発売記念コンサートから演奏をお届けするとともに、このCDについて、演奏家として届けたい思い、どのようにキリスト教信仰を持ったか、また、10年の歩みなどのお話を伺います。
URL:https://kinpoden.com/lifeline/%e3%80%8cat-the-cross-%ef%bd%9e%e5%8d%81%e5%ad%97%e6%9e%b6%e3%81%ae%e3%82%82%e3%81%a8%e3%81%ab%ef%bd%9e%e3%80%8d-4/
CATEGORIES:テレビ「ライフライン」番組表
ATTACH;FMTTYPE=image/png:https://kinpoden.com/wp-content/uploads/2020/09/image-6.png
END:VEVENT
BEGIN:VEVENT
DTSTART;TZID=Asia/Tokyo:20201010T000000
DTEND;TZID=Asia/Tokyo:20201011T235959
DTSTAMP:20260425T040744
CREATED:20200922T051414Z
LAST-MODIFIED:20200922T051414Z
UID:14397-1602288000-1602460799@kinpoden.com
SUMMARY:「プロサッカー選手から牧師へ」
DESCRIPTION:満山浩之さん  \nメッセージ：原田憲夫牧師 \n  \n神奈川県の教会の牧師、満山浩之さんは、かつてはプロサッカー選手としてブラジルやヨーロッパのチームで活躍していました。サッカー強豪校と呼ばれる大学を卒業後プロ選手となり、現在は牧師として働きながら地域の子どもたちにサッカーを教えています。そんな満山さんに、サッカー選手時代のお話や、牧師になるまでの経緯を伺います。
URL:https://kinpoden.com/lifeline/%e3%80%8c%e3%83%97%e3%83%ad%e3%82%b5%e3%83%83%e3%82%ab%e3%83%bc%e9%81%b8%e6%89%8b%e3%81%8b%e3%82%89%e7%89%a7%e5%b8%ab%e3%81%b8%e3%80%8d-3/
CATEGORIES:テレビ「ライフライン」番組表
ATTACH;FMTTYPE=image/png:https://kinpoden.com/wp-content/uploads/2020/09/image-5.png
END:VEVENT
BEGIN:VEVENT
DTSTART;TZID=Asia/Tokyo:20201003T000000
DTEND;TZID=Asia/Tokyo:20201004T235959
DTSTAMP:20260425T040744
CREATED:20200922T051301Z
LAST-MODIFIED:20200922T051301Z
UID:14396-1601683200-1601855999@kinpoden.com
SUMMARY:「朝明けには喜びが」
DESCRIPTION:ライフ・ラインのつどい \nメッセージ：関根弘興牧師 \n  \n無観客「ライフ・ラインのつどい」の４回目。今回の「つどい」では、サックス奏者・安武玄晃さんが演奏をし、関根弘興牧師が「朝明けには喜びが」というタイトルで聖書のメッセージを語りました。そんな「つどい」の様子を紹介します。
URL:https://kinpoden.com/lifeline/%e3%80%8c%e6%9c%9d%e6%98%8e%e3%81%91%e3%81%ab%e3%81%af%e5%96%9c%e3%81%b3%e3%81%8c%e3%80%8d-3/
CATEGORIES:テレビ「ライフライン」番組表
ATTACH;FMTTYPE=image/png:https://kinpoden.com/wp-content/uploads/2020/09/image-4-e1600751569833.png
END:VEVENT
BEGIN:VEVENT
DTSTART;TZID=Asia/Tokyo:20200926T000000
DTEND;TZID=Asia/Tokyo:20200927T235959
DTSTAMP:20260425T040744
CREATED:20200822T020609Z
LAST-MODIFIED:20200822T020609Z
UID:14395-1601078400-1601251199@kinpoden.com
SUMMARY:「寄り添いの小みち・2」
DESCRIPTION:メッセージ：堀 肇牧師 \n  \n臨床パストラル・カウンセラーであり、大学でも長年教鞭をとってきた堀肇牧師による著書『寄り添いの小みち』には、心の悩みやたましいの問題についての、気づきと洞察が綴られています。この本の中から、堀肇牧師によるバイブルメッセージをお届けするとともに、絵画に造詣が深い堀牧師自身による作品も紹介します。
URL:https://kinpoden.com/lifeline/%e3%80%8c%e5%af%84%e3%82%8a%e6%b7%bb%e3%81%84%e3%81%ae%e5%b0%8f%e3%81%bf%e3%81%a1%e3%83%bb2%e3%80%8d-3/
CATEGORIES:テレビ「ライフライン」番組表
ATTACH;FMTTYPE=image/png:https://kinpoden.com/wp-content/uploads/2020/08/image-3.png
END:VEVENT
BEGIN:VEVENT
DTSTART;TZID=Asia/Tokyo:20200919T000000
DTEND;TZID=Asia/Tokyo:20200920T235959
DTSTAMP:20260425T040744
CREATED:20200822T020501Z
LAST-MODIFIED:20200822T020501Z
UID:14394-1600473600-1600646399@kinpoden.com
SUMMARY:「夫婦で営む、街の台所・2」
DESCRIPTION:谷本安奈さん、孝輔さん \nメッセージ：岩井基雄 \n  \n東京・東久留米市にある「街のお台所 てんと点」は、落ち着いた雰囲気の店内に、どこか懐かしくてほっこりするお惣菜が並ぶデリカフェです。コロナ禍のなかにおいても、テイクアウトを中心とすることでお店は盛況です。番組では、お店を営むご夫妻、谷本安奈さんと孝輔さんから、今回は、夫の孝輔さんのお話を中心に、これまでの歩みとお店の魅力を紹介します。
URL:https://kinpoden.com/lifeline/%e3%80%8c%e5%a4%ab%e5%a9%a6%e3%81%a7%e5%96%b6%e3%82%80%e3%80%81%e8%a1%97%e3%81%ae%e5%8f%b0%e6%89%80%e3%83%bb2%e3%80%8d-3/
CATEGORIES:テレビ「ライフライン」番組表
ATTACH;FMTTYPE=image/jpeg:https://kinpoden.com/wp-content/uploads/2020/08/image-4.jpg
END:VEVENT
BEGIN:VEVENT
DTSTART;TZID=Asia/Tokyo:20200912T000000
DTEND;TZID=Asia/Tokyo:20200913T235959
DTSTAMP:20260425T040744
CREATED:20200822T020356Z
LAST-MODIFIED:20200822T020356Z
UID:14393-1599868800-1600041599@kinpoden.com
SUMMARY:「救いの岩に向かって喜び叫ぼう」
DESCRIPTION:ライフ・ラインのつどい \nメッセージ：原田憲夫 \n  \n無観客「ライフ・ラインのつどい」の３回目。今回の「つどい」では、ユーオーディア・アンサンブル（クラリネット：柳瀬洋さん、ヴァイオリン：工藤美穂さん、ピアノ：柳瀬佐和子さん）が演奏をし、原田憲夫牧師が「救いの岩に向かって喜び叫ぼう」というタイトルで聖書のメッセージを語りました。そんな「つどい」の様子を紹介します。
URL:https://kinpoden.com/lifeline/%e3%80%8c%e6%95%91%e3%81%84%e3%81%ae%e5%b2%a9%e3%81%ab%e5%90%91%e3%81%8b%e3%81%a3%e3%81%a6%e5%96%9c%e3%81%b3%e5%8f%ab%e3%81%bc%e3%81%86%e3%80%8d-3/
CATEGORIES:テレビ「ライフライン」番組表
ATTACH;FMTTYPE=image/png:https://kinpoden.com/wp-content/uploads/2020/08/image-1.png
END:VEVENT
BEGIN:VEVENT
DTSTART;TZID=Asia/Tokyo:20200905T000000
DTEND;TZID=Asia/Tokyo:20200906T235959
DTSTAMP:20260425T040744
CREATED:20200822T020247Z
LAST-MODIFIED:20200822T020247Z
UID:14392-1599264000-1599436799@kinpoden.com
SUMMARY:「グレイス・ハウス」
DESCRIPTION:石橋 憲さん  \nメッセージ：原田憲夫 \n  \n一つの住居を複数人で共有して暮らすシェアハウスが近年流行しています。今回ご紹介する「グレイス・ハウス」は、キリスト教の価値観を大切にしたシェアハウス。育った環境も考え方も異なる若者たちが、一つ屋根の下、お互いを認め合い、支え合いながら共同生活を送っています。ここでの生活は、世界中の人たちとの出会いだけではない、それ以上の価値があると代表の石橋憲さんは言います。そんな「グレイス・ハウス」の一日に密着しつつ、石橋さんにお話を伺います。
URL:https://kinpoden.com/lifeline/%e3%80%8c%e3%82%b0%e3%83%ac%e3%82%a4%e3%82%b9%e3%83%bb%e3%83%8f%e3%82%a6%e3%82%b9%e3%80%8d-3/
CATEGORIES:テレビ「ライフライン」番組表
ATTACH;FMTTYPE=image/png:https://kinpoden.com/wp-content/uploads/2020/08/image.png
END:VEVENT
BEGIN:VEVENT
DTSTART;TZID=Asia/Tokyo:20200829T000000
DTEND;TZID=Asia/Tokyo:20200830T235959
DTSTAMP:20260425T040744
CREATED:20200725T014530Z
LAST-MODIFIED:20200725T014530Z
UID:14391-1598659200-1598831999@kinpoden.com
SUMMARY:「神様と共に、一歩一歩」
DESCRIPTION:神山みささん  \nメッセージ：原田憲夫 \n  \nゴスペルフォークシンガーの神山みささんは、今年、音楽活動をスタートして20周年を迎えました。モスバーガーのクリスマスソング・コンテストでグランプリを受賞したことをきっかけに音楽活動を本格的に開始した神山さんは、その時々の思いや神様から受け取ったメッセージを歌に込めてきました。そんな神山さんに、これまでの歩み、また、新型コロナウイルスによる自粛期間に作った曲やその思いなどのお話を伺います。
URL:https://kinpoden.com/lifeline/%e3%80%8c%e7%a5%9e%e6%a7%98%e3%81%a8%e5%85%b1%e3%81%ab%e3%80%81%e4%b8%80%e6%ad%a9%e4%b8%80%e6%ad%a9%e3%80%8d-3/
CATEGORIES:テレビ「ライフライン」番組表
ATTACH;FMTTYPE=image/jpeg:https://kinpoden.com/wp-content/uploads/2020/07/image-6.jpg
END:VEVENT
BEGIN:VEVENT
DTSTART;TZID=Asia/Tokyo:20200822T000000
DTEND;TZID=Asia/Tokyo:20200823T235959
DTSTAMP:20260425T040744
CREATED:20200725T014429Z
LAST-MODIFIED:20200725T014429Z
UID:14390-1598054400-1598227199@kinpoden.com
SUMMARY:「人生の旅をキリストと共に」
DESCRIPTION:ライフ・ラインのつどい \nメッセージ：岩井基雄 \n  \n無観客「ライフ・ラインのつどい」の２回目。今回の「つどい」では、ゴスペルフォークシンガーの神山みささんが歌を歌い、岩井基雄牧師が「人生の旅をキリストと共に」というタイトルで聖書のメッセージを語りました。そんな「つどい」の様子を紹介します。
URL:https://kinpoden.com/lifeline/%e3%80%8c%e4%ba%ba%e7%94%9f%e3%81%ae%e6%97%85%e3%82%92%e3%82%ad%e3%83%aa%e3%82%b9%e3%83%88%e3%81%a8%e5%85%b1%e3%81%ab%e3%80%8d-3/
CATEGORIES:テレビ「ライフライン」番組表
ATTACH;FMTTYPE=image/jpeg:https://kinpoden.com/wp-content/uploads/2020/07/image-7.jpg
END:VEVENT
BEGIN:VEVENT
DTSTART;TZID=Asia/Tokyo:20200815T000000
DTEND;TZID=Asia/Tokyo:20200816T235959
DTSTAMP:20260425T040744
CREATED:20200725T014321Z
LAST-MODIFIED:20200725T014321Z
UID:14389-1597449600-1597622399@kinpoden.com
SUMMARY:「寄り添いの小みち・１」
DESCRIPTION:メッセージ：堀 肇 \n  \n臨床パストラル・カウンセラーで大学でも長年教鞭をとってきた堀肇牧師による著書『寄り添いの小みち』が昨年出版されました。この本は、心の悩み、たましいの問題について、著者が自分の心に向き合い、祈りと黙想と思索をするなかでの気づきと洞察が綴られた本です。この本から、私たちの心に寄り添う言葉や、今、コロナ禍にあって疲弊してしいる多くの人の心を癒やすヒントについて、また聖書からの励ましのメッセージを堀肇牧師が語ります。
URL:https://kinpoden.com/lifeline/%e3%80%8c%e5%af%84%e3%82%8a%e6%b7%bb%e3%81%84%e3%81%ae%e5%b0%8f%e3%81%bf%e3%81%a1%e3%83%bb%ef%bc%91%e3%80%8d-3/
CATEGORIES:テレビ「ライフライン」番組表
ATTACH;FMTTYPE=image/jpeg:https://kinpoden.com/wp-content/uploads/2020/07/image-5.jpg
END:VEVENT
BEGIN:VEVENT
DTSTART;TZID=Asia/Tokyo:20200808T000000
DTEND;TZID=Asia/Tokyo:20200809T235959
DTSTAMP:20260425T040744
CREATED:20200725T014223Z
LAST-MODIFIED:20200725T014223Z
UID:14388-1596844800-1597017599@kinpoden.com
SUMMARY:「夫婦で営む、街の台所」
DESCRIPTION:谷本安奈さん、孝輔さん   \nメッセージ：原田憲夫 \n  \n東京・東久留米にある「街のお台所 てんと点」は、落ち着いた雰囲気の店内に、どこか懐かしくてほっこりするお惣菜が並ぶデリカフェです。コロナ禍のなかにおいても、テイクアウトを中心とすることでお店は盛況です。番組では、お店を営むご夫妻、谷本安奈さんと孝輔さんから、奥様の安奈さんのお話を中心に、これまでの歩みと、お店の魅力を紹介します。
URL:https://kinpoden.com/lifeline/%e3%80%8c%e5%a4%ab%e5%a9%a6%e3%81%a7%e5%96%b6%e3%82%80%e3%80%81%e8%a1%97%e3%81%ae%e5%8f%b0%e6%89%80%e3%80%8d-3/
CATEGORIES:テレビ「ライフライン」番組表
ATTACH;FMTTYPE=image/jpeg:https://kinpoden.com/wp-content/uploads/2020/07/image-4.jpg
END:VEVENT
BEGIN:VEVENT
DTSTART;TZID=Asia/Tokyo:20200801T000000
DTEND;TZID=Asia/Tokyo:20200802T235959
DTSTAMP:20260425T040744
CREATED:20200725T014124Z
LAST-MODIFIED:20200725T014124Z
UID:14387-1596240000-1596412799@kinpoden.com
SUMMARY:「イエス・キリストの生涯をたどる旅」
DESCRIPTION:イスラエルシリーズ \nメッセージ：原田憲夫 \n  \nシリーズでお届けしている「イエス・キリストの生涯をたどる旅」。このシリーズでは、福音歌手の森祐理さんが聖書の記述をたどりながらイエス・キリストが実際に生まれ育ち、活動したイスラエルの町々を訪ねます。今回は、イスラエルの南部から北部へと旅をし、地理や歴史についても紹介していきます。
URL:https://kinpoden.com/lifeline/%e3%80%8c%e3%82%a4%e3%82%a8%e3%82%b9%e3%83%bb%e3%82%ad%e3%83%aa%e3%82%b9%e3%83%88%e3%81%ae%e7%94%9f%e6%b6%af%e3%82%92%e3%81%9f%e3%81%a9%e3%82%8b%e6%97%85%e3%80%8d-9-3/
CATEGORIES:テレビ「ライフライン」番組表
ATTACH;FMTTYPE=image/jpeg:https://kinpoden.com/wp-content/uploads/2020/07/image-2.jpg
END:VEVENT
BEGIN:VEVENT
DTSTART;TZID=Asia/Tokyo:20200725T000000
DTEND;TZID=Asia/Tokyo:20200726T235959
DTSTAMP:20260425T040744
CREATED:20200621T062516Z
LAST-MODIFIED:20200621T062516Z
UID:14386-1595635200-1595807999@kinpoden.com
SUMMARY:「宣教師フロイスが記した明智光秀と細川ガラシャ・３  〜愛と赦しの物語〜」
DESCRIPTION:ライフ・ラインのつどい \nメッセージ：岩井基雄 \n  \n今年出版された『宣教師フロイスが記した明智光秀と細川ガラシャ』という本の著者、守部喜雅さんをスタジオに迎えてお話を伺います。細川ガラシャの死後に生まれ現代まで紡がれてきた物語とは何か、また、戦国の世にキリシタンによって歴史に刻まれたという「愛と赦しの物語」について、語っていただきます。
URL:https://kinpoden.com/lifeline/%e3%80%8c%e5%ae%a3%e6%95%99%e5%b8%ab%e3%83%95%e3%83%ad%e3%82%a4%e3%82%b9%e3%81%8c%e8%a8%98%e3%81%97%e3%81%9f%e6%98%8e%e6%99%ba%e5%85%89%e7%a7%80%e3%81%a8%e7%b4%b0%e5%b7%9d%e3%82%ac%e3%83%a9%e3%82%b7-9/
CATEGORIES:テレビ「ライフライン」番組表
ATTACH;FMTTYPE=image/jpeg:https://kinpoden.com/wp-content/uploads/2020/06/image-3.jpg
END:VEVENT
BEGIN:VEVENT
DTSTART;TZID=Asia/Tokyo:20200718T000000
DTEND;TZID=Asia/Tokyo:20200719T235959
DTSTAMP:20260425T040744
CREATED:20200621T062353Z
LAST-MODIFIED:20200621T062353Z
UID:14385-1595030400-1595203199@kinpoden.com
SUMMARY:「悲しみの意味と神の招き」
DESCRIPTION:ライフ・ラインのつどい \nメッセージ：岩井基雄 \n  \n先日、無観客で「ライフ・ラインのつどい」を行いました。つどいでは、ミュージカルの舞台で活躍するバリトンの野村光洋さんが歌を歌い、岩井基雄牧師が「悲しみの意味と神の招き」というタイトルで聖書のメッセージを語りました。そんな「つどい」の様子を紹介します。
URL:https://kinpoden.com/lifeline/%e3%80%8c%e6%82%b2%e3%81%97%e3%81%bf%e3%81%ae%e6%84%8f%e5%91%b3%e3%81%a8%e7%a5%9e%e3%81%ae%e6%8b%9b%e3%81%8d%e3%80%8d-3/
CATEGORIES:テレビ「ライフライン」番組表
ATTACH;FMTTYPE=image/jpeg:https://kinpoden.com/wp-content/uploads/2020/06/image-2.jpg
END:VEVENT
BEGIN:VEVENT
DTSTART;TZID=Asia/Tokyo:20200711T000000
DTEND;TZID=Asia/Tokyo:20200712T235959
DTSTAMP:20260425T040744
CREATED:20200621T062245Z
LAST-MODIFIED:20200621T062245Z
UID:14384-1594425600-1594598399@kinpoden.com
SUMMARY:「心に届く、希望の歌」
DESCRIPTION:Migiwaさん  \nメッセージ：原田憲夫 \n  \nゴスペル・シンガーソングライターのMigiwaさん。幼少期から教会の聖歌隊などで音楽に親しみ、本場アメリカのゴスペルを聴き感銘を受け、音楽活動を開始します。多くのCDのリリースや全国を回るライブなど精力的に活動するも、この春コロナウイルスの影響で多くのコンサートがキャンセルになったといいます。ご本人の活動に加え、経済的危機にあるキャンプ場を支援する働きで始まった「Pray it Forward」の活動も紹介します。
URL:https://kinpoden.com/lifeline/%e3%80%8c%e5%bf%83%e3%81%ab%e5%b1%8a%e3%81%8f%e3%80%81%e5%b8%8c%e6%9c%9b%e3%81%ae%e6%ad%8c%e3%80%8d-3/
CATEGORIES:テレビ「ライフライン」番組表
ATTACH;FMTTYPE=image/jpeg:https://kinpoden.com/wp-content/uploads/2020/06/image-1.jpg
END:VEVENT
BEGIN:VEVENT
DTSTART;TZID=Asia/Tokyo:20200704T000000
DTEND;TZID=Asia/Tokyo:20200705T235959
DTSTAMP:20260425T040744
CREATED:20200621T062141Z
LAST-MODIFIED:20200621T062141Z
UID:14383-1593820800-1593993599@kinpoden.com
SUMMARY:「イエス・キリストの生涯をたどる旅」
DESCRIPTION:イスラエルシリーズ \nメッセージ：岩井基雄 \n  \nシリーズでお届けしている「イエス・キリストの生涯をたどる旅」。このシリーズでは、福音歌手の森祐理さんが聖書の記述をたどりながらイエス・キリストが実際に生まれ育ち、活動したイスラエルの町々を訪ねます。今回は、十字架につけられたイエス・キリストが復活し、天に帰るまでを紹介します。
URL:https://kinpoden.com/lifeline/%e3%80%8c%e3%82%a4%e3%82%a8%e3%82%b9%e3%83%bb%e3%82%ad%e3%83%aa%e3%82%b9%e3%83%88%e3%81%ae%e7%94%9f%e6%b6%af%e3%82%92%e3%81%9f%e3%81%a9%e3%82%8b%e6%97%85%e3%80%8d-8-3/
CATEGORIES:テレビ「ライフライン」番組表
ATTACH;FMTTYPE=image/jpeg:https://kinpoden.com/wp-content/uploads/2020/06/image.jpg
END:VEVENT
BEGIN:VEVENT
DTSTART;TZID=Asia/Tokyo:20200627T000000
DTEND;TZID=Asia/Tokyo:20200628T235959
DTSTAMP:20260425T040744
CREATED:20200521T005545Z
LAST-MODIFIED:20200521T005545Z
UID:14382-1593216000-1593388799@kinpoden.com
SUMMARY:「生かされて」
DESCRIPTION:工藤真史さん  \nメッセージ：岩井基雄 \n  \n今年の１月に天国に旅立ったピアニストの工藤真史さんを紹介します。工藤さんは４歳でピアノを始め、神戸女学院大学音楽学部ピアノ科、同大学院音楽専攻科に進みます。卒業後はドイツに留学し、複数の大学で研鑽を積むかたわら、演奏活動を展開、高い評価を得るようになりました。そんななか、2012年に直腸癌を、翌年には追い打ちをかけるように乳癌、そして2017年には肺への転移を宣告されました。2015年からは治療を続けながら演奏活動を続けていましたが、2020年１月に天国へ旅立ちました。2018年に東京で行われたコンサートから演奏をお届けするとともに、「与えられた試練から、命の尊さ、生きる喜びをピアノの演奏を通して伝えたい」と語っていた工藤さんの思いを紹介します。
URL:https://kinpoden.com/lifeline/%e3%80%8c%e7%94%9f%e3%81%8b%e3%81%95%e3%82%8c%e3%81%a6%e3%80%8d-4/
CATEGORIES:テレビ「ライフライン」番組表
ATTACH;FMTTYPE=image/jpeg:https://kinpoden.com/wp-content/uploads/2020/05/1589378185.jpg
END:VEVENT
BEGIN:VEVENT
DTSTART;TZID=Asia/Tokyo:20200620T000000
DTEND;TZID=Asia/Tokyo:20200621T235959
DTSTAMP:20260425T040744
CREATED:20200521T005418Z
LAST-MODIFIED:20200521T005418Z
UID:14381-1592611200-1592783999@kinpoden.com
SUMMARY:「小さな門につづく道」
DESCRIPTION:みなみ ななみさん  \nメッセージ：原田憲夫  \n  \n「ライフ・ライン」のオープニングの絵を手掛けたイラストレーターのみなみななみさんを紹介します。みなみさんはこれまでに、イラストルポや漫画、聖書のことばをモチーフにした本などを多数、発表しています。絵や制作の様子を紹介するとともに、作品への思い、また、ご自身のことについてなどのお話を伺います。
URL:https://kinpoden.com/lifeline/%e3%80%8c%e5%b0%8f%e3%81%95%e3%81%aa%e9%96%80%e3%81%ab%e3%81%a4%e3%81%a5%e3%81%8f%e9%81%93%e3%80%8d-3/
CATEGORIES:テレビ「ライフライン」番組表
ATTACH;FMTTYPE=image/jpeg:https://kinpoden.com/wp-content/uploads/2020/05/1589377680.jpg
END:VEVENT
BEGIN:VEVENT
DTSTART;TZID=Asia/Tokyo:20200613T000000
DTEND;TZID=Asia/Tokyo:20200614T235959
DTSTAMP:20260425T040744
CREATED:20200521T005310Z
LAST-MODIFIED:20200521T005310Z
UID:14380-1592006400-1592179199@kinpoden.com
SUMMARY:「自然の恵みの中で描く」
DESCRIPTION: 関口正人さん  \nメッセージ：岩井基雄  \n  \n群馬県高崎市在住の画家でキリスト教会の牧師・関口正人さんを紹介します。関口さんは、子どもの頃から画を描くことが好きで、美術専門学校の講師を経て、絵画教室を開きながら、風景画を描く画家として活躍しています。また、関口さんは、中学生の頃、ささいなことからいじめを受け、その悩みのなかでキリスト教会に通うようになり、神様の愛を知って生きる希望を持てるようになりました。そんな体験談とともに、自然の中で画を描く恵みについて、お話を伺います。
URL:https://kinpoden.com/lifeline/%e3%80%8c%e8%87%aa%e7%84%b6%e3%81%ae%e6%81%b5%e3%81%bf%e3%81%ae%e4%b8%ad%e3%81%a7%e6%8f%8f%e3%81%8f%e3%80%8d-2-3/
CATEGORIES:テレビ「ライフライン」番組表
ATTACH;FMTTYPE=image/jpeg:https://kinpoden.com/wp-content/uploads/2020/05/1589419851.jpg
END:VEVENT
BEGIN:VEVENT
DTSTART;TZID=Asia/Tokyo:20200606T000000
DTEND;TZID=Asia/Tokyo:20200607T235959
DTSTAMP:20260425T040744
CREATED:20200521T005158Z
LAST-MODIFIED:20200521T005158Z
UID:14379-1591401600-1591574399@kinpoden.com
SUMMARY:「イエス・キリストの生涯をたどる旅」
DESCRIPTION:イスラエルシリーズ \nメッセージ：原田憲夫  \n  \nシリーズでお届けしている「イエス・キリストの生涯をたどる旅」。このシリーズでは、福音歌手の森祐理さんが聖書の記述をたどりながらイエス・キリストが実際に生まれ育ち、活動したイスラエルの町々を訪ねます。今回は、ゲツセマネの園で捕らえられたイエス・キリストが十字架につけられるまでの足跡を紹介します。
URL:https://kinpoden.com/lifeline/%e3%80%8c%e3%82%a4%e3%82%a8%e3%82%b9%e3%83%bb%e3%82%ad%e3%83%aa%e3%82%b9%e3%83%88%e3%81%ae%e7%94%9f%e6%b6%af%e3%82%92%e3%81%9f%e3%81%a9%e3%82%8b%e6%97%85%e3%80%8d-7-3/
CATEGORIES:テレビ「ライフライン」番組表
ATTACH;FMTTYPE=image/jpeg:https://kinpoden.com/wp-content/uploads/2020/05/1589376135.jpg
END:VEVENT
BEGIN:VEVENT
DTSTART;TZID=Asia/Tokyo:20200530T000000
DTEND;TZID=Asia/Tokyo:20200531T235959
DTSTAMP:20260425T040744
CREATED:20200419T000151Z
LAST-MODIFIED:20200419T000151Z
UID:14378-1590796800-1590969599@kinpoden.com
SUMMARY:「旅人よ、天の故郷を目指せよ！」
DESCRIPTION:ライフ・ラインのつどい in 沖縄 \nメッセージ：原田憲夫  \n  \n昨年の秋、沖縄県豊見城市のキリスト教会で「ライフ・ラインのつどい」を行いました。つどいでは、沖縄で活躍するゴスペルシンガーがオリジナルの歌を歌い、原田憲夫牧師が「旅人よ、天の故郷を目指せよ！」というタイトルで聖書のメッセージを語りました。そんな「つどい」の様子を紹介します。
URL:https://kinpoden.com/lifeline/%e3%80%8c%e6%97%85%e4%ba%ba%e3%82%88%e3%80%81%e5%a4%a9%e3%81%ae%e6%95%85%e9%83%b7%e3%82%92%e7%9b%ae%e6%8c%87%e3%81%9b%e3%82%88%ef%bc%81%e3%80%8d-3/
CATEGORIES:テレビ「ライフライン」番組表
ATTACH;FMTTYPE=image/jpeg:https://kinpoden.com/wp-content/uploads/2020/04/1586154516.jpg
END:VEVENT
BEGIN:VEVENT
DTSTART;TZID=Asia/Tokyo:20200523T000000
DTEND;TZID=Asia/Tokyo:20200524T235959
DTSTAMP:20260425T040744
CREATED:20200419T000033Z
LAST-MODIFIED:20200419T000033Z
UID:14377-1590192000-1590364799@kinpoden.com
SUMMARY:「宣教師フロイスが記した明智光秀と細川ガラシャ・２」
DESCRIPTION:守部喜雅さん  \nメッセージ：岩井基雄 \n  \n『サムライウーマン新島八重』『西郷隆盛と聖書』など、「聖書を呼んだサムライたち」というシリーズで多数の著作を持つジャーナリストの守部喜雅さんが、今年、『宣教師フロイスが記した明智光秀と細川ガラシャ』という本を出版しました。戦国時代に来日した宣教師たちが日本人に与えたもの、また明智光秀の娘で、時代に翻弄されながらもキリシタンとして気高く信仰を貫いた女性として知られる細川ガラシャの生き方について、２回にわたって守部さんにお話を伺います。
URL:https://kinpoden.com/lifeline/%e3%80%8c%e5%ae%a3%e6%95%99%e5%b8%ab%e3%83%95%e3%83%ad%e3%82%a4%e3%82%b9%e3%81%8c%e8%a8%98%e3%81%97%e3%81%9f%e6%98%8e%e6%99%ba%e5%85%89%e7%a7%80%e3%81%a8%e7%b4%b0%e5%b7%9d%e3%82%ac%e3%83%a9%e3%82%b7-8/
CATEGORIES:テレビ「ライフライン」番組表
ATTACH;FMTTYPE=image/jpeg:https://kinpoden.com/wp-content/uploads/2020/04/1586151910.jpg
END:VEVENT
BEGIN:VEVENT
DTSTART;TZID=Asia/Tokyo:20200516T000000
DTEND;TZID=Asia/Tokyo:20200517T235959
DTSTAMP:20260425T040744
CREATED:20200418T235924Z
LAST-MODIFIED:20200418T235924Z
UID:14376-1589587200-1589759999@kinpoden.com
SUMMARY:「宣教師フロイスが記した明智光秀と細川ガラシャ・１」
DESCRIPTION:守部喜雅さん  \nメッセージ：岩井基雄 \n  \n『サムライウーマン新島八重』『西郷隆盛と聖書』など、「聖書を呼んだサムライたち」というシリーズで多数の著作を持つジャーナリストの守部喜雅さんが、今年、『宣教師フロイスが記した明智光秀と細川ガラシャ』という本を出版しました。戦国時代に来日した宣教師たちが日本人に与えたもの、また明智光秀の娘で、時代に翻弄されながらもキリシタンとして気高く信仰を貫いた女性として知られる細川ガラシャの生き方について、２回にわたって守部さんにお話を伺います。
URL:https://kinpoden.com/lifeline/%e3%80%8c%e5%ae%a3%e6%95%99%e5%b8%ab%e3%83%95%e3%83%ad%e3%82%a4%e3%82%b9%e3%81%8c%e8%a8%98%e3%81%97%e3%81%9f%e6%98%8e%e6%99%ba%e5%85%89%e7%a7%80%e3%81%a8%e7%b4%b0%e5%b7%9d%e3%82%ac%e3%83%a9%e3%82%b7-7/
CATEGORIES:テレビ「ライフライン」番組表
ATTACH;FMTTYPE=image/jpeg:https://kinpoden.com/wp-content/uploads/2020/04/1586151910.jpg
END:VEVENT
BEGIN:VEVENT
DTSTART;TZID=Asia/Tokyo:20200509T000000
DTEND;TZID=Asia/Tokyo:20200510T235959
DTSTAMP:20260425T040744
CREATED:20200418T235817Z
LAST-MODIFIED:20200418T235817Z
UID:14375-1588982400-1589155199@kinpoden.com
SUMMARY:「amie（アミー）工房」
DESCRIPTION:井上幸子さん \nメッセージ：原田憲夫   \n  \n北海道旭川市にあるランチとケーキの店「amie（アミー）工房」を紹介します。オーナーの井上幸子さんはピアニストで、教室を開いていた時の教え子が通うゴスペルクワイアに参加し、メンバーとして歌うなかで、キリスト教の信仰を持ちました。「amie」はフランス語で「友達」という意味で、井上さんはこの店を、多くの人が集い、癒される場所にしたいと願っています。お店の様子を紹介するとともに、井上さんにお話を伺います。
URL:https://kinpoden.com/lifeline/%e3%80%8camie%ef%bc%88%e3%82%a2%e3%83%9f%e3%83%bc%ef%bc%89%e5%b7%a5%e6%88%bf%e3%80%8d-2-3/
CATEGORIES:テレビ「ライフライン」番組表
ATTACH;FMTTYPE=image/jpeg:https://kinpoden.com/wp-content/uploads/2020/04/1586151652.jpg
END:VEVENT
END:VCALENDAR