BEGIN:VCALENDAR
VERSION:2.0
PRODID:-//近畿福音放送伝道協力会 – 近放伝公式ウェブサイト - ECPv6.15.16//NONSGML v1.0//EN
CALSCALE:GREGORIAN
METHOD:PUBLISH
X-WR-CALNAME:近畿福音放送伝道協力会 – 近放伝公式ウェブサイト
X-ORIGINAL-URL:https://kinpoden.com
X-WR-CALDESC:近畿福音放送伝道協力会 – 近放伝公式ウェブサイト のイベント
REFRESH-INTERVAL;VALUE=DURATION:PT1H
X-Robots-Tag:noindex
X-PUBLISHED-TTL:PT1H
BEGIN:VTIMEZONE
TZID:Asia/Tokyo
BEGIN:STANDARD
TZOFFSETFROM:+0900
TZOFFSETTO:+0900
TZNAME:JST
DTSTART:20180101T000000
END:STANDARD
END:VTIMEZONE
BEGIN:VEVENT
DTSTART;TZID=Asia/Tokyo:20200502T000000
DTEND;TZID=Asia/Tokyo:20200503T235959
DTSTAMP:20260425T090522
CREATED:20200418T235703Z
LAST-MODIFIED:20200418T235703Z
UID:14374-1588377600-1588550399@kinpoden.com
SUMMARY:「イエス・キリストの生涯をたどる旅」
DESCRIPTION:イスラエルシリーズ \nメッセージ：岩井基雄 \n  \nシリーズでお届けしている「イエス・キリストの生涯をたどる旅」。このシリーズでは、福音歌手の森祐理さんが聖書の記述をたどりながらイエス・キリストが実際に生まれ育ち、活動したイスラエルの町々を訪ねます。今回は、エルサレムからイエス・キリストがゲツセマネの園で捕らえられるまでの足跡を紹介します。
URL:https://kinpoden.com/lifeline/%e3%80%8c%e3%82%a4%e3%82%a8%e3%82%b9%e3%83%bb%e3%82%ad%e3%83%aa%e3%82%b9%e3%83%88%e3%81%ae%e7%94%9f%e6%b6%af%e3%82%92%e3%81%9f%e3%81%a9%e3%82%8b%e6%97%85%e3%80%8d-6-3/
CATEGORIES:テレビ「ライフライン」番組表
ATTACH;FMTTYPE=image/jpeg:https://kinpoden.com/wp-content/uploads/2020/04/1586151354.jpg
END:VEVENT
BEGIN:VEVENT
DTSTART;TZID=Asia/Tokyo:20200425T000000
DTEND;TZID=Asia/Tokyo:20200426T235959
DTSTAMP:20260425T090522
CREATED:20200319T005604Z
LAST-MODIFIED:20200319T005604Z
UID:14373-1587772800-1587945599@kinpoden.com
SUMMARY:「あなたは愛されるために生まれた」
DESCRIPTION:矢野牧子さん \nメッセージ：原田憲夫 \n  \n東京都町田市にある児童養護施設「バット博士記念ホーム」には様々な事情で親と暮らすことのできない子どもたちが一緒に生活しています。家庭的な環境で養育することを大切にしているこのホームでは、職員も施設に住み込み、生活を共にするなかで「すべての人は愛されるために生まれた」ことを子どもたちに伝えています。番組では、矢野牧子さんからホームについて、またご本人の信仰についてお話を伺います。
URL:https://kinpoden.com/lifeline/%e3%80%8c%e3%81%82%e3%81%aa%e3%81%9f%e3%81%af%e6%84%9b%e3%81%95%e3%82%8c%e3%82%8b%e3%81%9f%e3%82%81%e3%81%ab%e7%94%9f%e3%81%be%e3%82%8c%e3%81%9f%e3%80%8d-3/
CATEGORIES:テレビ「ライフライン」番組表
ATTACH;FMTTYPE=image/jpeg:https://kinpoden.com/wp-content/uploads/2020/03/1583988793.jpg
END:VEVENT
BEGIN:VEVENT
DTSTART;TZID=Asia/Tokyo:20200418T000000
DTEND;TZID=Asia/Tokyo:20200419T235959
DTSTAMP:20260425T090522
CREATED:20200319T005510Z
LAST-MODIFIED:20200319T005510Z
UID:14372-1587168000-1587340799@kinpoden.com
SUMMARY:「カフェで紡ぐ親子の絆」
DESCRIPTION:波戸場ハンナさん  \nメッセージ：岩井基雄 \n  \n東京・吉祥寺で「ホサナカフェ」を営む波戸場ハンナさん。母親の夢だったカフェの開業を実現させ、今年で５年目を迎えるこのお店は、こだわりのコーヒーや無添加で作られたスイーツが自慢です。開業までには、幾多の困難があり、キリスト教の教えを守る両親の助けがあったといいます。波戸場さんのこれまでの歩みとカフェの魅力を紹介します。
URL:https://kinpoden.com/lifeline/%e3%80%8c%e3%82%ab%e3%83%95%e3%82%a7%e3%81%a7%e7%b4%a1%e3%81%90%e8%a6%aa%e5%ad%90%e3%81%ae%e7%b5%86%e3%80%8d-3/
CATEGORIES:テレビ「ライフライン」番組表
ATTACH;FMTTYPE=image/jpeg:https://kinpoden.com/wp-content/uploads/2020/03/1583989562.jpg
END:VEVENT
BEGIN:VEVENT
DTSTART;TZID=Asia/Tokyo:20200411T000000
DTEND;TZID=Asia/Tokyo:20200412T235959
DTSTAMP:20260425T090522
CREATED:20200319T005343Z
LAST-MODIFIED:20200319T005343Z
UID:14371-1586563200-1586735999@kinpoden.com
SUMMARY:「あの傷があなたの人生を変える」
DESCRIPTION:イースター番組 \nメッセージ：原田憲夫 \n  \nキリストの復活を記念してお祝いするイースター（復活祭）。今回は、番組のバイブルコーナーを担当する原田憲夫牧師が、千葉県船橋市にあるキリスト教会で語ったイースターメッセージ「あの傷があなたの人生を変える」をお届けします。また、会場教会の聖歌隊による賛美歌もお楽しみください。
URL:https://kinpoden.com/lifeline/%e3%80%8c%e3%81%82%e3%81%ae%e5%82%b7%e3%81%8c%e3%81%82%e3%81%aa%e3%81%9f%e3%81%ae%e4%ba%ba%e7%94%9f%e3%82%92%e5%a4%89%e3%81%88%e3%82%8b%e3%80%8d-2-3/
CATEGORIES:テレビ「ライフライン」番組表
ATTACH;FMTTYPE=image/jpeg:https://kinpoden.com/wp-content/uploads/2020/03/1583988384.jpg
END:VEVENT
BEGIN:VEVENT
DTSTART;TZID=Asia/Tokyo:20200404T000000
DTEND;TZID=Asia/Tokyo:20200405T235959
DTSTAMP:20260425T090522
CREATED:20200319T005234Z
LAST-MODIFIED:20200319T005234Z
UID:14370-1585958400-1586131199@kinpoden.com
SUMMARY:「イエス・キリストの生涯をたどる旅」
DESCRIPTION:イスラエルシリーズ \nメッセージ：原田憲夫 \n  \nシリーズでお届けしている「イエス・キリストの生涯をたどる旅」。このシリーズでは、福音歌手の森祐理さんが聖書の記述をたどりながらイエス・キリストが実際に生まれ育ち、活動したイスラエルの町々を訪ねます。今回は、イエス・キリストの宣教活動と教えにスポットを当てて紹介します。
URL:https://kinpoden.com/lifeline/%e3%80%8c%e3%82%a4%e3%82%a8%e3%82%b9%e3%83%bb%e3%82%ad%e3%83%aa%e3%82%b9%e3%83%88%e3%81%ae%e7%94%9f%e6%b6%af%e3%82%92%e3%81%9f%e3%81%a9%e3%82%8b%e6%97%85%e3%80%8d-5-3/
CATEGORIES:テレビ「ライフライン」番組表
ATTACH;FMTTYPE=image/jpeg:https://kinpoden.com/wp-content/uploads/2020/03/1583988095.jpg
END:VEVENT
BEGIN:VEVENT
DTSTART;TZID=Asia/Tokyo:20200328T000000
DTEND;TZID=Asia/Tokyo:20200329T235959
DTSTAMP:20260425T090522
CREATED:20200229T003557Z
LAST-MODIFIED:20200229T003557Z
UID:14369-1585353600-1585526399@kinpoden.com
SUMMARY:「見よ、この人を」
DESCRIPTION:ライフ・ラインのつどい in 群馬 \nメッセージ：関根弘興 \n  \n昨年秋に群馬県前橋市のキリスト教会で「ライフ・ラインのつどい」を行いました。つどいでは、救世軍ジャパン・スタッフ・バンドが演奏をし、関根弘興牧師が「見よ、この人を」というタイトルで聖書のメッセージを語りました。そんな「つどい」の様子を紹介します。
URL:https://kinpoden.com/lifeline/%e3%80%8c%e8%a6%8b%e3%82%88%e3%80%81%e3%81%93%e3%81%ae%e4%ba%ba%e3%82%92%e3%80%8d-3/
CATEGORIES:テレビ「ライフライン」番組表
ATTACH;FMTTYPE=image/jpeg:https://kinpoden.com/wp-content/uploads/2020/02/1581645753.jpg
END:VEVENT
BEGIN:VEVENT
DTSTART;TZID=Asia/Tokyo:20200321T000000
DTEND;TZID=Asia/Tokyo:20200322T235959
DTSTAMP:20260425T090522
CREATED:20200229T003444Z
LAST-MODIFIED:20200229T003444Z
UID:14368-1584748800-1584921599@kinpoden.com
SUMMARY:「神の愛によって」
DESCRIPTION:長谷川良子さん  \nメッセージ：原田憲夫 \n  \n神奈川県相模原市に住む長谷川良子さんは、チョークアート、手描きPOPなどを手掛ける一般社団法人「ぱすてるPOP」の代表を務め、手描きのPOPを制作するとともに、 プロの制作者・指導者を養成するコースや趣味や子ども対象の教室も開いています。そんな長谷川さんは、中学生の時にクラスメートに誘われてキリスト教会へ行ったことをきっかけで、クリスチャンになりました。長谷川さんの活動や作品を紹介するとともにお話を伺います。
URL:https://kinpoden.com/lifeline/%e3%80%8c%e7%a5%9e%e3%81%ae%e6%84%9b%e3%81%ab%e3%82%88%e3%81%a3%e3%81%a6%e3%80%8d-3/
CATEGORIES:テレビ「ライフライン」番組表
ATTACH;FMTTYPE=image/jpeg:https://kinpoden.com/wp-content/uploads/2020/02/1581645350.jpg
END:VEVENT
BEGIN:VEVENT
DTSTART;TZID=Asia/Tokyo:20200314T000000
DTEND;TZID=Asia/Tokyo:20200315T235959
DTSTAMP:20260425T090522
CREATED:20200229T003336Z
LAST-MODIFIED:20200229T003336Z
UID:14367-1584144000-1584316799@kinpoden.com
SUMMARY:「イエス・キリストの生涯をたどる旅」
DESCRIPTION:イスラエル シリーズ \n「イエス・キリストの生涯をたどる旅」  \nメッセージ：岩井基雄 \n  \nシリーズでお届けしている「イエス・キリストの生涯をたどる旅」。このシリーズでは、福音歌手の森祐理さんが聖書の記述をたどりながらイエス・キリストが実際に生まれ育ち、活動したイスラエルの町々を訪ねます。今回は、イエス・キリストが福音を宣べ伝え、数々の奇跡を行ったガリラヤ湖畔の町を訪ね、その足跡を再び紹介します。
URL:https://kinpoden.com/lifeline/%e3%80%8c%e3%82%a4%e3%82%a8%e3%82%b9%e3%83%bb%e3%82%ad%e3%83%aa%e3%82%b9%e3%83%88%e3%81%ae%e7%94%9f%e6%b6%af%e3%82%92%e3%81%9f%e3%81%a9%e3%82%8b%e6%97%85%e3%80%8d-4-3/
CATEGORIES:テレビ「ライフライン」番組表
ATTACH;FMTTYPE=image/jpeg:https://kinpoden.com/wp-content/uploads/2020/02/1581645055.jpg
END:VEVENT
BEGIN:VEVENT
DTSTART;TZID=Asia/Tokyo:20200307T000000
DTEND;TZID=Asia/Tokyo:20200308T235959
DTSTAMP:20260425T090522
CREATED:20200229T003231Z
LAST-MODIFIED:20200229T003231Z
UID:14366-1583539200-1583711999@kinpoden.com
SUMMARY:「主のまなざし」
DESCRIPTION:ライフ・ラインのつどい in 滋賀 \nメッセージ：関根弘興 \n  \n昨年秋に滋賀県彦根市のキリスト教会で「ライフ・ラインのつどい」を行いました。つどいでは、サックス奏者の安武玄晃さんが演奏をし、関根弘興牧師が「主のまなざし」というタイトルで聖書のメッセージを語りました。そんな「つどい」の様子を紹介します。
URL:https://kinpoden.com/lifeline/%e3%80%8c%e4%b8%bb%e3%81%ae%e3%81%be%e3%81%aa%e3%81%96%e3%81%97%e3%80%8d-3/
CATEGORIES:テレビ「ライフライン」番組表
ATTACH;FMTTYPE=image/jpeg:https://kinpoden.com/wp-content/uploads/2020/02/1581644713.jpg
END:VEVENT
BEGIN:VEVENT
DTSTART;TZID=Asia/Tokyo:20200229T000000
DTEND;TZID=Asia/Tokyo:20200301T235959
DTSTAMP:20260425T090522
CREATED:20200229T003117Z
LAST-MODIFIED:20200229T003117Z
UID:14365-1582934400-1583107199@kinpoden.com
SUMMARY:「フェリーチェ 幸せの味」
DESCRIPTION:伊川実花さん \nメッセージ：関根弘興 \n  \nイタリア料理研究家の伊川実花さんは、「オフィス・フェリーチェ」を主宰し、イタリアで学んだことをもとに料理教室を開いています。「聖書に出てくる料理を聖句と共に味わう」という会の様子とともに、会の中で振る舞われた料理を紹介します。 \n 
URL:https://kinpoden.com/lifeline/%e3%80%8c%e3%83%95%e3%82%a7%e3%83%aa%e3%83%bc%e3%83%81%e3%82%a7-%e5%b9%b8%e3%81%9b%e3%81%ae%e5%91%b3%e3%80%8d-2-3/
CATEGORIES:テレビ「ライフライン」番組表
ATTACH;FMTTYPE=image/jpeg:https://kinpoden.com/wp-content/uploads/2020/02/1581644494.jpg
END:VEVENT
BEGIN:VEVENT
DTSTART;TZID=Asia/Tokyo:20200222T000000
DTEND;TZID=Asia/Tokyo:20200223T235959
DTSTAMP:20260425T090522
CREATED:20200118T014926Z
LAST-MODIFIED:20200118T014926Z
UID:14364-1582329600-1582502399@kinpoden.com
SUMMARY:「キリストの生涯をたどる旅」
DESCRIPTION:イスラエル シリーズ \nメッセージ：原田憲夫 \n  \nシリーズでお届けしている「イエス・キリストの生涯をたどる旅」。このシリーズでは、福音歌手の森祐理さんが聖書の記述をたどりながらイエス・キリストが実際に生まれ育ち、活動したイスラエルの町々を訪ねます。今回は、イエス・キリストが福音を宣べ伝え、数々の奇跡を行ったガリラヤ湖畔の町を訪ね、その足跡を再び紹介します。
URL:https://kinpoden.com/lifeline/%e3%80%8c%e3%82%ad%e3%83%aa%e3%82%b9%e3%83%88%e3%81%ae%e7%94%9f%e6%b6%af%e3%82%92%e3%81%9f%e3%81%a9%e3%82%8b%e6%97%85%e3%80%8d-2-3/
CATEGORIES:テレビ「ライフライン」番組表
ATTACH;FMTTYPE=image/jpeg:https://kinpoden.com/wp-content/uploads/2020/01/1578967713.jpg
END:VEVENT
BEGIN:VEVENT
DTSTART;TZID=Asia/Tokyo:20200215T000000
DTEND;TZID=Asia/Tokyo:20200216T235959
DTSTAMP:20260425T090522
CREATED:20200118T014815Z
LAST-MODIFIED:20200118T014815Z
UID:14363-1581724800-1581897599@kinpoden.com
SUMMARY:「あなたを諦めない・2」
DESCRIPTION:藤藪庸一さん \nメッセージ：岩井基雄 \n  \n和歌山県南紀白浜にあるキリスト教会の牧師・藤藪庸一さんは、前任牧師から引き継いだ「三段壁いのちの電話」の活動を行っています。これまでに900人以上の自殺志願者を保護し、共同生活をとおして社会復帰を助けてきた藤藪さんは、昨年『あなたを諦めない 自殺救済の現場から』という本を出版しました。本について、また、働きについてのお話を２週にわたって紹介します。
URL:https://kinpoden.com/lifeline/%e3%80%8c%e3%81%82%e3%81%aa%e3%81%9f%e3%82%92%e8%ab%a6%e3%82%81%e3%81%aa%e3%81%84%e3%83%bb2%e3%80%8d-3/
CATEGORIES:テレビ「ライフライン」番組表
ATTACH;FMTTYPE=image/jpeg:https://kinpoden.com/wp-content/uploads/2020/01/1578967409.jpg
END:VEVENT
BEGIN:VEVENT
DTSTART;TZID=Asia/Tokyo:20200208T000000
DTEND;TZID=Asia/Tokyo:20200209T235959
DTSTAMP:20260425T090522
CREATED:20200118T014712Z
LAST-MODIFIED:20200118T014712Z
UID:14362-1581120000-1581292799@kinpoden.com
SUMMARY:「あなたを諦めない・1」
DESCRIPTION:藤藪庸一さん \nメッセージ：関根弘興 \n  \n和歌山県南紀白浜にあるキリスト教会の牧師・藤藪庸一さんは、前任牧師から引き継いだ「三段壁いのちの電話」の活動を行っています。これまでに900人以上の自殺志願者を保護し、共同生活をとおして社会復帰を助けてきた藤藪さんは、昨年『あなたを諦めない 自殺救済の現場から』という本を出版しました。本について、また、働きについてのお話を２週にわたって紹介します。
URL:https://kinpoden.com/lifeline/%e3%80%8c%e3%81%82%e3%81%aa%e3%81%9f%e3%82%92%e8%ab%a6%e3%82%81%e3%81%aa%e3%81%84%e3%83%bb1%e3%80%8d-3/
CATEGORIES:テレビ「ライフライン」番組表
ATTACH;FMTTYPE=image/jpeg:https://kinpoden.com/wp-content/uploads/2020/01/1578967409.jpg
END:VEVENT
BEGIN:VEVENT
DTSTART;TZID=Asia/Tokyo:20200201T000000
DTEND;TZID=Asia/Tokyo:20200202T235959
DTSTAMP:20260425T090522
CREATED:20200118T014610Z
LAST-MODIFIED:20200118T014610Z
UID:14361-1580515200-1580687999@kinpoden.com
SUMMARY:「奇蹟のトロンボーン」
DESCRIPTION:亀井玲司さん \nメッセージ：関根弘興 \n  \n兵庫県神戸市在住のトロンボーン奏者・亀井玲司さんは、クラシック、ポップス、ジャズなど幅広い分野で活躍しています。そんな亀井さんは、交通事故に遭い、音楽家生命が絶たれるのでは、という経験をしたといいます。プロの演奏家として活動を始めて27年になるという亀井さんにお話を伺うとともに、神戸で行われたコンサートから演奏をお届けします。
URL:https://kinpoden.com/lifeline/%e3%80%8c%e5%a5%87%e8%b9%9f%e3%81%ae%e3%83%88%e3%83%ad%e3%83%b3%e3%83%9c%e3%83%bc%e3%83%b3%e3%80%8d-2-3/
CATEGORIES:テレビ「ライフライン」番組表
ATTACH;FMTTYPE=image/jpeg:https://kinpoden.com/wp-content/uploads/2020/01/1578967015.jpg
END:VEVENT
BEGIN:VEVENT
DTSTART;TZID=Asia/Tokyo:20200125T000000
DTEND;TZID=Asia/Tokyo:20200126T235959
DTSTAMP:20260425T090522
CREATED:20191227T094854Z
LAST-MODIFIED:20191227T094854Z
UID:14360-1579910400-1580083199@kinpoden.com
SUMMARY:「イエス・キリストの生涯をたどる旅」
DESCRIPTION:イスラエル シリーズ  \nメッセージ：岩井基雄 \n  \nシリーズでお届けしている「イエス・キリストの生涯をたどる旅」。このシリーズでは、福音歌手の森祐理さんが聖書の記述をたどりながらイエス・キリストが実際に生まれ育ち、活動したイスラエルの町々を訪ねます。今回は、イエス・キリストが洗礼を受けたヨルダン川、そして福音を宣べ伝え始めるまでの足跡を再び紹介します。
URL:https://kinpoden.com/lifeline/%e3%80%8c%e3%82%a4%e3%82%a8%e3%82%b9%e3%83%bb%e3%82%ad%e3%83%aa%e3%82%b9%e3%83%88%e3%81%ae%e7%94%9f%e6%b6%af%e3%82%92%e3%81%9f%e3%81%a9%e3%82%8b%e6%97%85%e3%80%8d-3-3/
CATEGORIES:テレビ「ライフライン」番組表
ATTACH;FMTTYPE=image/jpeg:https://kinpoden.com/wp-content/uploads/2019/12/1576124072.jpg
END:VEVENT
BEGIN:VEVENT
DTSTART;TZID=Asia/Tokyo:20200118T000000
DTEND;TZID=Asia/Tokyo:20200119T235959
DTSTAMP:20260425T090522
CREATED:20191227T094742Z
LAST-MODIFIED:20191227T094742Z
UID:14359-1579305600-1579478399@kinpoden.com
SUMMARY:「神の御手にゆだねる人生」
DESCRIPTION:ライフ・ラインのつどい in 福島 \nメッセージ：原田憲夫 \n  \n昨年秋に福島県いわき市のキリスト教会で「ライフ・ラインのつどい」を行いました。つどいでは、トリオ・グラシア（ソプラノ、チェロ、ピアノ）が演奏し、原田憲夫牧師が「神の御手にゆだねる人生」というタイトルで聖書のメッセージを語りました。そんな「つどい」の様子を紹介します。
URL:https://kinpoden.com/lifeline/%e3%80%8c%e7%a5%9e%e3%81%ae%e5%be%a1%e6%89%8b%e3%81%ab%e3%82%86%e3%81%a0%e3%81%ad%e3%82%8b%e4%ba%ba%e7%94%9f%e3%80%8d-3/
CATEGORIES:テレビ「ライフライン」番組表
ATTACH;FMTTYPE=image/jpeg:https://kinpoden.com/wp-content/uploads/2019/12/1576119044.jpg
END:VEVENT
BEGIN:VEVENT
DTSTART;TZID=Asia/Tokyo:20200111T000000
DTEND;TZID=Asia/Tokyo:20200112T235959
DTSTAMP:20260425T090522
CREATED:20191227T094630Z
LAST-MODIFIED:20191227T094630Z
UID:14358-1578700800-1578873599@kinpoden.com
SUMMARY:「ラーメン店とキリスト教信仰の再起」
DESCRIPTION:饒平名 知賢さん \nメッセージ：原田憲夫 \n  \n株式会社イクソス沖縄の代表取締役で、「屋台赤道ラーメン」オーナーの饒平名知賢さんは、20数年前にラーメン店を屋台からスタートさせました。バブル崩壊と共に一度は倒産を体験しましたが、現在は再起し、沖縄県内にフランチャイズ店を含め９店舗を展開しています。厳選した素材で作られたスープと自家製麺のラーメン、手作り餃子が自慢のお店の様子と、キリスト教信仰が再起に大きな影響を与えたという饒平名さんの体験談を紹介します。
URL:https://kinpoden.com/lifeline/%e3%80%8c%e3%83%a9%e3%83%bc%e3%83%a1%e3%83%b3%e5%ba%97%e3%81%a8%e3%82%ad%e3%83%aa%e3%82%b9%e3%83%88%e6%95%99%e4%bf%a1%e4%bb%b0%e3%81%ae%e5%86%8d%e8%b5%b7%e3%80%8d-2-3/
CATEGORIES:テレビ「ライフライン」番組表
ATTACH;FMTTYPE=image/jpeg:https://kinpoden.com/wp-content/uploads/2019/12/1576118729.jpg
END:VEVENT
BEGIN:VEVENT
DTSTART;TZID=Asia/Tokyo:20191228T000000
DTEND;TZID=Asia/Tokyo:20191229T235959
DTSTAMP:20260425T090522
CREATED:20191122T234645Z
LAST-MODIFIED:20191122T234645Z
UID:14357-1577491200-1577663999@kinpoden.com
SUMMARY:「キリストの愛」
DESCRIPTION:ユーオーディア管弦楽団・合唱団 \n  \n柳瀬佐和子さん \nメッセージ：関根弘興 \n  \nこの７月に東京で開催された「第26回 ユーオーディア賛美の夕べ」から、コンサートの後半で演奏された朗読と賛美で綴る組曲「キリストの愛」を紹介するとともに、作曲編曲した柳瀬佐和子さんにお話を伺います。
URL:https://kinpoden.com/lifeline/%e3%80%8c%e3%82%ad%e3%83%aa%e3%82%b9%e3%83%88%e3%81%ae%e6%84%9b%e3%80%8d-2-3/
CATEGORIES:テレビ「ライフライン」番組表
ATTACH;FMTTYPE=image/jpeg:https://kinpoden.com/wp-content/uploads/2019/11/1573709683.jpg
END:VEVENT
BEGIN:VEVENT
DTSTART;TZID=Asia/Tokyo:20191221T000000
DTEND;TZID=Asia/Tokyo:20191222T235959
DTSTAMP:20260425T090522
CREATED:20191122T234529Z
LAST-MODIFIED:20191122T234529Z
UID:14356-1576886400-1577059199@kinpoden.com
SUMMARY:「イエス・キリストの生涯をたどる旅」
DESCRIPTION:イスラエルシリーズ \nメッセージ：関根弘興 \n  \nシリーズでお届けしている「イエス・キリストの生涯をたどる旅」。このシリーズでは、福音歌手の森祐理さんが聖書の記述をたどりながらイエス・キリストが実際に生まれ育ち、活動したイスラエルの町々を訪ねます。今回は、イエス・キリスト誕生の地・ベツレヘムの町を再び訪ね、クリスマスがなぜ世界中で、祝われるようになったのかを紹介します。
URL:https://kinpoden.com/lifeline/%e3%80%8c%e3%82%a4%e3%82%a8%e3%82%b9%e3%83%bb%e3%82%ad%e3%83%aa%e3%82%b9%e3%83%88%e3%81%ae%e7%94%9f%e6%b6%af%e3%82%92%e3%81%9f%e3%81%a9%e3%82%8b%e6%97%85%e3%80%8d-2-3/
CATEGORIES:テレビ「ライフライン」番組表
ATTACH;FMTTYPE=image/jpeg:https://kinpoden.com/wp-content/uploads/2019/11/1573709560.jpg
END:VEVENT
BEGIN:VEVENT
DTSTART;TZID=Asia/Tokyo:20191214T000000
DTEND;TZID=Asia/Tokyo:20191215T235959
DTSTAMP:20260425T090522
CREATED:20191122T234355Z
LAST-MODIFIED:20191122T234355Z
UID:14355-1576281600-1576454399@kinpoden.com
SUMMARY:「ちいさなみっつのクリスマス」
DESCRIPTION:亀岡亜希子さん \nメッセージ：原田憲夫 \n  \n山形県米沢市在住の絵本作家・亀岡亜希子さんは、『ねんにいちどのおきゃくさま』『わすれものをとどけに』など動物を主人公にした絵本や童話、また、まんが絵本の出版など幅広い作品を手がけています。クリスマス番組の２週目は、亀岡さんの作品で、ねこ、犬、ぶたという主人公が本当のクリスマス、本当の愛を見つけていくという絵本『ちいさなみっつのクリスマス』を紹介していただきます。
URL:https://kinpoden.com/lifeline/%e3%80%8c%e3%81%a1%e3%81%84%e3%81%95%e3%81%aa%e3%81%bf%e3%81%a3%e3%81%a4%e3%81%ae%e3%82%af%e3%83%aa%e3%82%b9%e3%83%9e%e3%82%b9%e3%80%8d-2-3/
CATEGORIES:テレビ「ライフライン」番組表
ATTACH;FMTTYPE=image/jpeg:https://kinpoden.com/wp-content/uploads/2019/11/1573709509.jpg
END:VEVENT
BEGIN:VEVENT
DTSTART;TZID=Asia/Tokyo:20191207T000000
DTEND;TZID=Asia/Tokyo:20191208T235959
DTSTAMP:20260425T090522
CREATED:20191122T234248Z
LAST-MODIFIED:20191122T234248Z
UID:14354-1575676800-1575849599@kinpoden.com
SUMMARY:「オーナメントを作ろう！」
DESCRIPTION:泉谷千賀子さん \nメッセージ：岩井基雄 \n  \n大阪在住の羊毛フェルト作家・泉谷千賀子さんは、羊毛フェルトで作った動物たちと聖書のことばのコラボレーション絵本『みつけたよ』『おくりもの』などを出版しています。クリスマス番組の１週目は、泉谷千さんに羊毛で作るオーナメントを紹介していただくとともにお話を伺います。
URL:https://kinpoden.com/lifeline/%e3%80%8c%e3%82%aa%e3%83%bc%e3%83%8a%e3%83%a1%e3%83%b3%e3%83%88%e3%82%92%e4%bd%9c%e3%82%8d%e3%81%86%ef%bc%81%e3%80%8d-3/
CATEGORIES:テレビ「ライフライン」番組表
ATTACH;FMTTYPE=image/jpeg:https://kinpoden.com/wp-content/uploads/2019/11/1573709187.jpg
END:VEVENT
BEGIN:VEVENT
DTSTART;TZID=Asia/Tokyo:20191130T000000
DTEND;TZID=Asia/Tokyo:20191201T235959
DTSTAMP:20260425T090522
CREATED:20191122T234140Z
LAST-MODIFIED:20191122T234140Z
UID:14353-1575072000-1575244799@kinpoden.com
SUMMARY:「将来に希望と光を」
DESCRIPTION:スティーブンさん、石坂明日香さん \nメッセージ：関根弘興 \n  \n世界の貧困・飢餓・紛争に苦しむ子どもたちを支援している特定非営利活動法人ワールド・ビジョン・ジャパンの働きを紹介します。今回は、ワールド・ビジョンの働き「チャイルド・スポンサーシップ」の支援を受けて成長し、現在、日本の大学で学んでいるスティーブンさんと、ワールド・ビジョン・ジャパンのスタッフ、石坂明日香さんにお話を伺います。 \n　
URL:https://kinpoden.com/lifeline/%e3%80%8c%e5%b0%86%e6%9d%a5%e3%81%ab%e5%b8%8c%e6%9c%9b%e3%81%a8%e5%85%89%e3%82%92%e3%80%8d-2-3/
CATEGORIES:テレビ「ライフライン」番組表
ATTACH;FMTTYPE=image/jpeg:https://kinpoden.com/wp-content/uploads/2019/11/1573709044.jpg
END:VEVENT
BEGIN:VEVENT
DTSTART;TZID=Asia/Tokyo:20191123T000000
DTEND;TZID=Asia/Tokyo:20191124T235959
DTSTAMP:20260425T090522
CREATED:20191029T040920Z
LAST-MODIFIED:20191029T040920Z
UID:14352-1574467200-1574639999@kinpoden.com
SUMMARY:「キリストの生涯をたどる旅」
DESCRIPTION:イスラエル シリーズ  \nメッセージ：関根弘興 \n  \nシリーズでお届けしている「キリストの生涯をたどる旅」。このシリーズでは、福音歌手の森祐理さんがイエス・キリストが実際に生まれ育ち活動したイスラエルを旅します。今回は、イエス・キリストが生まれる前、両親であるヨセフとマリアに何が起こったのか、イスラエル北部にあるナザレの町から再び、お届けします。
URL:https://kinpoden.com/lifeline/%e3%80%8c%e3%82%ad%e3%83%aa%e3%82%b9%e3%83%88%e3%81%ae%e7%94%9f%e6%b6%af%e3%82%92%e3%81%9f%e3%81%a9%e3%82%8b%e6%97%85%e3%80%8d-4/
CATEGORIES:テレビ「ライフライン」番組表
ATTACH;FMTTYPE=image/jpeg:https://kinpoden.com/wp-content/uploads/2019/10/1572247659.jpg
END:VEVENT
BEGIN:VEVENT
DTSTART;TZID=Asia/Tokyo:20191116T000000
DTEND;TZID=Asia/Tokyo:20191117T235959
DTSTAMP:20260425T090523
CREATED:20191029T040809Z
LAST-MODIFIED:20191029T040809Z
UID:14351-1573862400-1574035199@kinpoden.com
SUMMARY:「愛と恵みの中で・２」
DESCRIPTION:小早川由起子さん \nメッセージ：原田憲夫 \n  \nソプラノシンガー・小早川由起子さんを２週にわたって紹介します。小早川さんは、20代前半の頃に肝臓の難病を発症、二度にわたる生体肝移植手術により命を救われ、生かされている感謝を、その歌声と共に多くの人々に届けています。昨年の秋に、京都のキリスト教会で行われたコンサートの様子をお届けするとともに、お話を伺います。
URL:https://kinpoden.com/lifeline/%e3%80%8c%e6%84%9b%e3%81%a8%e6%81%b5%e3%81%bf%e3%81%ae%e4%b8%ad%e3%81%a7%e3%83%bb%ef%bc%92%e3%80%8d-2-3/
CATEGORIES:テレビ「ライフライン」番組表
ATTACH;FMTTYPE=image/jpeg:https://kinpoden.com/wp-content/uploads/2019/02/1549956212.jpg
END:VEVENT
BEGIN:VEVENT
DTSTART;TZID=Asia/Tokyo:20191109T000000
DTEND;TZID=Asia/Tokyo:20191110T235959
DTSTAMP:20260425T090523
CREATED:20191029T040701Z
LAST-MODIFIED:20191029T040701Z
UID:14350-1573257600-1573430399@kinpoden.com
SUMMARY:「愛と恵みの中で・１」
DESCRIPTION:小早川由起子さん \nメッセージ：原田憲夫 \n  \nソプラノシンガー・小早川由起子さんを２週にわたって紹介します。小早川さんは、20代前半の頃に肝臓の難病を発症、二度にわたる生体肝移植手術により命を救われ、生かされている感謝を、その歌声と共に多くの人々に届けています。昨年の秋に、京都のキリスト教会で行われたコンサートの様子をお届けするとともに、お話を伺います。
URL:https://kinpoden.com/lifeline/%e3%80%8c%e6%84%9b%e3%81%a8%e6%81%b5%e3%81%bf%e3%81%ae%e4%b8%ad%e3%81%a7%e3%83%bb%ef%bc%91%e3%80%8d-2-3/
CATEGORIES:テレビ「ライフライン」番組表
ATTACH;FMTTYPE=image/jpeg:https://kinpoden.com/wp-content/uploads/2019/02/1549956212.jpg
END:VEVENT
BEGIN:VEVENT
DTSTART;TZID=Asia/Tokyo:20191102T000000
DTEND;TZID=Asia/Tokyo:20191103T235959
DTSTAMP:20260425T090523
CREATED:20191029T040549Z
LAST-MODIFIED:20191029T040549Z
UID:14349-1572652800-1572825599@kinpoden.com
SUMMARY:「癒しの音色を奏でる」
DESCRIPTION:キャサリン・ポーターさん \nメッセージ：岩井基雄 \n  \nハープ奏者のキャサリン・ポーターさんは、イギリス人で、ケンブリッジ大学とギルドホール音楽大学院で音楽を学び、卒業後は、ロンドンでハープ奏者として活動していました。宣教師として来日する予定だった2011年3月には、東日本大震災が起こり、被災地への思いを強めたキャサリンさんは、東北での活動を希望しました。現在は、岩手県を拠点にハープ演奏を通して人々のこころに癒しを提供するとともに、キリストの福音を伝えています。キャサリンさんのハープ演奏をお届けするとともに、お話を伺います。
URL:https://kinpoden.com/lifeline/%e3%80%8c%e7%99%92%e3%81%97%e3%81%ae%e9%9f%b3%e8%89%b2%e3%82%92%e5%a5%8f%e3%81%a7%e3%82%8b%e3%80%8d-2-3/
CATEGORIES:テレビ「ライフライン」番組表
ATTACH;FMTTYPE=image/jpeg:https://kinpoden.com/wp-content/uploads/2019/10/1572247447.jpg
END:VEVENT
BEGIN:VEVENT
DTSTART;TZID=Asia/Tokyo:20191026T000000
DTEND;TZID=Asia/Tokyo:20191027T235959
DTSTAMP:20260425T090523
CREATED:20190917T005839Z
LAST-MODIFIED:20190917T005839Z
UID:14348-1572048000-1572220799@kinpoden.com
SUMMARY:「愛の神」
DESCRIPTION:小山晶子さん \nメッセージ：岩井基雄牧師 \n  \n賛美グループ・LYRE（リラ）の歌と、メンバーの小山晶子さんのお話を紹介します。LYRE（リラ）は、大学在学中の６名のメンバーによって結成されました。卒業後は、牧師や宣教師など、それぞれの道を歩む中でアルバム制作、コンサート活動を行ってきました。ヒーリングゴスペルの原点といわれるサウンドは、多くの人の慰め、励まし、希望となっています。
URL:https://kinpoden.com/lifeline/%e3%80%8c%e6%84%9b%e3%81%ae%e7%a5%9e%e3%80%8d-3/
CATEGORIES:テレビ「ライフライン」番組表
ATTACH;FMTTYPE=image/jpeg:https://kinpoden.com/wp-content/uploads/2019/09/1568279146.jpg
END:VEVENT
BEGIN:VEVENT
DTSTART;TZID=Asia/Tokyo:20191019T000000
DTEND;TZID=Asia/Tokyo:20191020T235959
DTSTAMP:20260425T090523
CREATED:20190917T005734Z
LAST-MODIFIED:20190917T005734Z
UID:13168-1571443200-1571615999@kinpoden.com
SUMMARY:「あなたこそわが望み」
DESCRIPTION:ライフ・ラインのつどい in 福島 \nメッセージ：塚田 献牧師 \n  \nこの７月に福島県会津若松市で「ライフ・ラインのつどい」を行いました。つどいでは、賛美グループ・LYRE（リラ）がオリジナルの賛美を歌い、LYRE（リラ）のメンバーのひとり、塚田献牧師が「あなたこそわが望み」というタイトルで聖書のメッセージを語りました。番組では、そんな「つどい」の様子を紹介します。
URL:https://kinpoden.com/lifeline/%e3%80%8c%e3%81%82%e3%81%aa%e3%81%9f%e3%81%93%e3%81%9d%e3%82%8f%e3%81%8c%e6%9c%9b%e3%81%bf%e3%80%8d-2/
CATEGORIES:テレビ「ライフライン」番組表
ATTACH;FMTTYPE=image/jpeg:https://kinpoden.com/wp-content/uploads/2019/09/1568265743.jpg
END:VEVENT
BEGIN:VEVENT
DTSTART;TZID=Asia/Tokyo:20191019T000000
DTEND;TZID=Asia/Tokyo:20191020T235959
DTSTAMP:20260425T090523
CREATED:20190917T005734Z
LAST-MODIFIED:20190917T005734Z
UID:14347-1571443200-1571615999@kinpoden.com
SUMMARY:「あなたこそわが望み」
DESCRIPTION:ライフ・ラインのつどい in 福島 \nメッセージ：塚田 献牧師 \n  \nこの７月に福島県会津若松市で「ライフ・ラインのつどい」を行いました。つどいでは、賛美グループ・LYRE（リラ）がオリジナルの賛美を歌い、LYRE（リラ）のメンバーのひとり、塚田献牧師が「あなたこそわが望み」というタイトルで聖書のメッセージを語りました。番組では、そんな「つどい」の様子を紹介します。
URL:https://kinpoden.com/lifeline/%e3%80%8c%e3%81%82%e3%81%aa%e3%81%9f%e3%81%93%e3%81%9d%e3%82%8f%e3%81%8c%e6%9c%9b%e3%81%bf%e3%80%8d-3/
CATEGORIES:テレビ「ライフライン」番組表
ATTACH;FMTTYPE=image/jpeg:https://kinpoden.com/wp-content/uploads/2019/09/1568265743.jpg
END:VEVENT
BEGIN:VEVENT
DTSTART;TZID=Asia/Tokyo:20191012T000000
DTEND;TZID=Asia/Tokyo:20191013T235959
DTSTAMP:20260425T090523
CREATED:20190917T005622Z
LAST-MODIFIED:20190917T005622Z
UID:14346-1570838400-1571011199@kinpoden.com
SUMMARY:「一粒の麦」
DESCRIPTION:山田 火砂子さん \nメッセージ：岩井基雄牧師 \n  \n日本初の女医・荻野吟子の生涯を描いた映画「一粒の麦 荻野吟子の生涯」（現代ぷろだくしょん）が、10/26から上映されます。荻野吟子は、まだ日本では女性に医者の許可を与える制度がない明治時代に、男子の学校に通い、苦労を重ねて、日本で初めての女医となりました。クリスチャンであった荻野吟子の愛した聖書のことばは、「人その友の為に己の命をすつる。これより大いなる愛はなし」でした。この映画の監督・山田火砂子さんにお話を伺います。
URL:https://kinpoden.com/lifeline/%e3%80%8c%e4%b8%80%e7%b2%92%e3%81%ae%e9%ba%a6%e3%80%8d-3/
CATEGORIES:テレビ「ライフライン」番組表
ATTACH;FMTTYPE=image/jpeg:https://kinpoden.com/wp-content/uploads/2019/09/1568362515.jpg
END:VEVENT
END:VCALENDAR