BEGIN:VCALENDAR
VERSION:2.0
PRODID:-//近畿福音放送伝道協力会 – 近放伝公式ウェブサイト - ECPv6.15.16//NONSGML v1.0//EN
CALSCALE:GREGORIAN
METHOD:PUBLISH
X-WR-CALNAME:近畿福音放送伝道協力会 – 近放伝公式ウェブサイト
X-ORIGINAL-URL:https://kinpoden.com
X-WR-CALDESC:近畿福音放送伝道協力会 – 近放伝公式ウェブサイト のイベント
REFRESH-INTERVAL;VALUE=DURATION:PT1H
X-Robots-Tag:noindex
X-PUBLISHED-TTL:PT1H
BEGIN:VTIMEZONE
TZID:Asia/Tokyo
BEGIN:STANDARD
TZOFFSETFROM:+0900
TZOFFSETTO:+0900
TZNAME:JST
DTSTART:20170101T000000
END:STANDARD
END:VTIMEZONE
BEGIN:VEVENT
DTSTART;TZID=Asia/Tokyo:20180804T000000
DTEND;TZID=Asia/Tokyo:20180805T235959
DTSTAMP:20260426T002500
CREATED:20180727T051246Z
LAST-MODIFIED:20180727T051246Z
UID:14285-1533340800-1533513599@kinpoden.com
SUMMARY:「シャロームの畑」
DESCRIPTION:みなみななみさん\nメッセージ：安海靖郎 \n番組オープニングの絵でおなじみのイラストレーター・みなみななみさんは、『ぼくのみたもの～第五福竜丸のおはなし』『ヒロシマの少年じろうちゃん』などの絵本に携わっています。また、昨年には、父親の戦争体験を絵本にした『父の東京大空襲』を出版しました。一昨年東京で行われた「みなみななみ展・シャロームの畑」の様子をお送りするとともに、戦争や平和に関心を持つというみなみさんにご自身の考えやこれらの絵本についてお話を伺います。 \n※HBCテレビは、「奇蹟のトロンボーン」（亀井玲司さん）をお送りします。
URL:https://kinpoden.com/lifeline/%e3%80%8c%e3%82%b7%e3%83%a3%e3%83%ad%e3%83%bc%e3%83%a0%e3%81%ae%e7%95%91%e3%80%8d-3/
CATEGORIES:テレビ「ライフライン」番組表
ATTACH;FMTTYPE=image/jpeg:https://kinpoden.com/wp-content/uploads/2018/07/1531882669.jpg
END:VEVENT
BEGIN:VEVENT
DTSTART;TZID=Asia/Tokyo:20180728T000000
DTEND;TZID=Asia/Tokyo:20180729T235959
DTSTAMP:20260426T002500
CREATED:20180620T124247Z
LAST-MODIFIED:20180620T124247Z
UID:14284-1532736000-1532908799@kinpoden.com
SUMMARY:「奇蹟のトロンボーン」
DESCRIPTION:亀井玲司さん  \nメッセージ：岩井基雄  \n兵庫県神戸市在住のトロンボーン奏者・亀井玲司さんは、クラシック、ポップス、ジャズなど幅広い分野で活躍しています。そんな亀井さんは、交通事故に遭い、音楽家生命が絶たれるのでは、という経験をしたといいます。今年、プロの演奏家として活動を始めて25周年を迎えた亀井さんにお話を伺うとともに、５月に神戸で行われたコンサートから演奏をお届けします。
URL:https://kinpoden.com/lifeline/%e3%80%8c%e5%a5%87%e8%b9%9f%e3%81%ae%e3%83%88%e3%83%ad%e3%83%b3%e3%83%9c%e3%83%bc%e3%83%b3%e3%80%8d-4/
CATEGORIES:テレビ「ライフライン」番組表
ATTACH;FMTTYPE=image/jpeg:https://kinpoden.com/wp-content/uploads/2018/06/1529029863.jpg
END:VEVENT
BEGIN:VEVENT
DTSTART;TZID=Asia/Tokyo:20180721T000000
DTEND;TZID=Asia/Tokyo:20180722T235959
DTSTAMP:20260426T002500
CREATED:20180620T124134Z
LAST-MODIFIED:20180620T124134Z
UID:14283-1532131200-1532303999@kinpoden.com
SUMMARY:「三浦綾子記念文学館 開館20周年 ～三浦夫妻の宝物（２）」
DESCRIPTION:メッセージ：安海靖郎  \n『氷点』『塩狩峠』『道ありき』などで知られる作家・三浦綾子さんの人生と文学を展示している三浦綾子記念文学館（北海道旭川市）を２週にわたって紹介します。三浦綾子記念文学館は今年、開館20周年を迎え、様々な記念事業が行われています。その一つとして、この４月には常設展示が完全にリニューアルされました。薫る、味わう、触れる、聴く、見るの「五感展示」に生まれ変わった展示について、文学館の学芸員・長友あゆみさんにお話を伺います。また、現在公開されている企画展「三浦家の“たからばこ”～三浦夫妻が最後までそばに置いていた大事な宝物～」を紹介するとともに、三浦夫妻が最後まで大事にしていたものは何だったのか、文学館の事務局長・難波真実さんにお話を伺います。
URL:https://kinpoden.com/lifeline/%e3%80%8c%e4%b8%89%e6%b5%a6%e7%b6%be%e5%ad%90%e8%a8%98%e5%bf%b5%e6%96%87%e5%ad%a6%e9%a4%a8-%e9%96%8b%e9%a4%a820%e5%91%a8%e5%b9%b4-%ef%bd%9e%e4%b8%89%e6%b5%a6%e5%a4%ab%e5%a6%bb%e3%81%ae%e5%ae%9d-2-3/
CATEGORIES:テレビ「ライフライン」番組表
ATTACH;FMTTYPE=image/jpeg:https://kinpoden.com/wp-content/uploads/2018/06/1529038083.jpg
END:VEVENT
BEGIN:VEVENT
DTSTART;TZID=Asia/Tokyo:20180714T000000
DTEND;TZID=Asia/Tokyo:20180715T235959
DTSTAMP:20260426T002500
CREATED:20180620T124016Z
LAST-MODIFIED:20180620T124016Z
UID:14282-1531526400-1531699199@kinpoden.com
SUMMARY:「三浦綾子記念文学館 開館20周年 ～三浦夫妻の宝物（１）」
DESCRIPTION:メッセージ：原田憲夫  \n『氷点』『塩狩峠』『道ありき』などで知られる作家・三浦綾子さんの人生と文学を展示している三浦綾子記念文学館（北海道旭川市）を２週にわたって紹介します。三浦綾子記念文学館は今年、開館20周年を迎え、様々な記念事業が行われています。その一つとして、この４月には常設展示が完全にリニューアルされました。薫る、味わう、触れる、聴く、見るの「五感展示」に生まれ変わった展示について、文学館の学芸員・長友あゆみさんにお話を伺います。また、現在公開されている企画展「三浦家の“たからばこ”～三浦夫妻が最後までそばに置いていた大事な宝物～」を紹介するとともに、三浦夫妻が最後まで大事にしていたものは何だったのか、文学館の事務局長・難波真実さんにお話を伺います。
URL:https://kinpoden.com/lifeline/%e3%80%8c%e4%b8%89%e6%b5%a6%e7%b6%be%e5%ad%90%e8%a8%98%e5%bf%b5%e6%96%87%e5%ad%a6%e9%a4%a8-%e9%96%8b%e9%a4%a820%e5%91%a8%e5%b9%b4-%ef%bd%9e%e4%b8%89%e6%b5%a6%e5%a4%ab%e5%a6%bb%e3%81%ae%e5%ae%9d-4/
CATEGORIES:テレビ「ライフライン」番組表
ATTACH;FMTTYPE=image/jpeg:https://kinpoden.com/wp-content/uploads/2018/06/1529038083.jpg
END:VEVENT
BEGIN:VEVENT
DTSTART;TZID=Asia/Tokyo:20180707T000000
DTEND;TZID=Asia/Tokyo:20180708T235959
DTSTAMP:20260426T002500
CREATED:20180620T123738Z
LAST-MODIFIED:20180620T123738Z
UID:14281-1530921600-1531094399@kinpoden.com
SUMMARY:「賛美と感謝を心に深く」
DESCRIPTION:ライフ・ラインのつどい in 北海道  \nメッセージ：岩井基雄  \nこの６月に北海道苫小牧市で「ライフ・ラインのつどい」を行いました。つどいでは、番組ゲストとして出演した賛美歌歌手の安田美穂子さんが賛美歌を歌い、岩井基雄牧師が「賛美と感謝を心に深く」というタイトルで聖書のメッセージを語りました。そんな「つどい」の様子を紹介します。
URL:https://kinpoden.com/lifeline/%e3%80%8c%e8%b3%9b%e7%be%8e%e3%81%a8%e6%84%9f%e8%ac%9d%e3%82%92%e5%bf%83%e3%81%ab%e6%b7%b1%e3%81%8f%e3%80%8d-3/
CATEGORIES:テレビ「ライフライン」番組表
ATTACH;FMTTYPE=image/jpeg:https://kinpoden.com/wp-content/uploads/2018/06/1529030096.jpg
END:VEVENT
BEGIN:VEVENT
DTSTART;TZID=Asia/Tokyo:20180630T000000
DTEND;TZID=Asia/Tokyo:20180701T235959
DTSTAMP:20260426T002500
CREATED:20180620T123543Z
LAST-MODIFIED:20180620T123543Z
UID:14280-1530316800-1530489599@kinpoden.com
SUMMARY:「心の部屋を空けて（３）」
DESCRIPTION:堀 肇さん  \n牧師であり、大学の講師、カウンセラーで、多数の著書を執筆している堀肇さんの著書『心の部屋を空けて』（2006年発売）が、装いも新たに、３つのエッセイを加え、改定出版されました。この本は、牧師として、またカウンセラーとして多くの方と関わってきた堀さんが、自分の心をどう見つめ、また他者とどう向き合い、さらに家族とどのように関わっていけばよいのかについて記したエッセイです。シリーズ３回目は、「家族とどのように関わっていけばよいか」についてお話を伺います。
URL:https://kinpoden.com/lifeline/%e3%80%8c%e5%bf%83%e3%81%ae%e9%83%a8%e5%b1%8b%e3%82%92%e7%a9%ba%e3%81%91%e3%81%a6%ef%bc%88%ef%bc%93%ef%bc%89%e3%80%8d-3/
CATEGORIES:テレビ「ライフライン」番組表
ATTACH;FMTTYPE=image/jpeg:https://kinpoden.com/wp-content/uploads/2018/06/1529029188.jpg
END:VEVENT
BEGIN:VEVENT
DTSTART;TZID=Asia/Tokyo:20180623T000000
DTEND;TZID=Asia/Tokyo:20180624T235959
DTSTAMP:20260426T002500
CREATED:20180526T101605Z
LAST-MODIFIED:20180526T101605Z
UID:14279-1529712000-1529884799@kinpoden.com
SUMMARY:「全人医療を目指して・２」
DESCRIPTION:田頭真一さん \nメッセージ：岩井基雄 \n  \n沖縄県那覇市にある特定医療法人葦の会「オリブ山病院」の理事長・田頭真一さんを２週にわたって紹介します。「オリブ山病院」は、キリスト教精神に基づき、患者の肉体的、精神的、社会的、さらに霊的ないやしを含めた全人医療を実践しています。病院には精神科、内科とともに、沖縄県で最初に開設されたホスピス病棟があります。からだとこころとたましいが一体である人に仕える医療と福祉を理念に掲げるこの病院では、たましいのケアを担う必要があると考え、チャプレンが在院し、病棟での礼拝、祈り会などで聖書からのメッセージを伝えています。病院の様子をお届けするとともに、理事長の田頭真一さんにお話を伺います。 \nまた、田頭さんはこの春、『天国で神様に会う前に済ませておくとよい８つのこと』という本を出版しました。この本で田頭さんは、人は年を取るほど幸せを感じる黄金期ならぬ、老金期（ろうごんき）を迎えると記しています。出版記念会の様子をお届けするとともに、本についてもお話を伺います。
URL:https://kinpoden.com/lifeline/%e3%80%8c%e5%85%a8%e4%ba%ba%e5%8c%bb%e7%99%82%e3%82%92%e7%9b%ae%e6%8c%87%e3%81%97%e3%81%a6%e3%83%bb%ef%bc%92%e3%80%8d-3/
CATEGORIES:テレビ「ライフライン」番組表
ATTACH;FMTTYPE=image/jpeg:https://kinpoden.com/wp-content/uploads/2018/05/1526371621.jpg
END:VEVENT
BEGIN:VEVENT
DTSTART;TZID=Asia/Tokyo:20180616T000000
DTEND;TZID=Asia/Tokyo:20180617T235959
DTSTAMP:20260426T002500
CREATED:20180526T101447Z
LAST-MODIFIED:20180526T101447Z
UID:14278-1529107200-1529279999@kinpoden.com
SUMMARY:「全人医療を目指して・１」
DESCRIPTION:田頭真一さん \nメッセージ：原田憲夫 \n  \n沖縄県那覇市にある特定医療法人葦の会「オリブ山病院」の理事長・田頭真一さんを２週にわたって紹介します。「オリブ山病院」は、キリスト教精神に基づき、患者の肉体的、精神的、社会的、さらに霊的ないやしを含めた全人医療を実践しています。病院には精神科、内科とともに、沖縄県で最初に開設されたホスピス病棟があります。からだとこころとたましいが一体である人に仕える医療と福祉を理念に掲げるこの病院では、たましいのケアを担う必要があると考え、チャプレンが在院し、病棟での礼拝、祈り会などで聖書からのメッセージを伝えています。病院の様子をお届けするとともに、理事長の田頭真一さんにお話を伺います。 \nまた、田頭さんはこの春、『天国で神様に会う前に済ませておくとよい８つのこと』という本を出版しました。この本で田頭さんは、人は年を取るほど幸せを感じる黄金期ならぬ、老金期（ろうごんき）を迎えると記しています。出版記念会の様子をお届けするとともに、本についてもお話を伺います。
URL:https://kinpoden.com/lifeline/%e3%80%8c%e5%85%a8%e4%ba%ba%e5%8c%bb%e7%99%82%e3%82%92%e7%9b%ae%e6%8c%87%e3%81%97%e3%81%a6%e3%83%bb%ef%bc%91%e3%80%8d-3/
CATEGORIES:テレビ「ライフライン」番組表
ATTACH;FMTTYPE=image/jpeg:https://kinpoden.com/wp-content/uploads/2018/05/1526371621.jpg
END:VEVENT
BEGIN:VEVENT
DTSTART;TZID=Asia/Tokyo:20180609T000000
DTEND;TZID=Asia/Tokyo:20180610T235959
DTSTAMP:20260426T002500
CREATED:20180526T101326Z
LAST-MODIFIED:20180526T101326Z
UID:14277-1528502400-1528675199@kinpoden.com
SUMMARY:「心の部屋を空けて・２」
DESCRIPTION:堀 肇さん \n  \n牧師であり、大学の講師、カウンセラーで、多数の著書を執筆している堀肇さんの著書『心の部屋を空けて』（2006年発売）が、装いも新たに、３つのエッセイを加え、改定出版されました。この本は、牧師として、またカウンセラーとして多くの方と関わってきた堀さんが、自分の心をどう見つめ、また他者とどう向き合い、さらに家族とどのように関わっていけばよいのかについて記したエッセイです。２回目は、人を慰め励ますものは何かについてお話を伺います。
URL:https://kinpoden.com/lifeline/%e3%80%8c%e5%bf%83%e3%81%ae%e9%83%a8%e5%b1%8b%e3%82%92%e7%a9%ba%e3%81%91%e3%81%a6%e3%83%bb%ef%bc%92%e3%80%8d-3/
CATEGORIES:テレビ「ライフライン」番組表
ATTACH;FMTTYPE=image/jpeg:https://kinpoden.com/wp-content/uploads/2018/05/1526371299.jpg
END:VEVENT
BEGIN:VEVENT
DTSTART;TZID=Asia/Tokyo:20180602T000000
DTEND;TZID=Asia/Tokyo:20180603T235959
DTSTAMP:20260426T002500
CREATED:20180526T101209Z
LAST-MODIFIED:20180526T101209Z
UID:14276-1527897600-1528070399@kinpoden.com
SUMMARY:「幸せはどこに」
DESCRIPTION:ライフ・ラインのつどい in 静岡（浜松） \nメッセージ：関根弘興 \n  \nこの５月に静岡県浜松市で「ライフ・ラインのつどい」を行いました。つどいでは、番組ゲストとして出演したサックス奏者の安武玄晃さんが演奏をし、関根弘興牧師が「幸せはどこに」というタイトルで聖書のメッセージを語りました。そんな「つどい」の様子を紹介します。
URL:https://kinpoden.com/lifeline/%e3%80%8c%e5%b9%b8%e3%81%9b%e3%81%af%e3%81%a9%e3%81%93%e3%81%ab%e3%80%8d-3/
CATEGORIES:テレビ「ライフライン」番組表
ATTACH;FMTTYPE=image/jpeg:https://kinpoden.com/wp-content/uploads/2018/05/1526371080.jpg
END:VEVENT
BEGIN:VEVENT
DTSTART;TZID=Asia/Tokyo:20180526T000000
DTEND;TZID=Asia/Tokyo:20180527T235959
DTSTAMP:20260426T002500
CREATED:20180424T053456Z
LAST-MODIFIED:20180424T053456Z
UID:14275-1527292800-1527465599@kinpoden.com
SUMMARY:「新しい日ははじまる」
DESCRIPTION:神山みささん（2） \n  \nゴスペルフォークシンガーの神山みささんを２週にわたって紹介します。 \n神山さんはこの４月に、自伝『新しい日ははじまる』を出版しました。この本は、神山さんの生い立ち、音楽を始めたきっかけ、117日間連続路上ライブでのドラマや夫との出会い、そして、牧師家庭に育って、どのように神様と歩んできたのかなどをありのままに書き下ろしたものです。４月に行われた出版記念・バースデーライブの様子をお届けするとともにお話を伺います。
URL:https://kinpoden.com/lifeline/%e3%80%8c%e6%96%b0%e3%81%97%e3%81%84%e6%97%a5%e3%81%af%e3%81%af%e3%81%98%e3%81%be%e3%82%8b%e3%80%8d-2-3/
CATEGORIES:テレビ「ライフライン」番組表
ATTACH;FMTTYPE=image/jpeg:https://kinpoden.com/wp-content/uploads/2018/04/1523686239.jpg
END:VEVENT
BEGIN:VEVENT
DTSTART;TZID=Asia/Tokyo:20180519T000000
DTEND;TZID=Asia/Tokyo:20180520T235959
DTSTAMP:20260426T002500
CREATED:20180424T053354Z
LAST-MODIFIED:20180424T053354Z
UID:14274-1526688000-1526860799@kinpoden.com
SUMMARY:「新しい日ははじまる」
DESCRIPTION:神山みささん（1） \n  \nゴスペルフォークシンガーの神山みささんを２週にわたって紹介します。 \n神山さんはこの４月に、自伝『新しい日ははじまる』を出版しました。この本は、神山さんの生い立ち、音楽を始めたきっかけ、117日間連続路上ライブでのドラマや夫との出会い、そして、牧師家庭に育って、どのように神様と歩んできたのかなどをありのままに書き下ろしたものです。４月に行われた出版記念・バースデーライブの様子をお届けするとともにお話を伺います。
URL:https://kinpoden.com/lifeline/%e3%80%8c%e6%96%b0%e3%81%97%e3%81%84%e6%97%a5%e3%81%af%e3%81%af%e3%81%98%e3%81%be%e3%82%8b%e3%80%8d-4/
CATEGORIES:テレビ「ライフライン」番組表
ATTACH;FMTTYPE=image/jpeg:https://kinpoden.com/wp-content/uploads/2018/04/1523686239.jpg
END:VEVENT
BEGIN:VEVENT
DTSTART;TZID=Asia/Tokyo:20180512T000000
DTEND;TZID=Asia/Tokyo:20180513T235959
DTSTAMP:20260426T002500
CREATED:20180424T053217Z
LAST-MODIFIED:20180424T053217Z
UID:14273-1526083200-1526255999@kinpoden.com
SUMMARY:「今あるは神の恵み」
DESCRIPTION:メイ成美さん \n  \n沖縄でハウスクリーニング、家事代行、お掃除や整理・収納のコーディネート、セミナーやレッスンなどを行っている「GHO・グッドハウスキーピングおきなわ」を紹介する第2弾。 \n代表のメイ成美さんは、沖縄に移住し、キリスト教信仰を持ったことをきっかけに、この働きを始めました。現在、多くのハウスクリーニングの依頼を請負うまでに成長していますが、そこに至るまでのエピソード、また、現在の活動や思いについてお話を伺います。
URL:https://kinpoden.com/lifeline/%e3%80%8c%e4%bb%8a%e3%81%82%e3%82%8b%e3%81%af%e7%a5%9e%e3%81%ae%e6%81%b5%e3%81%bf%e3%80%8d-3/
CATEGORIES:テレビ「ライフライン」番組表
ATTACH;FMTTYPE=image/jpeg:https://kinpoden.com/wp-content/uploads/2018/04/1523608398.jpg
END:VEVENT
BEGIN:VEVENT
DTSTART;TZID=Asia/Tokyo:20180505T000000
DTEND;TZID=Asia/Tokyo:20180506T235959
DTSTAMP:20260426T002500
CREATED:20180424T053059Z
LAST-MODIFIED:20180424T053059Z
UID:14272-1525478400-1525651199@kinpoden.com
SUMMARY:「心の部屋を空けて」
DESCRIPTION:堀 肇さん \n  \n牧師であり、大学の講師、カウンセラーで、多数の著書を執筆している堀肇さんの著書『心の部屋を空けて』（2006年発売）が、装いも新たに、３つのエッセイを加え、改訂出版されました。この本は、牧師として、またカウンセラーとして多くの方と関わってきた堀さんが、自分の心をどう見つめ、また他者とどう向き合い、さらに家族とどのように関わっていけばよいのかについて記したエッセイです。 \n番組では３回にわたって堀さんに、この本についてお話を伺います。１回目は、自分の心をどう見つめるかを掘り下げていきます。
URL:https://kinpoden.com/lifeline/%e3%80%8c%e5%bf%83%e3%81%ae%e9%83%a8%e5%b1%8b%e3%82%92%e7%a9%ba%e3%81%91%e3%81%a6%e3%80%8d-3/
CATEGORIES:テレビ「ライフライン」番組表
ATTACH;FMTTYPE=image/jpeg:https://kinpoden.com/wp-content/uploads/2018/04/1523608218.jpg
END:VEVENT
BEGIN:VEVENT
DTSTART;TZID=Asia/Tokyo:20180428T000000
DTEND;TZID=Asia/Tokyo:20180429T235959
DTSTAMP:20260426T002500
CREATED:20180320T003700Z
LAST-MODIFIED:20180320T003700Z
UID:14271-1524873600-1525046399@kinpoden.com
SUMMARY:「いのちの輝き」（2）
DESCRIPTION:工藤真史さん  \nメッセージ：原田憲夫 \n  \nピアニストの工藤真史さんを２週にわたって紹介します。工藤さんは４歳でピアノを始め、神戸女学院大学音楽学部ピアノ科、同大学院音楽専攻科に進みます。卒業後はドイツに留学し、複数の大学で研鑽を積むかたわら、演奏活動を展開、高い評価を得るようになりました。そんな中、2012年に直腸癌を、翌年には追い打ちをかけるように乳癌を患い、現在も治療を続けています。番組では、この１月に東京で行われたコンサートから演奏をお届けするとともに、工藤さんの演奏者としてのキャリア、また、「与えられた試練から、命の尊さ、生きる喜びをピアノの演奏を通して伝えたい」と語る工藤さんの思いについて紹介します。
URL:https://kinpoden.com/lifeline/%e3%80%8c%e3%81%84%e3%81%ae%e3%81%a1%e3%81%ae%e8%bc%9d%e3%81%8d%e3%80%8d%ef%bc%882%ef%bc%89-3/
CATEGORIES:テレビ「ライフライン」番組表
ATTACH;FMTTYPE=image/jpeg:https://kinpoden.com/wp-content/uploads/2018/03/1521087387.jpg
END:VEVENT
BEGIN:VEVENT
DTSTART;TZID=Asia/Tokyo:20180421T000000
DTEND;TZID=Asia/Tokyo:20180422T235959
DTSTAMP:20260426T002500
CREATED:20180320T003548Z
LAST-MODIFIED:20180320T003548Z
UID:14270-1524268800-1524441599@kinpoden.com
SUMMARY:「いのちの輝き」（1）
DESCRIPTION:工藤真史さん  \nメッセージ：岩井基雄 \n  \nピアニストの工藤真史さんを２週にわたって紹介します。工藤さんは４歳でピアノを始め、神戸女学院大学音楽学部ピアノ科、同大学院音楽専攻科に進みます。卒業後はドイツに留学し、複数の大学で研鑽を積むかたわら、演奏活動を展開、高い評価を得るようになりました。そんな中、2012年に直腸癌を、翌年には追い打ちをかけるように乳癌を患い、現在も治療を続けています。番組では、この１月に東京で行われたコンサートから演奏をお届けするとともに、工藤さんの演奏者としてのキャリア、また、「与えられた試練から、命の尊さ、生きる喜びをピアノの演奏を通して伝えたい」と語る工藤さんの思いについて紹介します。
URL:https://kinpoden.com/lifeline/%e3%80%8c%e3%81%84%e3%81%ae%e3%81%a1%e3%81%ae%e8%bc%9d%e3%81%8d%e3%80%8d%ef%bc%881%ef%bc%89-3/
CATEGORIES:テレビ「ライフライン」番組表
ATTACH;FMTTYPE=image/jpeg:https://kinpoden.com/wp-content/uploads/2018/03/1521087387.jpg
END:VEVENT
BEGIN:VEVENT
DTSTART;TZID=Asia/Tokyo:20180414T000000
DTEND;TZID=Asia/Tokyo:20180415T235959
DTSTAMP:20260426T002500
CREATED:20180320T003434Z
LAST-MODIFIED:20180320T003434Z
UID:14269-1523664000-1523836799@kinpoden.com
SUMMARY:「西郷隆盛と聖書」
DESCRIPTION:守部喜雅さん \nメッセージ：安海靖郎 \n  \n『聖書を読んだサムライたち』『サムライウーマン新島八重』など多数の著作を持つジャーナリストの守部喜雅さんが、今年、『西郷隆盛と聖書』という本を出版しました。この本は、薩摩藩士で明治維新の代表的な政治家であった西郷隆盛が聖書を読んでいたと言われる出来事に迫るものです。番組では、西郷隆盛について、また、彼が聖書から影響を受けたことについて守部さんにお話を伺います。
URL:https://kinpoden.com/lifeline/%e3%80%8c%e8%a5%bf%e9%83%b7%e9%9a%86%e7%9b%9b%e3%81%a8%e8%81%96%e6%9b%b8%e3%80%8d-3/
CATEGORIES:テレビ「ライフライン」番組表
ATTACH;FMTTYPE=image/jpeg:https://kinpoden.com/wp-content/uploads/2018/03/1521091225.jpg
END:VEVENT
BEGIN:VEVENT
DTSTART;TZID=Asia/Tokyo:20180407T000000
DTEND;TZID=Asia/Tokyo:20180408T235959
DTSTAMP:20260426T002500
CREATED:20180320T003325Z
LAST-MODIFIED:20180320T003325Z
UID:14268-1523059200-1523231999@kinpoden.com
SUMMARY:「やすらぎの庭」
DESCRIPTION:三井宣太郎さん \nメッセージ：原田憲夫 \n  \n住宅庭園の設計や施工管理を行っている三井宣太郎さんは、東京農業大学を卒業後、京都やヨーロッパで修業しました。また、南イタリアの世界遺産アルベロベッロにある石作りの家「トゥルッリ」造りに携わり、現地メディアからは日本人初の「トゥルッリ」職人としても紹介されました。帰国後は、家業の造園会社相模庭苑で働きながら、ガーデニングショーなどにも出展し、数々の賞を受賞しています。そんな三井さんは、数年前に造園家生命に関わる大けがをし、そこから働き方が変化したと言います。仕事の様子をお届けするとともにお話を伺います。
URL:https://kinpoden.com/lifeline/%e3%80%8c%e3%82%84%e3%81%99%e3%82%89%e3%81%8e%e3%81%ae%e5%ba%ad%e3%80%8d-3/
CATEGORIES:テレビ「ライフライン」番組表
ATTACH;FMTTYPE=image/jpeg:https://kinpoden.com/wp-content/uploads/2018/03/1521087044.jpg
END:VEVENT
BEGIN:VEVENT
DTSTART;TZID=Asia/Tokyo:20180331T000000
DTEND;TZID=Asia/Tokyo:20180401T235959
DTSTAMP:20260426T002500
CREATED:20180320T003220Z
LAST-MODIFIED:20180320T003220Z
UID:14267-1522454400-1522627199@kinpoden.com
SUMMARY:「復活 ～たとえ死んでも生きる～」
DESCRIPTION:イースター番組 \nメッセージ：村上宣道 \n  \nキリストの復活を記念してお祝いするイースター（復活祭）。今回は、番組のバイブルコーナーを担当する村上宣道牧師が、千葉県千葉市にあるキリスト教会で語ったイースターメッセージ「復活 ～たとえ死んでも生きる～」をお届けします。また、会場教会の聖歌隊による賛美歌もお楽しみください。
URL:https://kinpoden.com/lifeline/%e3%80%8c%e5%be%a9%e6%b4%bb-%ef%bd%9e%e3%81%9f%e3%81%a8%e3%81%88%e6%ad%bb%e3%82%93%e3%81%a7%e3%82%82%e7%94%9f%e3%81%8d%e3%82%8b%ef%bd%9e%e3%80%8d-3/
CATEGORIES:テレビ「ライフライン」番組表
ATTACH;FMTTYPE=image/jpeg:https://kinpoden.com/wp-content/uploads/2018/03/1521086744.jpg
END:VEVENT
BEGIN:VEVENT
DTSTART;TZID=Asia/Tokyo:20180324T000000
DTEND;TZID=Asia/Tokyo:20180325T235959
DTSTAMP:20260426T002500
CREATED:20180220T023517Z
LAST-MODIFIED:20180220T023517Z
UID:14266-1521849600-1522022399@kinpoden.com
SUMMARY:「受難と復活」
DESCRIPTION:イースター番組 \n礒川道夫さん \nメッセージ：関根弘興 \n  \nキリストの復活を記念してお祝いする「イースター」番組を２週にわたってお届けします。１週目は、いのちのことば社の礒川道夫さんに一昨年日本で公開され、DVD化されているキリスト教映画「復活」について紹介していただきながら「本当にイエス・キリストは復活したのか？」について考えていきます。
URL:https://kinpoden.com/lifeline/%e3%80%8c%e5%8f%97%e9%9b%a3%e3%81%a8%e5%be%a9%e6%b4%bb%e3%80%8d-3/
CATEGORIES:テレビ「ライフライン」番組表
ATTACH;FMTTYPE=image/jpeg:https://kinpoden.com/wp-content/uploads/2018/02/1518685840.jpg
END:VEVENT
BEGIN:VEVENT
DTSTART;TZID=Asia/Tokyo:20180317T000000
DTEND;TZID=Asia/Tokyo:20180318T235959
DTSTAMP:20260426T002500
CREATED:20180220T023343Z
LAST-MODIFIED:20180220T023343Z
UID:14265-1521244800-1521417599@kinpoden.com
SUMMARY:「家族をHappyに」
DESCRIPTION:メイ成美さん \nメッセージ：岩井基雄 \n  \n沖縄県那覇市に家事レッスンスタジオを持つ「GHOグッドハウスキーピングおきなわ」は、ハウスクリーニング、家事代行、お掃除や整理・収納のコーディネート、セミナーやレッスンなどを行っています。代表取締役のメイ成美さんは、沖縄に移住し、キリスト教信仰を持ったことをきっかけに、家族がハッピーに過ごすことができる家を作るための手伝いをしたいと、この働きを始めたといいます。メイさんにお話を伺うとともに、衣類の収納レッスンの様子を紹介します。
URL:https://kinpoden.com/lifeline/%e3%80%8c%e5%ae%b6%e6%97%8f%e3%82%92happy%e3%81%ab%e3%80%8d-3/
CATEGORIES:テレビ「ライフライン」番組表
ATTACH;FMTTYPE=image/jpeg:https://kinpoden.com/wp-content/uploads/2018/02/1518684769.jpg
END:VEVENT
BEGIN:VEVENT
DTSTART;TZID=Asia/Tokyo:20180310T000000
DTEND;TZID=Asia/Tokyo:20180311T235959
DTSTAMP:20260426T002500
CREATED:20180220T023226Z
LAST-MODIFIED:20180220T023226Z
UID:14264-1520640000-1520812799@kinpoden.com
SUMMARY:「Lasting note ～ 残香」
DESCRIPTION:竹下 静さん \nメッセージ：岩井基雄 \n  \nシンガーソングライターの竹下静さんは、昨年からゴスペルピアニスト・山本裕太さんと「Lasting note（ラスティングノート）」というユニットを結成し活動しています。そんな竹下さんは、宮城県仙台市出身で、東日本大震災をきっかけに音楽への取り組みが変わり、東北をはじめ、日本全国でのコンサート活動に力を入れるようになりました。故郷への思いを伺うとともに「Lasting note」の歌をお届けします。
URL:https://kinpoden.com/lifeline/%e3%80%8clasting-note-%ef%bd%9e-%e6%ae%8b%e9%a6%99%e3%80%8d-3/
CATEGORIES:テレビ「ライフライン」番組表
ATTACH;FMTTYPE=image/jpeg:https://kinpoden.com/wp-content/uploads/2018/02/1518684526.jpg
END:VEVENT
BEGIN:VEVENT
DTSTART;TZID=Asia/Tokyo:20180303T000000
DTEND;TZID=Asia/Tokyo:20180304T235959
DTSTAMP:20260426T002500
CREATED:20180220T023110Z
LAST-MODIFIED:20180220T023110Z
UID:14263-1520035200-1520207999@kinpoden.com
SUMMARY:「『異邦人』のヒットの陰で」
DESCRIPTION:久米小百合さん \nメッセージ：原田憲夫 \n  \n前週に続いて、音楽宣教師の久米小百合さんを紹介します。久米さんは、久保田早紀として1979年に『異邦人』でデビューしました。この曲は、日本のポップスを語る上で欠かせない１曲として、今でも多くの音楽ファンに愛されています。久米さんは、久保田早紀としての音楽活動を引退した後、音楽宣教師として、新しいスタイルのコンサートを行ってきました。昨年11月にリリースしたアルバムの発売記念ライブから歌をお届けするとともに、デビューした頃のエピソードや引退後の活動についてなどのお話を伺います。
URL:https://kinpoden.com/lifeline/%e3%80%8c%e3%80%8e%e7%95%b0%e9%82%a6%e4%ba%ba%e3%80%8f%e3%81%ae%e3%83%92%e3%83%83%e3%83%88%e3%81%ae%e9%99%b0%e3%81%a7%e3%80%8d-4/
CATEGORIES:テレビ「ライフライン」番組表
ATTACH;FMTTYPE=image/jpeg:https://kinpoden.com/wp-content/uploads/2018/02/1518684349.jpg
END:VEVENT
BEGIN:VEVENT
DTSTART;TZID=Asia/Tokyo:20180224T000000
DTEND;TZID=Asia/Tokyo:20180225T235959
DTSTAMP:20260426T002500
CREATED:20180123T004413Z
LAST-MODIFIED:20180123T004413Z
UID:14262-1519430400-1519603199@kinpoden.com
SUMMARY:「7carats＋1」
DESCRIPTION:久米小百合さん \nメッセージ：原田憲夫 \n  \n久保田早紀として1979年にリリースした『異邦人』は、日本のポップスを語る上で欠かせない１曲として、今でも多くの音楽ファンに愛されています。久米小百合さんは、久保田早紀としての音楽活動を引退した後、教会音楽家として、新しいスタイルのコンサートを企画・提案・実施してきました。昨年11月にリリースしたアルバム『7carats＋1』は、数ある賛美歌の中から厳選した８曲が、さまざまなアレンジで収められています。発売を記念したコンサートから歌をお届けするとともに、久米さんにお話を伺います。
URL:https://kinpoden.com/lifeline/%e3%80%8c7carats%ef%bc%8b1%e3%80%8d-3/
CATEGORIES:テレビ「ライフライン」番組表
ATTACH;FMTTYPE=image/jpeg:https://kinpoden.com/wp-content/uploads/2018/01/1516177247.jpg
END:VEVENT
BEGIN:VEVENT
DTSTART;TZID=Asia/Tokyo:20180217T000000
DTEND;TZID=Asia/Tokyo:20180218T235959
DTSTAMP:20260426T002500
CREATED:20180123T004307Z
LAST-MODIFIED:20180123T004307Z
UID:14261-1518825600-1518998399@kinpoden.com
SUMMARY:「福音のリアリティ」（2）
DESCRIPTION:根田祥一さん（2） \nメッセージ：岩井基雄 \n  \nキリスト教出版社「いのちのことば社」出版部編集長の根田祥一さんに２週にわたってお話を伺います。根田さんは、長年、キリスト教の新聞、雑誌、書籍等の出版に携わってきました。 \n２週目は、昨年出版された本『憎しみを越えて 宣教師ディシェイザー 平和の使者になった真珠湾報復の爆撃手』について伺います。この本は、第二次世界大戦時に復讐に燃え、日本襲撃に志願した青年・ディシェイザーの物語で、敵対していた者同士の和解と赦し、生き方や価値観が全く新しくされるという、事実に基づく軌跡が描かれています。
URL:https://kinpoden.com/lifeline/%e3%80%8c%e7%a6%8f%e9%9f%b3%e3%81%ae%e3%83%aa%e3%82%a2%e3%83%aa%e3%83%86%e3%82%a3%e3%80%8d-%e6%a0%b9%e7%94%b0%e7%a5%a5%e4%b8%80%e3%81%95%e3%82%93%ef%bc%882%ef%bc%89-3/
CATEGORIES:テレビ「ライフライン」番組表
ATTACH;FMTTYPE=image/jpeg:https://kinpoden.com/wp-content/uploads/2018/01/1516176055.jpg
END:VEVENT
BEGIN:VEVENT
DTSTART;TZID=Asia/Tokyo:20180210T000000
DTEND;TZID=Asia/Tokyo:20180211T235959
DTSTAMP:20260426T002500
CREATED:20180123T004145Z
LAST-MODIFIED:20180123T004145Z
UID:14260-1518220800-1518393599@kinpoden.com
SUMMARY:「福音のリアリティ」（1）
DESCRIPTION: 根田祥一さん（1） \nメッセージ：安海靖郎 \n  \nキリスト教出版社「いのちのことば社」出版部編集長の根田祥一さんに２週にわたってお話を伺います。根田さんは、長年、キリスト教の新聞、雑誌、書籍等の出版に携わってきました。 \n１週目は、現在、編集に関わっている本に対する思いを伺うとともに、根田さんがどのようなことがきっかけでキリスト教信仰を持ち、出版の世界に携わっていったのかなどのお話も伺います。
URL:https://kinpoden.com/lifeline/%e3%80%8c%e7%a6%8f%e9%9f%b3%e3%81%ae%e3%83%aa%e3%82%a2%e3%83%aa%e3%83%86%e3%82%a3%e3%80%8d-%e6%a0%b9%e7%94%b0%e7%a5%a5%e4%b8%80%e3%81%95%e3%82%93%ef%bc%881%ef%bc%89-3/
CATEGORIES:テレビ「ライフライン」番組表
ATTACH;FMTTYPE=image/jpeg:https://kinpoden.com/wp-content/uploads/2018/01/1516176055.jpg
END:VEVENT
BEGIN:VEVENT
DTSTART;TZID=Asia/Tokyo:20180203T000000
DTEND;TZID=Asia/Tokyo:20180204T235959
DTSTAMP:20260426T002500
CREATED:20180123T004006Z
LAST-MODIFIED:20180123T004006Z
UID:14259-1517616000-1517788799@kinpoden.com
SUMMARY:「あなたを捜し続け、あなたを待ち続けるキリスト」
DESCRIPTION:ライフ・ラインのつどい in 大阪 \n「あなたを捜し続け、あなたを待ち続けるキリスト」 \nメッセージ：原田憲夫 \n  \n昨年10月に大阪府箕面市で行った「ライフ・ラインのつどい」では、バイブルコーナーでおなじみの原田憲夫牧師が「あなたを捜し続け、あなたを待ち続けるキリスト」というタイトルで聖書のメッセージを語りました。また、地元で活動するゴスペルシンガー・林田知子さんが賛美歌を歌いました。そんな「つどい」の様子を紹介します。
URL:https://kinpoden.com/lifeline/%e3%80%8c%e3%81%82%e3%81%aa%e3%81%9f%e3%82%92%e6%8d%9c%e3%81%97%e7%b6%9a%e3%81%91%e3%80%81%e3%81%82%e3%81%aa%e3%81%9f%e3%82%92%e5%be%85%e3%81%a1%e7%b6%9a%e3%81%91%e3%82%8b%e3%82%ad%e3%83%aa%e3%82%b9-3/
CATEGORIES:テレビ「ライフライン」番組表
ATTACH;FMTTYPE=image/jpeg:https://kinpoden.com/wp-content/uploads/2018/01/1516175790.jpg
END:VEVENT
BEGIN:VEVENT
DTSTART;TZID=Asia/Tokyo:20180127T000000
DTEND;TZID=Asia/Tokyo:20180128T235959
DTSTAMP:20260426T002500
CREATED:20171225T011923Z
LAST-MODIFIED:20171225T011923Z
UID:14258-1517011200-1517183999@kinpoden.com
SUMMARY:「賛美と共に25年」
DESCRIPTION:森 祐理さん \nメッセージ：岩井基雄 \n  \n福音歌手・森祐理さんは、心に響く美しい歌声で、多くの方々に希望のメッセージを届けています。そんな森さんは昨年、福音歌手として歩み始めて25年目を迎えました。10月に兵庫県芦屋市で行われた「25周年記念コンサート」から歌をお届けするとともにお話を伺います。
URL:https://kinpoden.com/lifeline/%e3%80%8c%e8%b3%9b%e7%be%8e%e3%81%a8%e5%85%b1%e3%81%ab25%e5%b9%b4%e3%80%8d-3/
CATEGORIES:テレビ「ライフライン」番組表
ATTACH;FMTTYPE=image/jpeg:https://kinpoden.com/wp-content/uploads/2017/12/1513066177.jpg
END:VEVENT
BEGIN:VEVENT
DTSTART;TZID=Asia/Tokyo:20180120T000000
DTEND;TZID=Asia/Tokyo:20180121T235959
DTSTAMP:20260426T002500
CREATED:20171225T011805Z
LAST-MODIFIED:20171225T011805Z
UID:14257-1516406400-1516579199@kinpoden.com
SUMMARY:「色彩豊かに」
DESCRIPTION:服部州恵さん \nメッセージ：安海靖郎 \n  \n埼玉県さいたま市在住の画家・服部州恵さんは、イタリア・ルネッサンスの頃から用いられている、絵の具の定着に卵を使う「テンペラ」という技法で制作を行っています。服部さんの作品には花や女性が多く、美しく感じたものを写実と抽象を織り交ぜて表現しています。作品や制作の様子を紹介するとともに、服部さんが作品に込めた思いなどを伺います。
URL:https://kinpoden.com/lifeline/%e3%80%8c%e8%89%b2%e5%bd%a9%e8%b1%8a%e3%81%8b%e3%81%ab%e3%80%8d-3/
CATEGORIES:テレビ「ライフライン」番組表
ATTACH;FMTTYPE=image/jpeg:https://kinpoden.com/wp-content/uploads/2017/12/1513065851.jpg
END:VEVENT
BEGIN:VEVENT
DTSTART;TZID=Asia/Tokyo:20180113T000000
DTEND;TZID=Asia/Tokyo:20180114T235959
DTSTAMP:20260426T002500
CREATED:20171225T011542Z
LAST-MODIFIED:20171225T011542Z
UID:14256-1515801600-1515974399@kinpoden.com
SUMMARY:「ゴスペル落語 in 大阪」（2）
DESCRIPTION:大阪市で行われた「ゴスペル落語会」の様子を２週にわたってお届けします。この「落語会」には、落語家・女優として活躍している露のききょうさんをはじめ、８名のクリスチャンたちが出演しました。年始め、聖書をモチーフにした福音落語でお楽しみください。
URL:https://kinpoden.com/lifeline/%e3%80%8c%e3%82%b4%e3%82%b9%e3%83%9a%e3%83%ab%e8%90%bd%e8%aa%9e-in-%e5%a4%a7%e9%98%aa%e3%80%8d%ef%bc%882%ef%bc%89-3/
CATEGORIES:テレビ「ライフライン」番組表
ATTACH;FMTTYPE=image/jpeg:https://kinpoden.com/wp-content/uploads/2017/12/1513064304-1.jpg
END:VEVENT
END:VCALENDAR