BEGIN:VCALENDAR
VERSION:2.0
PRODID:-//近畿福音放送伝道協力会 – 近放伝公式ウェブサイト - ECPv6.15.16//NONSGML v1.0//EN
CALSCALE:GREGORIAN
METHOD:PUBLISH
X-WR-CALNAME:近畿福音放送伝道協力会 – 近放伝公式ウェブサイト
X-ORIGINAL-URL:https://kinpoden.com
X-WR-CALDESC:近畿福音放送伝道協力会 – 近放伝公式ウェブサイト のイベント
REFRESH-INTERVAL;VALUE=DURATION:PT1H
X-Robots-Tag:noindex
X-PUBLISHED-TTL:PT1H
BEGIN:VTIMEZONE
TZID:Asia/Tokyo
BEGIN:STANDARD
TZOFFSETFROM:+0900
TZOFFSETTO:+0900
TZNAME:JST
DTSTART:20160101T000000
END:STANDARD
END:VTIMEZONE
BEGIN:VEVENT
DTSTART;TZID=Asia/Tokyo:20180317T000000
DTEND;TZID=Asia/Tokyo:20180318T235959
DTSTAMP:20260426T032706
CREATED:20180220T023343Z
LAST-MODIFIED:20180220T023343Z
UID:14265-1521244800-1521417599@kinpoden.com
SUMMARY:「家族をHappyに」
DESCRIPTION:メイ成美さん \nメッセージ：岩井基雄 \n  \n沖縄県那覇市に家事レッスンスタジオを持つ「GHOグッドハウスキーピングおきなわ」は、ハウスクリーニング、家事代行、お掃除や整理・収納のコーディネート、セミナーやレッスンなどを行っています。代表取締役のメイ成美さんは、沖縄に移住し、キリスト教信仰を持ったことをきっかけに、家族がハッピーに過ごすことができる家を作るための手伝いをしたいと、この働きを始めたといいます。メイさんにお話を伺うとともに、衣類の収納レッスンの様子を紹介します。
URL:https://kinpoden.com/lifeline/%e3%80%8c%e5%ae%b6%e6%97%8f%e3%82%92happy%e3%81%ab%e3%80%8d-3/
CATEGORIES:テレビ「ライフライン」番組表
ATTACH;FMTTYPE=image/jpeg:https://kinpoden.com/wp-content/uploads/2018/02/1518684769.jpg
END:VEVENT
BEGIN:VEVENT
DTSTART;TZID=Asia/Tokyo:20180310T000000
DTEND;TZID=Asia/Tokyo:20180311T235959
DTSTAMP:20260426T032706
CREATED:20180220T023226Z
LAST-MODIFIED:20180220T023226Z
UID:14264-1520640000-1520812799@kinpoden.com
SUMMARY:「Lasting note ～ 残香」
DESCRIPTION:竹下 静さん \nメッセージ：岩井基雄 \n  \nシンガーソングライターの竹下静さんは、昨年からゴスペルピアニスト・山本裕太さんと「Lasting note（ラスティングノート）」というユニットを結成し活動しています。そんな竹下さんは、宮城県仙台市出身で、東日本大震災をきっかけに音楽への取り組みが変わり、東北をはじめ、日本全国でのコンサート活動に力を入れるようになりました。故郷への思いを伺うとともに「Lasting note」の歌をお届けします。
URL:https://kinpoden.com/lifeline/%e3%80%8clasting-note-%ef%bd%9e-%e6%ae%8b%e9%a6%99%e3%80%8d-3/
CATEGORIES:テレビ「ライフライン」番組表
ATTACH;FMTTYPE=image/jpeg:https://kinpoden.com/wp-content/uploads/2018/02/1518684526.jpg
END:VEVENT
BEGIN:VEVENT
DTSTART;TZID=Asia/Tokyo:20180303T000000
DTEND;TZID=Asia/Tokyo:20180304T235959
DTSTAMP:20260426T032706
CREATED:20180220T023110Z
LAST-MODIFIED:20180220T023110Z
UID:14263-1520035200-1520207999@kinpoden.com
SUMMARY:「『異邦人』のヒットの陰で」
DESCRIPTION:久米小百合さん \nメッセージ：原田憲夫 \n  \n前週に続いて、音楽宣教師の久米小百合さんを紹介します。久米さんは、久保田早紀として1979年に『異邦人』でデビューしました。この曲は、日本のポップスを語る上で欠かせない１曲として、今でも多くの音楽ファンに愛されています。久米さんは、久保田早紀としての音楽活動を引退した後、音楽宣教師として、新しいスタイルのコンサートを行ってきました。昨年11月にリリースしたアルバムの発売記念ライブから歌をお届けするとともに、デビューした頃のエピソードや引退後の活動についてなどのお話を伺います。
URL:https://kinpoden.com/lifeline/%e3%80%8c%e3%80%8e%e7%95%b0%e9%82%a6%e4%ba%ba%e3%80%8f%e3%81%ae%e3%83%92%e3%83%83%e3%83%88%e3%81%ae%e9%99%b0%e3%81%a7%e3%80%8d-4/
CATEGORIES:テレビ「ライフライン」番組表
ATTACH;FMTTYPE=image/jpeg:https://kinpoden.com/wp-content/uploads/2018/02/1518684349.jpg
END:VEVENT
BEGIN:VEVENT
DTSTART;TZID=Asia/Tokyo:20180224T000000
DTEND;TZID=Asia/Tokyo:20180225T235959
DTSTAMP:20260426T032706
CREATED:20180123T004413Z
LAST-MODIFIED:20180123T004413Z
UID:14262-1519430400-1519603199@kinpoden.com
SUMMARY:「7carats＋1」
DESCRIPTION:久米小百合さん \nメッセージ：原田憲夫 \n  \n久保田早紀として1979年にリリースした『異邦人』は、日本のポップスを語る上で欠かせない１曲として、今でも多くの音楽ファンに愛されています。久米小百合さんは、久保田早紀としての音楽活動を引退した後、教会音楽家として、新しいスタイルのコンサートを企画・提案・実施してきました。昨年11月にリリースしたアルバム『7carats＋1』は、数ある賛美歌の中から厳選した８曲が、さまざまなアレンジで収められています。発売を記念したコンサートから歌をお届けするとともに、久米さんにお話を伺います。
URL:https://kinpoden.com/lifeline/%e3%80%8c7carats%ef%bc%8b1%e3%80%8d-3/
CATEGORIES:テレビ「ライフライン」番組表
ATTACH;FMTTYPE=image/jpeg:https://kinpoden.com/wp-content/uploads/2018/01/1516177247.jpg
END:VEVENT
BEGIN:VEVENT
DTSTART;TZID=Asia/Tokyo:20180217T000000
DTEND;TZID=Asia/Tokyo:20180218T235959
DTSTAMP:20260426T032706
CREATED:20180123T004307Z
LAST-MODIFIED:20180123T004307Z
UID:14261-1518825600-1518998399@kinpoden.com
SUMMARY:「福音のリアリティ」（2）
DESCRIPTION:根田祥一さん（2） \nメッセージ：岩井基雄 \n  \nキリスト教出版社「いのちのことば社」出版部編集長の根田祥一さんに２週にわたってお話を伺います。根田さんは、長年、キリスト教の新聞、雑誌、書籍等の出版に携わってきました。 \n２週目は、昨年出版された本『憎しみを越えて 宣教師ディシェイザー 平和の使者になった真珠湾報復の爆撃手』について伺います。この本は、第二次世界大戦時に復讐に燃え、日本襲撃に志願した青年・ディシェイザーの物語で、敵対していた者同士の和解と赦し、生き方や価値観が全く新しくされるという、事実に基づく軌跡が描かれています。
URL:https://kinpoden.com/lifeline/%e3%80%8c%e7%a6%8f%e9%9f%b3%e3%81%ae%e3%83%aa%e3%82%a2%e3%83%aa%e3%83%86%e3%82%a3%e3%80%8d-%e6%a0%b9%e7%94%b0%e7%a5%a5%e4%b8%80%e3%81%95%e3%82%93%ef%bc%882%ef%bc%89-3/
CATEGORIES:テレビ「ライフライン」番組表
ATTACH;FMTTYPE=image/jpeg:https://kinpoden.com/wp-content/uploads/2018/01/1516176055.jpg
END:VEVENT
BEGIN:VEVENT
DTSTART;TZID=Asia/Tokyo:20180210T000000
DTEND;TZID=Asia/Tokyo:20180211T235959
DTSTAMP:20260426T032706
CREATED:20180123T004145Z
LAST-MODIFIED:20180123T004145Z
UID:14260-1518220800-1518393599@kinpoden.com
SUMMARY:「福音のリアリティ」（1）
DESCRIPTION: 根田祥一さん（1） \nメッセージ：安海靖郎 \n  \nキリスト教出版社「いのちのことば社」出版部編集長の根田祥一さんに２週にわたってお話を伺います。根田さんは、長年、キリスト教の新聞、雑誌、書籍等の出版に携わってきました。 \n１週目は、現在、編集に関わっている本に対する思いを伺うとともに、根田さんがどのようなことがきっかけでキリスト教信仰を持ち、出版の世界に携わっていったのかなどのお話も伺います。
URL:https://kinpoden.com/lifeline/%e3%80%8c%e7%a6%8f%e9%9f%b3%e3%81%ae%e3%83%aa%e3%82%a2%e3%83%aa%e3%83%86%e3%82%a3%e3%80%8d-%e6%a0%b9%e7%94%b0%e7%a5%a5%e4%b8%80%e3%81%95%e3%82%93%ef%bc%881%ef%bc%89-3/
CATEGORIES:テレビ「ライフライン」番組表
ATTACH;FMTTYPE=image/jpeg:https://kinpoden.com/wp-content/uploads/2018/01/1516176055.jpg
END:VEVENT
BEGIN:VEVENT
DTSTART;TZID=Asia/Tokyo:20180203T000000
DTEND;TZID=Asia/Tokyo:20180204T235959
DTSTAMP:20260426T032706
CREATED:20180123T004006Z
LAST-MODIFIED:20180123T004006Z
UID:14259-1517616000-1517788799@kinpoden.com
SUMMARY:「あなたを捜し続け、あなたを待ち続けるキリスト」
DESCRIPTION:ライフ・ラインのつどい in 大阪 \n「あなたを捜し続け、あなたを待ち続けるキリスト」 \nメッセージ：原田憲夫 \n  \n昨年10月に大阪府箕面市で行った「ライフ・ラインのつどい」では、バイブルコーナーでおなじみの原田憲夫牧師が「あなたを捜し続け、あなたを待ち続けるキリスト」というタイトルで聖書のメッセージを語りました。また、地元で活動するゴスペルシンガー・林田知子さんが賛美歌を歌いました。そんな「つどい」の様子を紹介します。
URL:https://kinpoden.com/lifeline/%e3%80%8c%e3%81%82%e3%81%aa%e3%81%9f%e3%82%92%e6%8d%9c%e3%81%97%e7%b6%9a%e3%81%91%e3%80%81%e3%81%82%e3%81%aa%e3%81%9f%e3%82%92%e5%be%85%e3%81%a1%e7%b6%9a%e3%81%91%e3%82%8b%e3%82%ad%e3%83%aa%e3%82%b9-3/
CATEGORIES:テレビ「ライフライン」番組表
ATTACH;FMTTYPE=image/jpeg:https://kinpoden.com/wp-content/uploads/2018/01/1516175790.jpg
END:VEVENT
BEGIN:VEVENT
DTSTART;TZID=Asia/Tokyo:20180127T000000
DTEND;TZID=Asia/Tokyo:20180128T235959
DTSTAMP:20260426T032706
CREATED:20171225T011923Z
LAST-MODIFIED:20171225T011923Z
UID:14258-1517011200-1517183999@kinpoden.com
SUMMARY:「賛美と共に25年」
DESCRIPTION:森 祐理さん \nメッセージ：岩井基雄 \n  \n福音歌手・森祐理さんは、心に響く美しい歌声で、多くの方々に希望のメッセージを届けています。そんな森さんは昨年、福音歌手として歩み始めて25年目を迎えました。10月に兵庫県芦屋市で行われた「25周年記念コンサート」から歌をお届けするとともにお話を伺います。
URL:https://kinpoden.com/lifeline/%e3%80%8c%e8%b3%9b%e7%be%8e%e3%81%a8%e5%85%b1%e3%81%ab25%e5%b9%b4%e3%80%8d-3/
CATEGORIES:テレビ「ライフライン」番組表
ATTACH;FMTTYPE=image/jpeg:https://kinpoden.com/wp-content/uploads/2017/12/1513066177.jpg
END:VEVENT
BEGIN:VEVENT
DTSTART;TZID=Asia/Tokyo:20180120T000000
DTEND;TZID=Asia/Tokyo:20180121T235959
DTSTAMP:20260426T032706
CREATED:20171225T011805Z
LAST-MODIFIED:20171225T011805Z
UID:14257-1516406400-1516579199@kinpoden.com
SUMMARY:「色彩豊かに」
DESCRIPTION:服部州恵さん \nメッセージ：安海靖郎 \n  \n埼玉県さいたま市在住の画家・服部州恵さんは、イタリア・ルネッサンスの頃から用いられている、絵の具の定着に卵を使う「テンペラ」という技法で制作を行っています。服部さんの作品には花や女性が多く、美しく感じたものを写実と抽象を織り交ぜて表現しています。作品や制作の様子を紹介するとともに、服部さんが作品に込めた思いなどを伺います。
URL:https://kinpoden.com/lifeline/%e3%80%8c%e8%89%b2%e5%bd%a9%e8%b1%8a%e3%81%8b%e3%81%ab%e3%80%8d-3/
CATEGORIES:テレビ「ライフライン」番組表
ATTACH;FMTTYPE=image/jpeg:https://kinpoden.com/wp-content/uploads/2017/12/1513065851.jpg
END:VEVENT
BEGIN:VEVENT
DTSTART;TZID=Asia/Tokyo:20180113T000000
DTEND;TZID=Asia/Tokyo:20180114T235959
DTSTAMP:20260426T032706
CREATED:20171225T011542Z
LAST-MODIFIED:20171225T011542Z
UID:14256-1515801600-1515974399@kinpoden.com
SUMMARY:「ゴスペル落語 in 大阪」（2）
DESCRIPTION:大阪市で行われた「ゴスペル落語会」の様子を２週にわたってお届けします。この「落語会」には、落語家・女優として活躍している露のききょうさんをはじめ、８名のクリスチャンたちが出演しました。年始め、聖書をモチーフにした福音落語でお楽しみください。
URL:https://kinpoden.com/lifeline/%e3%80%8c%e3%82%b4%e3%82%b9%e3%83%9a%e3%83%ab%e8%90%bd%e8%aa%9e-in-%e5%a4%a7%e9%98%aa%e3%80%8d%ef%bc%882%ef%bc%89-3/
CATEGORIES:テレビ「ライフライン」番組表
ATTACH;FMTTYPE=image/jpeg:https://kinpoden.com/wp-content/uploads/2017/12/1513064304-1.jpg
END:VEVENT
BEGIN:VEVENT
DTSTART;TZID=Asia/Tokyo:20180106T000000
DTEND;TZID=Asia/Tokyo:20180107T235959
DTSTAMP:20260426T032706
CREATED:20171225T011449Z
LAST-MODIFIED:20171225T011449Z
UID:14255-1515196800-1515369599@kinpoden.com
SUMMARY:「ゴスペル落語 in 大阪」（1）
DESCRIPTION:大阪市で行われた「ゴスペル落語会」の様子を２週にわたってお届けします。この「落語会」には、落語家・女優として活躍している露のききょうさんをはじめ、８名のクリスチャンたちが出演しました。年始め、聖書をモチーフにした福音落語でお楽しみください。
URL:https://kinpoden.com/lifeline/%e3%80%8c%e3%82%b4%e3%82%b9%e3%83%9a%e3%83%ab%e8%90%bd%e8%aa%9e-in-%e5%a4%a7%e9%98%aa%e3%80%8d%ef%bc%881%ef%bc%89-3/
CATEGORIES:テレビ「ライフライン」番組表
ATTACH;FMTTYPE=image/jpeg:https://kinpoden.com/wp-content/uploads/2017/12/1513064304-1.jpg
END:VEVENT
BEGIN:VEVENT
DTSTART;TZID=Asia/Tokyo:20171230T000000
DTEND;TZID=Asia/Tokyo:20171231T235959
DTSTAMP:20260426T032706
CREATED:20171122T060437Z
LAST-MODIFIED:20171122T060437Z
UID:14254-1514592000-1514764799@kinpoden.com
SUMMARY:「キリストの香り」
DESCRIPTION:管野万利子さん \nメッセージ：岩井基雄 \n  \n10月にも紹介した「第24回 ユーオーディア賛美の夕べ」の２回目。ユーオーディア管弦楽団・合唱団は、「神をほめたたえる」ことを目的に全国から集まったクリスチャン音楽家で構成されています。今回は、ソリストのひとり、ピアニストの管野万利子さんにお話を伺うとともに、 ユーオーディア管弦楽団・合唱団の音楽をお届けします。
URL:https://kinpoden.com/lifeline/%e3%80%8c%e3%82%ad%e3%83%aa%e3%82%b9%e3%83%88%e3%81%ae%e9%a6%99%e3%82%8a%e3%80%8d-3/
CATEGORIES:テレビ「ライフライン」番組表
ATTACH;FMTTYPE=image/jpeg:https://kinpoden.com/wp-content/uploads/2017/11/1510624141.jpg
END:VEVENT
BEGIN:VEVENT
DTSTART;TZID=Asia/Tokyo:20171223T000000
DTEND;TZID=Asia/Tokyo:20171224T235959
DTSTAMP:20260426T032706
CREATED:20171122T060321Z
LAST-MODIFIED:20171122T060321Z
UID:14253-1513987200-1514159999@kinpoden.com
SUMMARY:「クリスマス for You」
DESCRIPTION:クリスマス番組 \nメッセージ：関根弘興 \n  \nクリスマスをお祝いし、楽しく過ごす「ライフ・ラインのつどい」を静岡県富士宮市で行いました。 関根弘興牧師によるクリスマスのお話「クリスマス for You」 と、サックス奏者・安武玄晃さんのコンサートの様子をお届けします。
URL:https://kinpoden.com/lifeline/%e3%80%8c%e3%82%af%e3%83%aa%e3%82%b9%e3%83%9e%e3%82%b9-for-you%e3%80%8d-3/
CATEGORIES:テレビ「ライフライン」番組表
ATTACH;FMTTYPE=image/jpeg:https://kinpoden.com/wp-content/uploads/2017/11/1510623865.jpg
END:VEVENT
BEGIN:VEVENT
DTSTART;TZID=Asia/Tokyo:20171216T000000
DTEND;TZID=Asia/Tokyo:20171217T235959
DTSTAMP:20260426T032706
CREATED:20171122T060205Z
LAST-MODIFIED:20171122T060205Z
UID:14252-1513382400-1513555199@kinpoden.com
SUMMARY:「三本の木」(2)
DESCRIPTION:クリスマス番組 \n森 祐理さん \nメッセージ：村上宣道 \n  \n福音歌手・森祐理さんは、心に響く美しい歌声で、多くの方々に希望のメッセージを届けています。そんな森さんは今年、福音歌手として歩み始めて25年目を迎えました。10月に兵庫県芦屋市で行われた「25周年記念コンサート」から、朗読ミュージカル「三本の木」を２週にわたってご紹介します。『三本の木』は、ロングセラーになっている人気の絵本で、それぞれの夢を抱いた三本の木のお話です。
URL:https://kinpoden.com/lifeline/%e3%80%8c%e4%b8%89%e6%9c%ac%e3%81%ae%e6%9c%a8%e3%80%8d2-3/
CATEGORIES:テレビ「ライフライン」番組表
ATTACH;FMTTYPE=image/jpeg:https://kinpoden.com/wp-content/uploads/2017/11/1510625658.jpg
END:VEVENT
BEGIN:VEVENT
DTSTART;TZID=Asia/Tokyo:20171209T000000
DTEND;TZID=Asia/Tokyo:20171210T235959
DTSTAMP:20260426T032706
CREATED:20171122T060046Z
LAST-MODIFIED:20171122T060046Z
UID:14251-1512777600-1512950399@kinpoden.com
SUMMARY:「三本の木」(1)
DESCRIPTION:クリスマス番組 \n森 祐理さん \nメッセージ：関根弘興 \n  \n福音歌手・森祐理さんは、心に響く美しい歌声で、多くの方々に希望のメッセージを届けています。そんな森さんは今年、福音歌手として歩み始めて25年目を迎えました。10月に兵庫県芦屋市で行われた「25周年記念コンサート」から、朗読ミュージカル「三本の木」を２週にわたってご紹介します。『三本の木』は、ロングセラーになっている人気の絵本で、それぞれの夢を抱いた三本の木のお話です。
URL:https://kinpoden.com/lifeline/%e3%80%8c%e4%b8%89%e6%9c%ac%e3%81%ae%e6%9c%a8%e3%80%8d1-3/
CATEGORIES:テレビ「ライフライン」番組表
ATTACH;FMTTYPE=image/jpeg:https://kinpoden.com/wp-content/uploads/2017/11/1510625658.jpg
END:VEVENT
BEGIN:VEVENT
DTSTART;TZID=Asia/Tokyo:20171202T000000
DTEND;TZID=Asia/Tokyo:20171203T235959
DTSTAMP:20260426T032706
CREATED:20171122T055916Z
LAST-MODIFIED:20171122T055916Z
UID:14250-1512172800-1512345599@kinpoden.com
SUMMARY:「アドベントを楽しく！」
DESCRIPTION:クリスマス番組 \n泉谷千賀子さん \nメッセージ：原田憲夫 \n  \nアドベント（待降節）とは、キリストの降誕を待ち、準備をする期間で、11月30日に最も近い日曜日からクリスマス前日までのことを言います。キリスト降誕をわくわくしながら待ち望み、アドベントを楽しく過ごしてみてはいかがでしょうか。クリスマス番組の１週目は、この春に番組で紹介した羊毛フェルト作家・泉谷千賀子さんに羊毛で作るオーナメントを紹介していただくとともに、お話を伺います。
URL:https://kinpoden.com/lifeline/%e3%80%8c%e3%82%a2%e3%83%89%e3%83%99%e3%83%b3%e3%83%88%e3%82%92%e6%a5%bd%e3%81%97%e3%81%8f%ef%bc%81%e3%80%8d-3/
CATEGORIES:テレビ「ライフライン」番組表
ATTACH;FMTTYPE=image/jpeg:https://kinpoden.com/wp-content/uploads/2017/11/1510622981.jpg
END:VEVENT
BEGIN:VEVENT
DTSTART;TZID=Asia/Tokyo:20171125T000000
DTEND;TZID=Asia/Tokyo:20171126T235959
DTSTAMP:20260426T032706
CREATED:20171024T020251Z
LAST-MODIFIED:20171024T020251Z
UID:14249-1511568000-1511740799@kinpoden.com
SUMMARY:「わすれものをとどけに」
DESCRIPTION:亀岡亜希子さん \nメッセージ：原田憲夫 \n  \n山形県米沢市在住の絵本作家・亀岡亜希子さんは、2000年に『ねんにいちどのおきゃくさま』で絵本作家としての歩みを始めました。以来、絵本や童話の出版、また、童話の挿絵やまんが絵本など幅広い作品を手がけています。昨年出版した絵本『わすれものをとどけに』の原画展の様子を紹介するとともに、「読んだ人の心の奥底に、いつまでもしまっておいてもらえるような絵本を描いていきたい」と語る亀岡さんにお話を伺います。
URL:https://kinpoden.com/lifeline/%e3%80%8c%e3%82%8f%e3%81%99%e3%82%8c%e3%82%82%e3%81%ae%e3%82%92%e3%81%a8%e3%81%a9%e3%81%91%e3%81%ab%e3%80%8d-4/
CATEGORIES:テレビ「ライフライン」番組表
ATTACH;FMTTYPE=image/jpeg:https://kinpoden.com/wp-content/uploads/2017/10/1508209234.jpg
END:VEVENT
BEGIN:VEVENT
DTSTART;TZID=Asia/Tokyo:20171118T000000
DTEND;TZID=Asia/Tokyo:20171119T235959
DTSTAMP:20260426T032706
CREATED:20171024T020110Z
LAST-MODIFIED:20171024T020110Z
UID:14248-1510963200-1511135999@kinpoden.com
SUMMARY:「将来に希望と光を」
DESCRIPTION:スティーブンさん、石坂明日香さん \nメッセージ：安海靖郎 \n  \n世界の貧困・飢餓・紛争に苦しむ子どもたちを支援している特定非営利活動法人ワールド・ビジョン・ジャパンの働きを紹介します。今回は、ワールド・ビジョンの働き「チャイルド・スポンサーシップ」の支援を受けて成長し、現在、日本の大学で学んでいるスティーブンさんと、ワールド・ビジョン・ジャパンのスタッフ、石坂明日香さんにお話を伺います。 \n 
URL:https://kinpoden.com/lifeline/%e3%80%8c%e5%b0%86%e6%9d%a5%e3%81%ab%e5%b8%8c%e6%9c%9b%e3%81%a8%e5%85%89%e3%82%92%e3%80%8d-4/
CATEGORIES:テレビ「ライフライン」番組表
ATTACH;FMTTYPE=image/jpeg:https://kinpoden.com/wp-content/uploads/2017/10/1508208913.jpg
END:VEVENT
BEGIN:VEVENT
DTSTART;TZID=Asia/Tokyo:20171111T000000
DTEND;TZID=Asia/Tokyo:20171112T235959
DTSTAMP:20260426T032706
CREATED:20171024T015800Z
LAST-MODIFIED:20171024T015800Z
UID:14247-1510358400-1510531199@kinpoden.com
SUMMARY:「荒波を乗り越えて」
DESCRIPTION:村岡泰右さん \nメッセージ：岩井基雄 \n  \n静岡県富士宮市在住のキリスト教会の牧師・村岡泰右さんは、１歳の頃に父親の仕事で現在の北朝鮮に移住しました。その後、太平洋戦争が起こり、６歳で終戦を迎えます。ソ連兵の侵攻で生命が危うくなった12月の極寒の中、村岡さん一家は北朝鮮からの脱出を決行し、奇跡的に日本に帰り着くことができました。帰国後、クリスチャンになり、牧師となった村岡さんに当時の思いや出来事について伺います。
URL:https://kinpoden.com/lifeline/%e3%80%8c%e8%8d%92%e6%b3%a2%e3%82%92%e4%b9%97%e3%82%8a%e8%b6%8a%e3%81%88%e3%81%a6%e3%80%8d-3/
CATEGORIES:テレビ「ライフライン」番組表
ATTACH;FMTTYPE=image/jpeg:https://kinpoden.com/wp-content/uploads/2017/10/1508208671.jpg
END:VEVENT
BEGIN:VEVENT
DTSTART;TZID=Asia/Tokyo:20171104T000000
DTEND;TZID=Asia/Tokyo:20171105T235959
DTSTAMP:20260426T032706
CREATED:20171024T015543Z
LAST-MODIFIED:20171024T015543Z
UID:14246-1509753600-1509926399@kinpoden.com
SUMMARY:「イエスとの絆を結ぶ」
DESCRIPTION:ライフ・ラインのつどい in 群馬 \n「イエスとの絆を結ぶ」 \nメッセージ：羽鳥頼和 \n  \n  \nこの10月に群馬県前橋市で「ライフ・ラインのつどい」を行いました。つどいでは、ラジオ番組「世の光」でおなじみの羽鳥頼和牧師が「イエスとの絆を結ぶ」というタイトルで聖書のメッセージを語りました。そんな「つどい」の様子を紹介します。
URL:https://kinpoden.com/lifeline/%e3%80%8c%e3%82%a4%e3%82%a8%e3%82%b9%e3%81%a8%e3%81%ae%e7%b5%86%e3%82%92%e7%b5%90%e3%81%b6%e3%80%8d-3/
CATEGORIES:テレビ「ライフライン」番組表
ATTACH;FMTTYPE=image/jpeg:https://kinpoden.com/wp-content/uploads/2017/10/1508208498.jpg
END:VEVENT
BEGIN:VEVENT
DTSTART;TZID=Asia/Tokyo:20171028T000000
DTEND;TZID=Asia/Tokyo:20171029T235959
DTSTAMP:20260426T032706
CREATED:20170920T010444Z
LAST-MODIFIED:20170920T010444Z
UID:14245-1509148800-1509321599@kinpoden.com
SUMMARY:「THE DREAM 〜生まれ持った価値」
DESCRIPTION:クリスティアン・マルティーヌさん、三谷梨央さん \nメッセージ：岩井基雄 \n  \n前週紹介した「ABC-Tokyoバレエ団」が行った公演「夢 ーTHE DREAM」の様子をお届けします。この作品は、「ABC-Tokyoバレエ団」のオリジナル創作バレエで、「人が生まれ持った価値とは？ 幸せとは？ 生きている意味とは？」を表現しています。「夢 ーTHE DREAM」の公演の様子を紹介するとともに、芸術監督で指導者のクリスティアン・マルティーヌさんと梨央さん夫妻にお話を伺います。
URL:https://kinpoden.com/lifeline/%e3%80%8cthe-dream-%e3%80%9c%e7%94%9f%e3%81%be%e3%82%8c%e6%8c%81%e3%81%a3%e3%81%9f%e4%be%a1%e5%80%a4%e3%80%8d-3/
CATEGORIES:テレビ「ライフライン」番組表
ATTACH;FMTTYPE=image/jpeg:https://kinpoden.com/wp-content/uploads/2017/09/1505440538.jpg
END:VEVENT
BEGIN:VEVENT
DTSTART;TZID=Asia/Tokyo:20171021T000000
DTEND;TZID=Asia/Tokyo:20171022T235959
DTSTAMP:20260426T032706
CREATED:20170920T010329Z
LAST-MODIFIED:20170920T010329Z
UID:14244-1508544000-1508716799@kinpoden.com
SUMMARY:「神の御手に導かれて」
DESCRIPTION:クリスティアン・マルティーヌさん、三谷梨央さん \n  \n東京都港区にある「オーストリア・バレエ・カンパニー東京」通称「ABC-Tokyoバレエ団」は、1995年にオーストリアのウィーンで発足し、その後、2004年に拠点を日本に移しました。現在、20名ほどのダンサーが所属し、ヨーロッパと日本文化の融合を目指した、新しいバレエに取り組んでいます。創立者のクリスティアン・マルティーヌさんと梨央さん夫妻は、芸術の都ウィーンでバレエを学び、プロのダンサー、芸術監督として欧米のバレエ団で活躍しました。その後、梨央さんの故郷である日本に戻り、以来十数年にわたって「ABC-Tokyoバレエ団」を率いています。バレエ団の様子を紹介するとともに、「神様に導かれてきた」と語る二人にお話を伺います。
URL:https://kinpoden.com/lifeline/%e3%80%8c%e7%a5%9e%e3%81%ae%e5%be%a1%e6%89%8b%e3%81%ab%e5%b0%8e%e3%81%8b%e3%82%8c%e3%81%a6%e3%80%8d-3/
CATEGORIES:テレビ「ライフライン」番組表
ATTACH;FMTTYPE=image/jpeg:https://kinpoden.com/wp-content/uploads/2017/09/1505440538.jpg
END:VEVENT
BEGIN:VEVENT
DTSTART;TZID=Asia/Tokyo:20171014T000000
DTEND;TZID=Asia/Tokyo:20171015T235959
DTSTAMP:20260426T032706
CREATED:20170920T010225Z
LAST-MODIFIED:20170920T010225Z
UID:14243-1507939200-1508111999@kinpoden.com
SUMMARY:「ぱすてるPOP」
DESCRIPTION:長谷川良子さん \nメッセージ：原田憲夫 \n  \n神奈川県相模原市に住む長谷川良子さんは、チョークアート、手描きPOPなどを手がける一般社団法人「ばすてるPOP」の代表を務め、手描きのPOPを制作するとともに、 プロの制作者・指導者を養成するコース、趣味や子ども対象の教室も開いています。そんな長谷川さんは、中学生の時にクラスメートに誘われてキリスト教会へ行ったことがきっかけで、クリスチャンになりました。長谷川さんの活動や作品を紹介するとともに、お話を伺います。
URL:https://kinpoden.com/lifeline/%e3%80%8c%e3%81%b1%e3%81%99%e3%81%a6%e3%82%8bpop%e3%80%8d-3/
CATEGORIES:テレビ「ライフライン」番組表
ATTACH;FMTTYPE=image/jpeg:https://kinpoden.com/wp-content/uploads/2017/09/1505440185.jpg
END:VEVENT
BEGIN:VEVENT
DTSTART;TZID=Asia/Tokyo:20171007T000000
DTEND;TZID=Asia/Tokyo:20171008T235959
DTSTAMP:20260426T032706
CREATED:20170920T010112Z
LAST-MODIFIED:20170920T010112Z
UID:14242-1507334400-1507507199@kinpoden.com
SUMMARY:「あなたを捜して」
DESCRIPTION:ライフ・ラインのつどい in 福島 \nメッセージ：関根弘興 \n  \nこの７月に福島県会津若松市で「ライフ・ラインのつどい」を行いました。つどいでは、番組ゲストとして出演したサックス奏者の安武玄晃さんが演奏をし、関根弘興牧師が「あなたを捜して」というタイトルで聖書のメッセージを語りました。そんな「つどい」の様子を紹介します。
URL:https://kinpoden.com/lifeline/%e3%80%8c%e3%81%82%e3%81%aa%e3%81%9f%e3%82%92%e6%8d%9c%e3%81%97%e3%81%a6%e3%80%8d-3/
CATEGORIES:テレビ「ライフライン」番組表
ATTACH;FMTTYPE=image/jpeg:https://kinpoden.com/wp-content/uploads/2017/09/1505439947.jpg
END:VEVENT
BEGIN:VEVENT
DTSTART;TZID=Asia/Tokyo:20170930T000000
DTEND;TZID=Asia/Tokyo:20171001T235959
DTSTAMP:20260426T032706
CREATED:20170920T005646Z
LAST-MODIFIED:20170920T005646Z
UID:14241-1506729600-1506902399@kinpoden.com
SUMMARY:「永遠の愛のはじめ」
DESCRIPTION:  \nユーオーディア管弦楽団・合唱団 、工藤美穂さん \nメッセージ：村上宣道 \n  \nこの７月に東京で開催された「第24回ユーオーディア賛美の夕べ」を紹介します。ユーオーディア管弦楽団・合唱団は、「神をほめたたえる」ことを目的に全国から集まったクリスチャン音楽家で構成されています。今回は、ソリストのひとりを務めた、 ヴァイオリニストの工藤美穂さんにお話を伺うとともに、ユーオーディア管弦楽団・合唱団の音楽をお届けします。 \n\n		\n		\n			\n				\n			\n			\n				\n			\n			\n		\n\n 
URL:https://kinpoden.com/lifeline/%e3%80%8c%e6%b0%b8%e9%81%a0%e3%81%ae%e6%84%9b%e3%81%ae%e3%81%af%e3%81%98%e3%82%81%e3%80%8d-3/
CATEGORIES:テレビ「ライフライン」番組表
ATTACH;FMTTYPE=image/jpeg:https://kinpoden.com/wp-content/uploads/2017/09/1505439601.jpg
END:VEVENT
BEGIN:VEVENT
DTSTART;TZID=Asia/Tokyo:20170923T000000
DTEND;TZID=Asia/Tokyo:20170924T235959
DTSTAMP:20260426T032706
CREATED:20170824T131600Z
LAST-MODIFIED:20170824T131600Z
UID:14240-1506124800-1506297599@kinpoden.com
SUMMARY:「地の塩 山室軍平」
DESCRIPTION:樋口和光さん、東條政利さん \nメッセージ：岩井基雄 \n  \n日本の社会福祉の先駆者・山室軍平の生涯を描いた映画「地の塩 山室軍平」がこの10月に公開されます。山室軍平は、歳末に行われる救世軍の社会鍋などの活動を始めたクリスチャンで、「世の苦しむ人たちを救いたい」と情熱を注ぎました。この映画の監督・東條政利さんと、救世軍の牧師・樋口和光さんに、映画について、また、山室軍平についてお話を伺います。
URL:https://kinpoden.com/lifeline/%e3%80%8c%e5%9c%b0%e3%81%ae%e5%a1%a9-%e5%b1%b1%e5%ae%a4%e8%bb%8d%e5%b9%b3%e3%80%8d-3/
CATEGORIES:テレビ「ライフライン」番組表
ATTACH;FMTTYPE=image/jpeg:https://kinpoden.com/wp-content/uploads/2017/08/1502971772.jpg
END:VEVENT
BEGIN:VEVENT
DTSTART;TZID=Asia/Tokyo:20170916T000000
DTEND;TZID=Asia/Tokyo:20170917T235959
DTSTAMP:20260426T032706
CREATED:20170824T131450Z
LAST-MODIFIED:20170824T131450Z
UID:14239-1505520000-1505692799@kinpoden.com
SUMMARY:「三味線賛美」
DESCRIPTION:新田昌弘さん２ \nメッセージ：安海靖郎 \n  \n６月に引き続き、北海道を拠点に活動する津軽三味線奏者・新田昌弘さんを紹介します。新田さんは、今年、賛美歌やゴスペルを収録したCD「三味線賛美」をリリースしました。６月に北海道札幌市で行った「ライフ・ラインのつどい」での演奏をお届けするとともに、お話を伺います。
URL:https://kinpoden.com/lifeline/%e3%80%8c%e4%b8%89%e5%91%b3%e7%b7%9a%e8%b3%9b%e7%be%8e%e3%80%8d-3/
CATEGORIES:テレビ「ライフライン」番組表
ATTACH;FMTTYPE=image/jpeg:https://kinpoden.com/wp-content/uploads/2017/08/1502945255.jpg
END:VEVENT
BEGIN:VEVENT
DTSTART;TZID=Asia/Tokyo:20170909T000000
DTEND;TZID=Asia/Tokyo:20170910T235959
DTSTAMP:20260426T032706
CREATED:20170824T131334Z
LAST-MODIFIED:20170824T131334Z
UID:14238-1504915200-1505087999@kinpoden.com
SUMMARY:「たとい全世界を手に入れても…」
DESCRIPTION:ライフ・ラインのつどい in 北海道 \nメッセージ：原田憲夫 \n  \nこの６月に北海道札幌市で「ライフ・ラインのつどい」を行いました。つどいでは、番組ゲストとしても出演した津軽三味線奏者の新田昌弘さんが演奏をし、原田憲夫牧師が「 たとい全世界を手に入れても…」というタイトルで聖書のメッセージを語りました。そんな「つどい」の様子をお届けします。
URL:https://kinpoden.com/lifeline/%e3%80%8c%e3%81%9f%e3%81%a8%e3%81%84%e5%85%a8%e4%b8%96%e7%95%8c%e3%82%92%e6%89%8b%e3%81%ab%e5%85%a5%e3%82%8c%e3%81%a6%e3%82%82%e3%80%8d-3/
CATEGORIES:テレビ「ライフライン」番組表
ATTACH;FMTTYPE=image/jpeg:https://kinpoden.com/wp-content/uploads/2017/08/1502944944.jpg
END:VEVENT
BEGIN:VEVENT
DTSTART;TZID=Asia/Tokyo:20170902T000000
DTEND;TZID=Asia/Tokyo:20170903T235959
DTSTAMP:20260426T032706
CREATED:20170824T131156Z
LAST-MODIFIED:20170824T131156Z
UID:14237-1504310400-1504483199@kinpoden.com
SUMMARY:「琉球賛美 ２」
DESCRIPTION:横田盛永さん \nメッセージ：原田憲夫 \n  \n前週に引き続き、沖縄県国頭郡金武町にあるキリスト教会の牧師・横田盛永さんを紹介します。横田さんは、牧師として教会に赴任してすぐ、地域の方に神様の愛を伝えるため、沖縄民謡のメロディーに沖縄のことばをのせて神への賛美を歌う「琉球賛美」を始めました。その活動は県内外に広がり、レコードやCDもリリースされました。２週目の今回は、横田さん自身についてのお話を伺うとともに、「琉球賛美歌」をお届けします。
URL:https://kinpoden.com/lifeline/%e3%80%8c%e7%90%89%e7%90%83%e8%b3%9b%e7%be%8e-%ef%bc%92%e3%80%8d-3/
CATEGORIES:テレビ「ライフライン」番組表
ATTACH;FMTTYPE=image/jpeg:https://kinpoden.com/wp-content/uploads/2017/08/1502944653.jpg
END:VEVENT
BEGIN:VEVENT
DTSTART;TZID=Asia/Tokyo:20170826T000000
DTEND;TZID=Asia/Tokyo:20170827T235959
DTSTAMP:20260426T032706
CREATED:20170722T123129Z
LAST-MODIFIED:20170722T123129Z
UID:14236-1503705600-1503878399@kinpoden.com
SUMMARY:「琉球賛美」
DESCRIPTION:横田盛永さん \nメッセージ：岩井基雄 \n  \n沖縄県国頭郡金武町にあるキリスト教会の牧師・横田盛永さんは、牧師として赴任してすぐ、地元の方に神様の愛を伝えるため、沖縄民謡のメロディーに沖縄のことばをのせて神への賛美を歌う「琉球賛美」を始めました。その活動は、県内外に広がり、レコードやCDもリリースされました。「琉球賛美歌」をお届けするとともに、横田さんにお話を伺います。
URL:https://kinpoden.com/lifeline/%e3%80%8c%e7%90%89%e7%90%83%e8%b3%9b%e7%be%8e%e3%80%8d-3/
CATEGORIES:テレビ「ライフライン」番組表
ATTACH;FMTTYPE=image/jpeg:https://kinpoden.com/wp-content/uploads/2017/07/1500449131.jpg
END:VEVENT
END:VCALENDAR