BEGIN:VCALENDAR
VERSION:2.0
PRODID:-//近畿福音放送伝道協力会 – 近放伝公式ウェブサイト - ECPv6.15.16//NONSGML v1.0//EN
CALSCALE:GREGORIAN
METHOD:PUBLISH
X-WR-CALNAME:近畿福音放送伝道協力会 – 近放伝公式ウェブサイト
X-ORIGINAL-URL:https://kinpoden.com
X-WR-CALDESC:近畿福音放送伝道協力会 – 近放伝公式ウェブサイト のイベント
REFRESH-INTERVAL;VALUE=DURATION:PT1H
X-Robots-Tag:noindex
X-PUBLISHED-TTL:PT1H
BEGIN:VTIMEZONE
TZID:Asia/Tokyo
BEGIN:STANDARD
TZOFFSETFROM:+0900
TZOFFSETTO:+0900
TZNAME:JST
DTSTART:20160101T000000
END:STANDARD
END:VTIMEZONE
BEGIN:VEVENT
DTSTART;TZID=Asia/Tokyo:20171028T000000
DTEND;TZID=Asia/Tokyo:20171029T235959
DTSTAMP:20260426T064959
CREATED:20170920T010444Z
LAST-MODIFIED:20170920T010444Z
UID:14245-1509148800-1509321599@kinpoden.com
SUMMARY:「THE DREAM 〜生まれ持った価値」
DESCRIPTION:クリスティアン・マルティーヌさん、三谷梨央さん \nメッセージ：岩井基雄 \n  \n前週紹介した「ABC-Tokyoバレエ団」が行った公演「夢 ーTHE DREAM」の様子をお届けします。この作品は、「ABC-Tokyoバレエ団」のオリジナル創作バレエで、「人が生まれ持った価値とは？ 幸せとは？ 生きている意味とは？」を表現しています。「夢 ーTHE DREAM」の公演の様子を紹介するとともに、芸術監督で指導者のクリスティアン・マルティーヌさんと梨央さん夫妻にお話を伺います。
URL:https://kinpoden.com/lifeline/%e3%80%8cthe-dream-%e3%80%9c%e7%94%9f%e3%81%be%e3%82%8c%e6%8c%81%e3%81%a3%e3%81%9f%e4%be%a1%e5%80%a4%e3%80%8d-3/
CATEGORIES:テレビ「ライフライン」番組表
ATTACH;FMTTYPE=image/jpeg:https://kinpoden.com/wp-content/uploads/2017/09/1505440538.jpg
END:VEVENT
BEGIN:VEVENT
DTSTART;TZID=Asia/Tokyo:20171021T000000
DTEND;TZID=Asia/Tokyo:20171022T235959
DTSTAMP:20260426T064959
CREATED:20170920T010329Z
LAST-MODIFIED:20170920T010329Z
UID:14244-1508544000-1508716799@kinpoden.com
SUMMARY:「神の御手に導かれて」
DESCRIPTION:クリスティアン・マルティーヌさん、三谷梨央さん \n  \n東京都港区にある「オーストリア・バレエ・カンパニー東京」通称「ABC-Tokyoバレエ団」は、1995年にオーストリアのウィーンで発足し、その後、2004年に拠点を日本に移しました。現在、20名ほどのダンサーが所属し、ヨーロッパと日本文化の融合を目指した、新しいバレエに取り組んでいます。創立者のクリスティアン・マルティーヌさんと梨央さん夫妻は、芸術の都ウィーンでバレエを学び、プロのダンサー、芸術監督として欧米のバレエ団で活躍しました。その後、梨央さんの故郷である日本に戻り、以来十数年にわたって「ABC-Tokyoバレエ団」を率いています。バレエ団の様子を紹介するとともに、「神様に導かれてきた」と語る二人にお話を伺います。
URL:https://kinpoden.com/lifeline/%e3%80%8c%e7%a5%9e%e3%81%ae%e5%be%a1%e6%89%8b%e3%81%ab%e5%b0%8e%e3%81%8b%e3%82%8c%e3%81%a6%e3%80%8d-3/
CATEGORIES:テレビ「ライフライン」番組表
ATTACH;FMTTYPE=image/jpeg:https://kinpoden.com/wp-content/uploads/2017/09/1505440538.jpg
END:VEVENT
BEGIN:VEVENT
DTSTART;TZID=Asia/Tokyo:20171014T000000
DTEND;TZID=Asia/Tokyo:20171015T235959
DTSTAMP:20260426T064959
CREATED:20170920T010225Z
LAST-MODIFIED:20170920T010225Z
UID:14243-1507939200-1508111999@kinpoden.com
SUMMARY:「ぱすてるPOP」
DESCRIPTION:長谷川良子さん \nメッセージ：原田憲夫 \n  \n神奈川県相模原市に住む長谷川良子さんは、チョークアート、手描きPOPなどを手がける一般社団法人「ばすてるPOP」の代表を務め、手描きのPOPを制作するとともに、 プロの制作者・指導者を養成するコース、趣味や子ども対象の教室も開いています。そんな長谷川さんは、中学生の時にクラスメートに誘われてキリスト教会へ行ったことがきっかけで、クリスチャンになりました。長谷川さんの活動や作品を紹介するとともに、お話を伺います。
URL:https://kinpoden.com/lifeline/%e3%80%8c%e3%81%b1%e3%81%99%e3%81%a6%e3%82%8bpop%e3%80%8d-3/
CATEGORIES:テレビ「ライフライン」番組表
ATTACH;FMTTYPE=image/jpeg:https://kinpoden.com/wp-content/uploads/2017/09/1505440185.jpg
END:VEVENT
BEGIN:VEVENT
DTSTART;TZID=Asia/Tokyo:20171007T000000
DTEND;TZID=Asia/Tokyo:20171008T235959
DTSTAMP:20260426T064959
CREATED:20170920T010112Z
LAST-MODIFIED:20170920T010112Z
UID:14242-1507334400-1507507199@kinpoden.com
SUMMARY:「あなたを捜して」
DESCRIPTION:ライフ・ラインのつどい in 福島 \nメッセージ：関根弘興 \n  \nこの７月に福島県会津若松市で「ライフ・ラインのつどい」を行いました。つどいでは、番組ゲストとして出演したサックス奏者の安武玄晃さんが演奏をし、関根弘興牧師が「あなたを捜して」というタイトルで聖書のメッセージを語りました。そんな「つどい」の様子を紹介します。
URL:https://kinpoden.com/lifeline/%e3%80%8c%e3%81%82%e3%81%aa%e3%81%9f%e3%82%92%e6%8d%9c%e3%81%97%e3%81%a6%e3%80%8d-3/
CATEGORIES:テレビ「ライフライン」番組表
ATTACH;FMTTYPE=image/jpeg:https://kinpoden.com/wp-content/uploads/2017/09/1505439947.jpg
END:VEVENT
BEGIN:VEVENT
DTSTART;TZID=Asia/Tokyo:20170930T000000
DTEND;TZID=Asia/Tokyo:20171001T235959
DTSTAMP:20260426T064959
CREATED:20170920T005646Z
LAST-MODIFIED:20170920T005646Z
UID:14241-1506729600-1506902399@kinpoden.com
SUMMARY:「永遠の愛のはじめ」
DESCRIPTION:  \nユーオーディア管弦楽団・合唱団 、工藤美穂さん \nメッセージ：村上宣道 \n  \nこの７月に東京で開催された「第24回ユーオーディア賛美の夕べ」を紹介します。ユーオーディア管弦楽団・合唱団は、「神をほめたたえる」ことを目的に全国から集まったクリスチャン音楽家で構成されています。今回は、ソリストのひとりを務めた、 ヴァイオリニストの工藤美穂さんにお話を伺うとともに、ユーオーディア管弦楽団・合唱団の音楽をお届けします。 \n\n		\n		\n			\n				\n			\n			\n				\n			\n			\n		\n\n 
URL:https://kinpoden.com/lifeline/%e3%80%8c%e6%b0%b8%e9%81%a0%e3%81%ae%e6%84%9b%e3%81%ae%e3%81%af%e3%81%98%e3%82%81%e3%80%8d-3/
CATEGORIES:テレビ「ライフライン」番組表
ATTACH;FMTTYPE=image/jpeg:https://kinpoden.com/wp-content/uploads/2017/09/1505439601.jpg
END:VEVENT
BEGIN:VEVENT
DTSTART;TZID=Asia/Tokyo:20170923T000000
DTEND;TZID=Asia/Tokyo:20170924T235959
DTSTAMP:20260426T064959
CREATED:20170824T131600Z
LAST-MODIFIED:20170824T131600Z
UID:14240-1506124800-1506297599@kinpoden.com
SUMMARY:「地の塩 山室軍平」
DESCRIPTION:樋口和光さん、東條政利さん \nメッセージ：岩井基雄 \n  \n日本の社会福祉の先駆者・山室軍平の生涯を描いた映画「地の塩 山室軍平」がこの10月に公開されます。山室軍平は、歳末に行われる救世軍の社会鍋などの活動を始めたクリスチャンで、「世の苦しむ人たちを救いたい」と情熱を注ぎました。この映画の監督・東條政利さんと、救世軍の牧師・樋口和光さんに、映画について、また、山室軍平についてお話を伺います。
URL:https://kinpoden.com/lifeline/%e3%80%8c%e5%9c%b0%e3%81%ae%e5%a1%a9-%e5%b1%b1%e5%ae%a4%e8%bb%8d%e5%b9%b3%e3%80%8d-3/
CATEGORIES:テレビ「ライフライン」番組表
ATTACH;FMTTYPE=image/jpeg:https://kinpoden.com/wp-content/uploads/2017/08/1502971772.jpg
END:VEVENT
BEGIN:VEVENT
DTSTART;TZID=Asia/Tokyo:20170916T000000
DTEND;TZID=Asia/Tokyo:20170917T235959
DTSTAMP:20260426T064959
CREATED:20170824T131450Z
LAST-MODIFIED:20170824T131450Z
UID:14239-1505520000-1505692799@kinpoden.com
SUMMARY:「三味線賛美」
DESCRIPTION:新田昌弘さん２ \nメッセージ：安海靖郎 \n  \n６月に引き続き、北海道を拠点に活動する津軽三味線奏者・新田昌弘さんを紹介します。新田さんは、今年、賛美歌やゴスペルを収録したCD「三味線賛美」をリリースしました。６月に北海道札幌市で行った「ライフ・ラインのつどい」での演奏をお届けするとともに、お話を伺います。
URL:https://kinpoden.com/lifeline/%e3%80%8c%e4%b8%89%e5%91%b3%e7%b7%9a%e8%b3%9b%e7%be%8e%e3%80%8d-3/
CATEGORIES:テレビ「ライフライン」番組表
ATTACH;FMTTYPE=image/jpeg:https://kinpoden.com/wp-content/uploads/2017/08/1502945255.jpg
END:VEVENT
BEGIN:VEVENT
DTSTART;TZID=Asia/Tokyo:20170909T000000
DTEND;TZID=Asia/Tokyo:20170910T235959
DTSTAMP:20260426T064959
CREATED:20170824T131334Z
LAST-MODIFIED:20170824T131334Z
UID:14238-1504915200-1505087999@kinpoden.com
SUMMARY:「たとい全世界を手に入れても…」
DESCRIPTION:ライフ・ラインのつどい in 北海道 \nメッセージ：原田憲夫 \n  \nこの６月に北海道札幌市で「ライフ・ラインのつどい」を行いました。つどいでは、番組ゲストとしても出演した津軽三味線奏者の新田昌弘さんが演奏をし、原田憲夫牧師が「 たとい全世界を手に入れても…」というタイトルで聖書のメッセージを語りました。そんな「つどい」の様子をお届けします。
URL:https://kinpoden.com/lifeline/%e3%80%8c%e3%81%9f%e3%81%a8%e3%81%84%e5%85%a8%e4%b8%96%e7%95%8c%e3%82%92%e6%89%8b%e3%81%ab%e5%85%a5%e3%82%8c%e3%81%a6%e3%82%82%e3%80%8d-3/
CATEGORIES:テレビ「ライフライン」番組表
ATTACH;FMTTYPE=image/jpeg:https://kinpoden.com/wp-content/uploads/2017/08/1502944944.jpg
END:VEVENT
BEGIN:VEVENT
DTSTART;TZID=Asia/Tokyo:20170902T000000
DTEND;TZID=Asia/Tokyo:20170903T235959
DTSTAMP:20260426T064959
CREATED:20170824T131156Z
LAST-MODIFIED:20170824T131156Z
UID:14237-1504310400-1504483199@kinpoden.com
SUMMARY:「琉球賛美 ２」
DESCRIPTION:横田盛永さん \nメッセージ：原田憲夫 \n  \n前週に引き続き、沖縄県国頭郡金武町にあるキリスト教会の牧師・横田盛永さんを紹介します。横田さんは、牧師として教会に赴任してすぐ、地域の方に神様の愛を伝えるため、沖縄民謡のメロディーに沖縄のことばをのせて神への賛美を歌う「琉球賛美」を始めました。その活動は県内外に広がり、レコードやCDもリリースされました。２週目の今回は、横田さん自身についてのお話を伺うとともに、「琉球賛美歌」をお届けします。
URL:https://kinpoden.com/lifeline/%e3%80%8c%e7%90%89%e7%90%83%e8%b3%9b%e7%be%8e-%ef%bc%92%e3%80%8d-3/
CATEGORIES:テレビ「ライフライン」番組表
ATTACH;FMTTYPE=image/jpeg:https://kinpoden.com/wp-content/uploads/2017/08/1502944653.jpg
END:VEVENT
BEGIN:VEVENT
DTSTART;TZID=Asia/Tokyo:20170826T000000
DTEND;TZID=Asia/Tokyo:20170827T235959
DTSTAMP:20260426T065000
CREATED:20170722T123129Z
LAST-MODIFIED:20170722T123129Z
UID:14236-1503705600-1503878399@kinpoden.com
SUMMARY:「琉球賛美」
DESCRIPTION:横田盛永さん \nメッセージ：岩井基雄 \n  \n沖縄県国頭郡金武町にあるキリスト教会の牧師・横田盛永さんは、牧師として赴任してすぐ、地元の方に神様の愛を伝えるため、沖縄民謡のメロディーに沖縄のことばをのせて神への賛美を歌う「琉球賛美」を始めました。その活動は、県内外に広がり、レコードやCDもリリースされました。「琉球賛美歌」をお届けするとともに、横田さんにお話を伺います。
URL:https://kinpoden.com/lifeline/%e3%80%8c%e7%90%89%e7%90%83%e8%b3%9b%e7%be%8e%e3%80%8d-3/
CATEGORIES:テレビ「ライフライン」番組表
ATTACH;FMTTYPE=image/jpeg:https://kinpoden.com/wp-content/uploads/2017/07/1500449131.jpg
END:VEVENT
BEGIN:VEVENT
DTSTART;TZID=Asia/Tokyo:20170819T000000
DTEND;TZID=Asia/Tokyo:20170820T235959
DTSTAMP:20260426T065000
CREATED:20170722T122950Z
LAST-MODIFIED:20170722T122950Z
UID:14235-1503100800-1503273599@kinpoden.com
SUMMARY:「ヒロシマの少年じろうちゃん」
DESCRIPTION:みなみななみさん \nメッセージ：安海靖郎 \n  \n番組オープニングの絵でおなじみのイラストレーター・みなみななみさんは、昨年、『ヒロシマの少年じろうちゃん』という絵本の作画を担当しました。自らも父親の戦争体験を聞き、戦争や平和に関心を持つというみなみさんに、自身の考えや、この絵本についてお話を伺います。
URL:https://kinpoden.com/lifeline/%e3%80%8c%e3%83%92%e3%83%ad%e3%82%b7%e3%83%9e%e3%81%ae%e5%b0%91%e5%b9%b4%e3%81%98%e3%82%8d%e3%81%86%e3%81%a1%e3%82%83%e3%82%93%e3%80%8d-3/
CATEGORIES:テレビ「ライフライン」番組表
ATTACH;FMTTYPE=image/jpeg:https://kinpoden.com/wp-content/uploads/2017/07/1500448971.jpg
END:VEVENT
BEGIN:VEVENT
DTSTART;TZID=Asia/Tokyo:20170812T000000
DTEND;TZID=Asia/Tokyo:20170813T235959
DTSTAMP:20260426T065000
CREATED:20170722T122842Z
LAST-MODIFIED:20170722T122842Z
UID:14234-1502496000-1502668799@kinpoden.com
SUMMARY:「愛と誠実さをもって」
DESCRIPTION:倉臼 華さん \nメッセージ：原田憲夫 \n  \n東京都八王子市にあるブリーダー犬舎「YUSHA KENNEL（ユーシャ・ケンネル）」では、ボーダーコリーと、日本では希少なコーイケルホンディエを専門に取り扱い、健康で健全な子犬を繁殖できるように心がけています。ブリーダーの倉臼華さんは、家庭的な環境の中で犬に愛情を注ぎ、遺伝病を予防するための検査を徹底するなど、その誠実な仕事ぶりから多くの愛犬家に信頼されています。倉臼さんの働きとともに、その背後にあるキリスト教信仰を紹介します。 \n＊HBC、ATV、BSNテレビは、世界陸上ロンドン大会のため休止となります。 \n＊FTV福島テレビは、全米ゴルフ選手権のため休止となります。
URL:https://kinpoden.com/lifeline/%e3%80%8c%e6%84%9b%e3%81%a8%e8%aa%a0%e5%ae%9f%e3%81%95%e3%82%92%e3%82%82%e3%81%a3%e3%81%a6%e3%80%8d-3/
CATEGORIES:テレビ「ライフライン」番組表
ATTACH;FMTTYPE=image/jpeg:https://kinpoden.com/wp-content/uploads/2017/07/1500448800.jpg
END:VEVENT
BEGIN:VEVENT
DTSTART;TZID=Asia/Tokyo:20170805T000000
DTEND;TZID=Asia/Tokyo:20170806T235959
DTSTAMP:20260426T065000
CREATED:20170722T122620Z
LAST-MODIFIED:20170722T122620Z
UID:14233-1501891200-1502063999@kinpoden.com
SUMMARY:「将来と希望をあなたに」
DESCRIPTION:ライフ・ラインのつどい in 神戸 \n「将来と希望をあなたに」 \nメッセージ：関根弘興 \n  \nこの６月に、兵庫県神戸市にあるキリスト教会で「ライフ・ラインのつどい」を行いました。つどいでは、関根弘興牧師が「将来と希望をあなたに」というタイトルで聖書のメッセージを語り、トロンボーン奏者・亀井玲司さんが賛美歌を演奏しました。この「つどい」の様子を紹介します。 \n＊HBC、ATV、BSNテレビは、世界陸上ロンドン大会のため休止となります。
URL:https://kinpoden.com/lifeline/%e3%80%8c%e5%b0%86%e6%9d%a5%e3%81%a8%e5%b8%8c%e6%9c%9b%e3%82%92%e3%81%82%e3%81%aa%e3%81%9f%e3%81%ab%e3%80%8d-3/
CATEGORIES:テレビ「ライフライン」番組表
ATTACH;FMTTYPE=image/jpeg:https://kinpoden.com/wp-content/uploads/2017/07/1500448585.jpg
END:VEVENT
BEGIN:VEVENT
DTSTART;TZID=Asia/Tokyo:20170729T000000
DTEND;TZID=Asia/Tokyo:20170730T235959
DTSTAMP:20260426T065000
CREATED:20170616T065143Z
LAST-MODIFIED:20170616T065143Z
UID:14232-1501286400-1501459199@kinpoden.com
SUMMARY:「細川ガラシャ夫人の道ありき」
DESCRIPTION:長友あゆみさん \nメッセージ：原田憲夫 \n  \n『氷点』『塩狩峠』『道ありき』などで知られる作家・三浦綾子さんが初めて執筆した歴史小説『細川ガラシャ夫人』を紹介します。この小説は、戦国武将・明智光秀の三女で細川忠興の正妻・細川ガラシャの苦悩とキリスト教信仰の生涯を描いたものです。北海道旭川市にある三浦綾子記念文学館を訪ね、現在行われている特別企画展「細川ガラシャ夫人」を紹介するとともに、この展示を企画した文学館の学芸員・長友あゆみさんにお話を伺います。
URL:https://kinpoden.com/lifeline/%e3%80%8c%e7%b4%b0%e5%b7%9d%e3%82%ac%e3%83%a9%e3%82%b7%e3%83%a3%e5%a4%ab%e4%ba%ba%e3%81%ae%e9%81%93%e3%81%82%e3%82%8a%e3%81%8d%e3%80%8d-3/
CATEGORIES:テレビ「ライフライン」番組表
ATTACH;FMTTYPE=image/jpeg:https://kinpoden.com/wp-content/uploads/2017/06/1497427314.jpg
END:VEVENT
BEGIN:VEVENT
DTSTART;TZID=Asia/Tokyo:20170722T000000
DTEND;TZID=Asia/Tokyo:20170723T235959
DTSTAMP:20260426T065000
CREATED:20170616T065038Z
LAST-MODIFIED:20170616T065038Z
UID:14231-1500681600-1500854399@kinpoden.com
SUMMARY:「Love In Silence」
DESCRIPTION:メッセージ：関根弘興 \n  \nこの５月に東京で行われたコンサート「ゴスペルリンキング2017 〜Love In Silence〜」の様子を２週にわたって紹介します。このコンサートでは、国内外で活躍する14組のゴスペルシンガーが、「沈黙の中で見出した神の愛」をテーマに歌を披露しました。
URL:https://kinpoden.com/lifeline/%e3%80%8clove-in-silence%e3%80%8d-2-3/
CATEGORIES:テレビ「ライフライン」番組表
ATTACH;FMTTYPE=image/jpeg:https://kinpoden.com/wp-content/uploads/2017/06/1497427489.jpg
END:VEVENT
BEGIN:VEVENT
DTSTART;TZID=Asia/Tokyo:20170715T000000
DTEND;TZID=Asia/Tokyo:20170716T235959
DTSTAMP:20260426T065000
CREATED:20170616T064938Z
LAST-MODIFIED:20170616T064938Z
UID:14230-1500076800-1500249599@kinpoden.com
SUMMARY:「Love In Silence」
DESCRIPTION:メッセージ：安海靖郎 \n  \nこの５月に東京で行われたコンサート「ゴスペルリンキング2017 〜Love In Silence〜」の様子を２週にわたって紹介します。このコンサートでは、国内外で活躍する14組のゴスペルシンガーが、「沈黙の中で見出した神の愛」をテーマに歌を披露しました。
URL:https://kinpoden.com/lifeline/%e3%80%8clove-in-silence%e3%80%8d-4/
CATEGORIES:テレビ「ライフライン」番組表
ATTACH;FMTTYPE=image/jpeg:https://kinpoden.com/wp-content/uploads/2017/06/1497426898.jpg
END:VEVENT
BEGIN:VEVENT
DTSTART;TZID=Asia/Tokyo:20170708T000000
DTEND;TZID=Asia/Tokyo:20170709T235959
DTSTAMP:20260426T065000
CREATED:20170616T064833Z
LAST-MODIFIED:20170616T064833Z
UID:14229-1499472000-1499644799@kinpoden.com
SUMMARY:「時にかなった神の愛」
DESCRIPTION:ライフ・ラインのつどい in 新潟（長岡） \n「時にかなった神の愛」 \nメッセージ：岩井基雄 \n  \n新潟県長岡市にあるキリスト教会で行った「ライフ・ラインのつどい」の様子を紹介します。つどいでは、岩井基雄牧師が「時にかなった神の愛」というタイトルで聖書のメッセージを語り、また、地元で活躍するゴスペルシンガー・片桐晴海さんのコンサートも行われました。
URL:https://kinpoden.com/lifeline/%e3%80%8c%e6%99%82%e3%81%ab%e3%81%8b%e3%81%aa%e3%81%a3%e3%81%9f%e7%a5%9e%e3%81%ae%e6%84%9b%e3%80%8d-3/
CATEGORIES:テレビ「ライフライン」番組表
ATTACH;FMTTYPE=image/jpeg:https://kinpoden.com/wp-content/uploads/2017/06/1497426433.jpg
END:VEVENT
BEGIN:VEVENT
DTSTART;TZID=Asia/Tokyo:20170701T000000
DTEND;TZID=Asia/Tokyo:20170702T235959
DTSTAMP:20260426T065000
CREATED:20170616T064652Z
LAST-MODIFIED:20170616T064652Z
UID:14228-1498867200-1499039999@kinpoden.com
SUMMARY:「祈りのちから」
DESCRIPTION:佐野哲章(のりあき)さん \nメッセージ：岩井基雄 \n  \n昨年日本で公開され、DVD化されたキリスト教映画３作品を紹介する３回目。今回は、映画の配給などを行っているソニー・ピクチャーズエンタテインメントで、昨年まで映画部門日本代表を務めていた佐野哲章さんに、 映画「祈りのちから」について詳しくお話を伺います。
URL:https://kinpoden.com/lifeline/%e3%80%8c%e7%a5%88%e3%82%8a%e3%81%ae%e3%81%a1%e3%81%8b%e3%82%89%e3%80%8d-3/
CATEGORIES:テレビ「ライフライン」番組表
ATTACH;FMTTYPE=image/jpeg:https://kinpoden.com/wp-content/uploads/2017/06/1497425444.jpg
END:VEVENT
BEGIN:VEVENT
DTSTART;TZID=Asia/Tokyo:20170624T000000
DTEND;TZID=Asia/Tokyo:20170625T235959
DTSTAMP:20260426T065000
CREATED:20170523T003403Z
LAST-MODIFIED:20170523T003403Z
UID:14227-1498262400-1498435199@kinpoden.com
SUMMARY:「天国からの奇跡」
DESCRIPTION:佐野哲章(のりあき)さん \nメッセージ：未定 \n  \n前月にも紹介した映画の配給などを行っているソニー・ピクチャーズエンタテインメントの元映画部門日本代表の佐野哲章さんにお話を伺います。佐野さんは、約40年にわたって、「００７」シリーズ、「スパイダーマン」、「トイストーリー」などの話題作やヒット作に携わってきました。そんな佐野さんに、昨年日本で公開され、DVD化されたキリスト教映画３作品の中から、「天国からの奇跡」について、くわしくお話を伺います。
URL:https://kinpoden.com/lifeline/%e3%80%8c%e5%a4%a9%e5%9b%bd%e3%81%8b%e3%82%89%e3%81%ae%e5%a5%87%e8%b7%a1%e3%80%8d-3/
CATEGORIES:テレビ「ライフライン」番組表
ATTACH;FMTTYPE=image/jpeg:https://kinpoden.com/wp-content/uploads/2017/05/1494927578.jpg
END:VEVENT
BEGIN:VEVENT
DTSTART;TZID=Asia/Tokyo:20170617T000000
DTEND;TZID=Asia/Tokyo:20170618T235959
DTSTAMP:20260426T065000
CREATED:20170523T003250Z
LAST-MODIFIED:20170523T003250Z
UID:14226-1497657600-1497830399@kinpoden.com
SUMMARY:「自然の恵みの中で描く」
DESCRIPTION:＊字幕放送 \n「自然の恵みの中で描く」 関口正人さん \nメッセージ：原田憲夫牧師 \n  \n群馬県高崎市在住の画家・関口正人さんは、子どもの頃から画を描くことが好きで、美術専門学校の講師を経て、現在は、絵画教室を開きながら、風景画を描く画家として活躍しています。また、中学生の頃、些細なことからいじめを受け、その悩みの中でキリスト教会に通うようになり、神様の愛を知って生きる希望を持てるようになったと言います。そんな体験談とともに、自然の中で画を描く恵みについてのお話を伺います。
URL:https://kinpoden.com/lifeline/%e3%80%8c%e8%87%aa%e7%84%b6%e3%81%ae%e6%81%b5%e3%81%bf%e3%81%ae%e4%b8%ad%e3%81%a7%e6%8f%8f%e3%81%8f%e3%80%8d-4/
CATEGORIES:テレビ「ライフライン」番組表
ATTACH;FMTTYPE=image/jpeg:https://kinpoden.com/wp-content/uploads/2017/05/1494927440.jpg
END:VEVENT
BEGIN:VEVENT
DTSTART;TZID=Asia/Tokyo:20170610T000000
DTEND;TZID=Asia/Tokyo:20170611T235959
DTSTAMP:20260426T065000
CREATED:20170523T003036Z
LAST-MODIFIED:20170523T003036Z
UID:14225-1497052800-1497225599@kinpoden.com
SUMMARY:「信仰に生きる幸い」
DESCRIPTION:ライフ・ラインのつどい in 静岡（浜松） \n「信仰に生きる幸い」 安海靖郎牧師 \n  \n静岡県浜松市にあるキリスト教会で行った「ライフ・ラインのつどい」から、安海靖郎牧師が「信仰に生きる幸い」というタイトルで語った聖書のメッセージお届けします。また、地元教会のクワイアによる賛美歌の歌声もお楽しみいただきます。 \n※FTV福島テレビは、「時にかなって」（新田昌弘さん）を放送します。
URL:https://kinpoden.com/lifeline/%e3%80%8c%e4%bf%a1%e4%bb%b0%e3%81%ab%e7%94%9f%e3%81%8d%e3%82%8b%e5%b9%b8%e3%81%84%e3%80%8d-3/
CATEGORIES:テレビ「ライフライン」番組表
ATTACH;FMTTYPE=image/jpeg:https://kinpoden.com/wp-content/uploads/2017/05/1494927230.jpg
END:VEVENT
BEGIN:VEVENT
DTSTART;TZID=Asia/Tokyo:20170603T000000
DTEND;TZID=Asia/Tokyo:20170604T235959
DTSTAMP:20260426T065000
CREATED:20170523T002903Z
LAST-MODIFIED:20170523T002903Z
UID:14224-1496448000-1496620799@kinpoden.com
SUMMARY:「時にかなって」
DESCRIPTION:新田昌弘さん \nメッセージ：原田憲夫 \n  \n北海道札幌市を拠点に活動する津軽三味線奏者の新田昌弘さんは、同じ三味線奏者の父親の影響を受けて、14歳から津軽三味線を始め、その7か月後に東京大会で優勝。その後、全国大会で連覇を達成しました。CDのリリース、コンサート、映画出演、舞台音楽の作曲や編曲など、幅広く活動をしている新田さんは、世界各国でも演奏活動を行い、国際文化芸術交流に貢献をしています。そんな新田さんは、あることがきっかけでキリスト教会に通うようになりました。演奏をお届けするとともに新田さんにお話を伺います。 \n※FTV福島テレビは、2017 UEFAチャンピオンズリーグ中継のため、休止となります。
URL:https://kinpoden.com/lifeline/%e3%80%8c%e6%99%82%e3%81%ab%e3%81%8b%e3%81%aa%e3%81%a3%e3%81%a6%e3%80%8d-3/
CATEGORIES:テレビ「ライフライン」番組表
ATTACH;FMTTYPE=image/jpeg:https://kinpoden.com/wp-content/uploads/2017/05/1494926980.jpg
END:VEVENT
BEGIN:VEVENT
DTSTART;TZID=Asia/Tokyo:20170527T000000
DTEND;TZID=Asia/Tokyo:20170528T235959
DTSTAMP:20260426T065000
CREATED:20170419T013111Z
LAST-MODIFIED:20170419T013111Z
UID:14223-1495843200-1496015999@kinpoden.com
SUMMARY:「イエスはわがいのち」
DESCRIPTION:羽鳥 明牧師 \n  \nラジオ番組「世の光」、また「ライフ・ライン」のバイブルコーナーを長く担当していた羽鳥明牧師が４月10日に天国へ旅立ちました。羽鳥牧師は、1920年、群馬県で生まれ、16歳の時にキリスト教信仰を持ちました。大学を卒業後、東京女子高等師範学校教師を経て牧師となり、1951年から57年間にわたって、ラジオ、テレビから聖書のメッセージを語り続けてきました。番組では、羽鳥牧師を偲び、生い立ちや、番組で語った聖書のお話を紹介します。
URL:https://kinpoden.com/lifeline/%e3%80%8c%e3%82%a4%e3%82%a8%e3%82%b9%e3%81%af%e3%82%8f%e3%81%8c%e3%81%84%e3%81%ae%e3%81%a1%e3%80%8d-3/
CATEGORIES:テレビ「ライフライン」番組表
ATTACH;FMTTYPE=image/jpeg:https://kinpoden.com/wp-content/uploads/2017/04/1492500521.jpg
END:VEVENT
BEGIN:VEVENT
DTSTART;TZID=Asia/Tokyo:20170520T000000
DTEND;TZID=Asia/Tokyo:20170521T235959
DTSTAMP:20260426T065000
CREATED:20170419T013013Z
LAST-MODIFIED:20170419T013013Z
UID:14222-1495238400-1495411199@kinpoden.com
SUMMARY:「映画と神を愛して」
DESCRIPTION:佐野哲章さん \nメッセージ：岩井基雄 \n  \n映画の配給などを行っているソニー・ピクチャーズエンタテインメントで、昨年末まで映画部門日本代表として従事していた佐野哲章さんにお話を伺います。佐野さんは、約40年にわたって、「トイ・ストーリー」シリーズ、「ダ・ヴィンチ・コード」「スパイダーマン」などの話題作やヒット作などに携わってきました。そんな佐野さんに、昨年公開した「復活」「天国からの奇跡」「祈りのちから」の３作品を紹介していただくとともに、ご自身についてのお話を伺います。
URL:https://kinpoden.com/lifeline/%e3%80%8c%e6%98%a0%e7%94%bb%e3%81%a8%e7%a5%9e%e3%82%92%e6%84%9b%e3%81%97%e3%81%a6%e3%80%8d-3/
CATEGORIES:テレビ「ライフライン」番組表
ATTACH;FMTTYPE=image/jpeg:https://kinpoden.com/wp-content/uploads/2017/04/1492499758.jpg
END:VEVENT
BEGIN:VEVENT
DTSTART;TZID=Asia/Tokyo:20170513T000000
DTEND;TZID=Asia/Tokyo:20170514T235959
DTSTAMP:20260426T065000
CREATED:20170419T012850Z
LAST-MODIFIED:20170419T012850Z
UID:14221-1494633600-1494806399@kinpoden.com
SUMMARY:「You are Precious」
DESCRIPTION:ライフ・ラインのつどい in 千葉 \n「You are Precious」  \nメッセージ：関根弘興牧師 \n  \n千葉県柏市にあるキリスト教会で行った「ライフ・ラインのつどい」から、関根弘興牧師が「You are Precious」というタイトルで語った聖書のメッセージお届けします。また、会場教会の子どもたちによる合唱や音楽ゲストでシンガーソングライターのSamue lle（サムエル）さんによる歌もお楽しみいただきます。東京で行われた「Evergreen ツアー ライブ」から歌をお届けします。
URL:https://kinpoden.com/lifeline/%e3%80%8cyou-are-precious%e3%80%8d-3/
CATEGORIES:テレビ「ライフライン」番組表
ATTACH;FMTTYPE=image/jpeg:https://kinpoden.com/wp-content/uploads/2017/04/1492499042.jpg
END:VEVENT
BEGIN:VEVENT
DTSTART;TZID=Asia/Tokyo:20170506T000000
DTEND;TZID=Asia/Tokyo:20170507T235959
DTSTAMP:20260426T065000
CREATED:20170419T012652Z
LAST-MODIFIED:20170419T012652Z
UID:14220-1494028800-1494201599@kinpoden.com
SUMMARY:「Evergreen ～永遠に～２」
DESCRIPTION:竹下 静さん \nメッセージ：安海靖郎牧師 \n  \n前週に続いて、シンガーソングライターの竹下静さんを紹介します。竹下さんは、昨年、旧約聖書の詩篇からインスピレーションを受けて作ったアルバム「Evergreen.永遠に.」をリリースしました。神様に愛されている喜びを歌をとおして伝えたいと、活動を続けている竹下さんにお話を伺うとともに、昨年11月に東京で行われた「Evergreen ツアー ライブ」から歌をお届けします。
URL:https://kinpoden.com/lifeline/%e3%80%8cevergreen-%ef%bd%9e%e6%b0%b8%e9%81%a0%e3%81%ab%ef%bd%9e%ef%bc%92%e3%80%8d-3/
CATEGORIES:テレビ「ライフライン」番組表
ATTACH;FMTTYPE=image/jpeg:https://kinpoden.com/wp-content/uploads/2017/04/1492498602.jpg
END:VEVENT
BEGIN:VEVENT
DTSTART;TZID=Asia/Tokyo:20170429T000000
DTEND;TZID=Asia/Tokyo:20170430T235959
DTSTAMP:20260426T065000
CREATED:20170329T054822Z
LAST-MODIFIED:20170329T054822Z
UID:14219-1493424000-1493596799@kinpoden.com
SUMMARY:「Evergreen ～永遠に～」
DESCRIPTION:竹下 静さん \nメッセージ：安海靖郎牧師 \n  \nシンガーソングライターの竹下静さんは、昨年、旧約聖書の詩篇からインスピレーションを受けて作ったというアルバム「Evergreen ～永遠に～」をリリースしました。竹下さんは、神様に愛されている喜びを歌をとおして伝えたいと、活動を続けてきました。昨年11月に東京で行われた「Evergreen ツアーライブ」から歌をお届けするとともに、お話を伺います。
URL:https://kinpoden.com/lifeline/%e3%80%8cevergreen-%ef%bd%9e%e6%b0%b8%e9%81%a0%e3%81%ab%ef%bd%9e%e3%80%8d-3/
CATEGORIES:テレビ「ライフライン」番組表
ATTACH;FMTTYPE=image/jpeg:https://kinpoden.com/wp-content/uploads/2017/03/1489551694.jpg
END:VEVENT
BEGIN:VEVENT
DTSTART;TZID=Asia/Tokyo:20170422T000000
DTEND;TZID=Asia/Tokyo:20170423T235959
DTSTAMP:20260426T065000
CREATED:20170329T054714Z
LAST-MODIFIED:20170329T054714Z
UID:14218-1492819200-1492991999@kinpoden.com
SUMMARY:「みつけたよ 2」
DESCRIPTION:泉谷千賀子さん \nメッセージ：原田憲夫牧師 \n  \n３月に引き続き、大阪府在住の羊毛フェルト作家・泉谷千賀子さんを紹介します。泉谷さんは昨年、羊毛フェルトで作った動物たちと聖書のことばのコラボレーション絵本『みつけたよ』を出版しました。この絵本に登場する羊とスズメとロバが愛らしいと評判を呼び、 昨年11月には大阪ジュンク堂本店で「作品と絵本のパネル展」が開催されました。「作品と絵本のパネル展」の様子とともに、絵本について、またご自身についてのお話を伺います。
URL:https://kinpoden.com/lifeline/%e3%80%8c%e3%81%bf%e3%81%a4%e3%81%91%e3%81%9f%e3%82%88-2%e3%80%8d-3/
CATEGORIES:テレビ「ライフライン」番組表
ATTACH;FMTTYPE=image/jpeg:https://kinpoden.com/wp-content/uploads/2017/03/1489551187.jpg
END:VEVENT
BEGIN:VEVENT
DTSTART;TZID=Asia/Tokyo:20170415T000000
DTEND;TZID=Asia/Tokyo:20170416T235959
DTSTAMP:20260426T065000
CREATED:20170329T054550Z
LAST-MODIFIED:20170329T054550Z
UID:14217-1492214400-1492387199@kinpoden.com
SUMMARY:「あの傷があなたの人生を変える」
DESCRIPTION:メッセージ： 原田憲夫牧師 \n  \nキリストの復活を記念してお祝いするイースター（復活祭）。今回は、番組のバイブルコーナーでおなじみの原田憲夫牧師が、千葉県船橋市にあるキリスト教会で新約聖書・ヨハネの福音書20章24 ～ 29節から語ったイースターメッセージ「あの傷があなたの人生を変える」をお届けします。また、会場教会の聖歌隊による賛美歌もお楽しみください。
URL:https://kinpoden.com/lifeline/%e3%80%8c%e3%81%82%e3%81%ae%e5%82%b7%e3%81%8c%e3%81%82%e3%81%aa%e3%81%9f%e3%81%ae%e4%ba%ba%e7%94%9f%e3%82%92%e5%a4%89%e3%81%88%e3%82%8b%e3%80%8d-4/
CATEGORIES:テレビ「ライフライン」番組表
ATTACH;FMTTYPE=image/jpeg:https://kinpoden.com/wp-content/uploads/2017/03/1489545883.jpg
END:VEVENT
BEGIN:VEVENT
DTSTART;TZID=Asia/Tokyo:20170408T000000
DTEND;TZID=Asia/Tokyo:20170409T235959
DTSTAMP:20260426T065000
CREATED:20170329T053838Z
LAST-MODIFIED:20170329T053838Z
UID:14215-1491609600-1491782399@kinpoden.com
SUMMARY:「健やかに、朗らかに」
DESCRIPTION:富所正史さん \nメッセージ： 原田憲夫牧師 \n  \nウォーキング・ランニング講師の富所正史さんは、学生時代クロスカントリースキーに打ち込み、国体にも出場しました。その後、小学校教員や大学職員として働き、同時にクロスカントリー選手育成などにも関わりました。現在は、社会保険労務士として働きながら、「10歳若く見える姿勢づくりと正しい歩き方講座」を、学校や地域の依頼を受けて開いています。講座の様子を紹介するとともにお話を伺います。
URL:https://kinpoden.com/lifeline/%e3%80%8c%e3%83%98%e3%83%96%e3%83%b3%e3%82%ba%e3%83%89%e3%83%ad%e3%83%83%e3%83%97%e3%82%b9%e3%80%8d-4/
CATEGORIES:テレビ「ライフライン」番組表
ATTACH;FMTTYPE=image/jpeg:https://kinpoden.com/wp-content/uploads/2017/03/1489545677.jpg
END:VEVENT
END:VCALENDAR