BEGIN:VCALENDAR
VERSION:2.0
PRODID:-//近畿福音放送伝道協力会 – 近放伝公式ウェブサイト - ECPv6.15.16//NONSGML v1.0//EN
CALSCALE:GREGORIAN
METHOD:PUBLISH
X-WR-CALNAME:近畿福音放送伝道協力会 – 近放伝公式ウェブサイト
X-ORIGINAL-URL:https://kinpoden.com
X-WR-CALDESC:近畿福音放送伝道協力会 – 近放伝公式ウェブサイト のイベント
REFRESH-INTERVAL;VALUE=DURATION:PT1H
X-Robots-Tag:noindex
X-PUBLISHED-TTL:PT1H
BEGIN:VTIMEZONE
TZID:Asia/Tokyo
BEGIN:STANDARD
TZOFFSETFROM:+0900
TZOFFSETTO:+0900
TZNAME:JST
DTSTART:20230101T000000
END:STANDARD
END:VTIMEZONE
BEGIN:VEVENT
DTSTART;TZID=Asia/Tokyo:20240810T000000
DTEND;TZID=Asia/Tokyo:20240811T235959
DTSTAMP:20260422T030520
CREATED:20240724T024104Z
LAST-MODIFIED:20240724T024104Z
UID:14593-1723248000-1723420799@kinpoden.com
SUMMARY:「恐れは祈りに、嘆きは歌に」
DESCRIPTION:小早川由起子さん \nお話：関根弘興 \n  \n\n\nソプラノ歌手の小早川由起子さんは、20代前半の頃に肝臓の難病を発症、二度にわたる生体肝移植手術により命を救われました。その後、小早川さんは各地のキリスト教会や病院、ホスピスなどで、闘病体験や賛美歌を歌うコンサートを行ってきました。そんな小早川さんに肝臓の難病について、また、死の淵に立った時に感じたこと、キリスト教信仰を持ったきっかけなどのお話を伺うとともに、コンサートから歌をお届けします。 \n  \n※ SDT静岡第一テレビは、パリ2024オリンピックにより放送休止となります。
URL:https://kinpoden.com/lifeline/%e3%80%8c%e6%81%90%e3%82%8c%e3%81%af%e7%a5%88%e3%82%8a%e3%81%ab%e3%80%81%e5%98%86%e3%81%8d%e3%81%af%e6%ad%8c%e3%81%ab%e3%80%8d-2-3/
CATEGORIES:テレビ「ライフライン」番組表
ATTACH;FMTTYPE=image/jpeg:https://kinpoden.com/wp-content/uploads/2024/07/image-2024-07-24T113308.703.jpg
END:VEVENT
BEGIN:VEVENT
DTSTART;TZID=Asia/Tokyo:20240803T000000
DTEND;TZID=Asia/Tokyo:20240804T235959
DTSTAMP:20260422T030520
CREATED:20240724T024000Z
LAST-MODIFIED:20240724T024000Z
UID:14592-1722643200-1722815999@kinpoden.com
SUMMARY:「心うるおすキッチンカー」
DESCRIPTION:菊池豊人さん、公子さん \nお話：原田憲夫 \n  \n\n\n東京都東久留米市でキッチンカー「ジミーズパラダイス（略称：ジミパラ）」を営む菊池豊人さん公子さん夫妻を紹介します。「近所の人が気楽に立ち寄れる井戸や泉のような場所」を目指してオープンした店には、二人の人柄やおいしいメニューに惹かれて、リピーターも多く集っています。客同士がつながり、そこからネットワークが広がっていく地域の「ハブ」のような場となっているという、ジミパラの不思議な魅力に迫ります。 \n  \n※ ATV青森テレビとBSN新潟放送は、パリ2024オリンピックにより放送休止となります。
URL:https://kinpoden.com/lifeline/%e3%80%8c%e5%bf%83%e3%81%86%e3%82%8b%e3%81%8a%e3%81%99%e3%82%ad%e3%83%83%e3%83%81%e3%83%b3%e3%82%ab%e3%83%bc%e3%80%8d-3/
CATEGORIES:テレビ「ライフライン」番組表
ATTACH;FMTTYPE=image/jpeg:https://kinpoden.com/wp-content/uploads/2024/07/image.jpg
END:VEVENT
BEGIN:VEVENT
DTSTART;TZID=Asia/Tokyo:20240727T000000
DTEND;TZID=Asia/Tokyo:20240728T235959
DTSTAMP:20260422T030520
CREATED:20240622T004311Z
LAST-MODIFIED:20240622T004311Z
UID:14591-1722038400-1722211199@kinpoden.com
SUMMARY:「悲しみは喜びに」
DESCRIPTION:飯島寛子さん \nお話：関根弘興 \n  \n\n\nラジオパーソナリティ—、エッセイストとして活躍していた飯島寛子さんを紹介します。飯島さんは2005年にプロウィンドサーファーの夫、飯島夏樹さんをがんで亡くしました。その喪失感や悲しみは計り知れず、また一人での４人の子育てに重責を感じ、体調がすぐれない時期が数年続きました。それでも多くの支えと愛によって前を向き続け、いつしか悲しみは喜びに変えられていたと語る飯島さんにお話を伺います。 \n  \n※ HBC北海道放送は、パリ2024オリンピックにより放送休止となります。
URL:https://kinpoden.com/lifeline/%e3%80%8c%e6%82%b2%e3%81%97%e3%81%bf%e3%81%af%e5%96%9c%e3%81%b3%e3%81%ab%e3%80%8d-3/
CATEGORIES:テレビ「ライフライン」番組表
ATTACH;FMTTYPE=image/jpeg:https://kinpoden.com/wp-content/uploads/2024/06/image-2024-06-22T093250.986.jpg
END:VEVENT
BEGIN:VEVENT
DTSTART;TZID=Asia/Tokyo:20240720T000000
DTEND;TZID=Asia/Tokyo:20240721T235959
DTSTAMP:20260422T030520
CREATED:20240622T004137Z
LAST-MODIFIED:20240622T004137Z
UID:14590-1721433600-1721606399@kinpoden.com
SUMMARY:「特集　詩画作家・星野富弘」
DESCRIPTION:星野富弘さん \nお話：関根弘興、原田憲夫 \n  \n\n\n今年４月28日に天国へ召された詩画作家・星野富弘さんを３週にわたって紹介します。星野富弘さんは、群馬県勢多郡東村（現・みどり市東町）に生まれます。大学卒業後、中学校の体育教師となります。赴任して２か月ほどで、クラブ活動の指導中に頸髄を損傷、手足の自由を失います。辛い闘病生活を支えたのは、母親の献身的な介護、そして病床で手にした聖書の教えだったといいます。その後、入院中に口に筆をくわえて文や絵を書き始め、国内外で詩画展を開催するようになります。また、1991年には故郷の東町に「富弘美術館」が開館し、現在までに709万人が来館しています。多くの方に深い感動、生きる勇気、希望を与え続ける作品を紹介するとともに、以前出演した番組から星野富弘さんのお話をお届けします。
URL:https://kinpoden.com/lifeline/%e3%80%8c%e7%89%b9%e9%9b%86%e3%80%80%e8%a9%a9%e7%94%bb%e4%bd%9c%e5%ae%b6%e3%83%bb%e6%98%9f%e9%87%8e%e5%af%8c%e5%bc%98%e3%80%8d-3-3/
CATEGORIES:テレビ「ライフライン」番組表
ATTACH;FMTTYPE=image/jpeg:https://kinpoden.com/wp-content/uploads/2024/06/image.jpg
END:VEVENT
BEGIN:VEVENT
DTSTART;TZID=Asia/Tokyo:20240713T000000
DTEND;TZID=Asia/Tokyo:20240714T235959
DTSTAMP:20260422T030520
CREATED:20240622T004031Z
LAST-MODIFIED:20240622T004031Z
UID:14589-1720828800-1721001599@kinpoden.com
SUMMARY:「特集　詩画作家・星野富弘」
DESCRIPTION:星野富弘さん \nお話：関根弘興、原田憲夫 \n  \n\n\n今年４月28日に天国へ召された詩画作家・星野富弘さんを３週にわたって紹介します。星野富弘さんは、群馬県勢多郡東村（現・みどり市東町）に生まれます。大学卒業後、中学校の体育教師となります。赴任して２か月ほどで、クラブ活動の指導中に頸髄を損傷、手足の自由を失います。辛い闘病生活を支えたのは、母親の献身的な介護、そして病床で手にした聖書の教えだったといいます。その後、入院中に口に筆をくわえて文や絵を書き始め、国内外で詩画展を開催するようになります。また、1991年には故郷の東町に「富弘美術館」が開館し、現在までに709万人が来館しています。多くの方に深い感動、生きる勇気、希望を与え続ける作品を紹介するとともに、以前出演した番組から星野富弘さんのお話をお届けします。
URL:https://kinpoden.com/lifeline/%e3%80%8c%e7%89%b9%e9%9b%86%e3%80%80%e8%a9%a9%e7%94%bb%e4%bd%9c%e5%ae%b6%e3%83%bb%e6%98%9f%e9%87%8e%e5%af%8c%e5%bc%98%e3%80%8d-2-3/
CATEGORIES:テレビ「ライフライン」番組表
ATTACH;FMTTYPE=image/jpeg:https://kinpoden.com/wp-content/uploads/2024/06/image.jpg
END:VEVENT
BEGIN:VEVENT
DTSTART;TZID=Asia/Tokyo:20240706T000000
DTEND;TZID=Asia/Tokyo:20240707T235959
DTSTAMP:20260422T030520
CREATED:20240622T003910Z
LAST-MODIFIED:20240622T003910Z
UID:14588-1720224000-1720396799@kinpoden.com
SUMMARY:「特集　詩画作家・星野富弘」
DESCRIPTION:星野富弘さん \nお話：関根弘興、原田憲夫 \n  \n\n\n今年４月28日に天国へ召された詩画作家・星野富弘さんを３週にわたって紹介します。星野富弘さんは、群馬県勢多郡東村（現・みどり市東町）に生まれます。大学卒業後、中学校の体育教師となります。赴任して２か月ほどで、クラブ活動の指導中に頸髄を損傷、手足の自由を失います。辛い闘病生活を支えたのは、母親の献身的な介護、そして病床で手にした聖書の教えだったといいます。その後、入院中に口に筆をくわえて文や絵を書き始め、国内外で詩画展を開催するようになります。また、1991年には故郷の東町に「富弘美術館」が開館し、現在までに709万人が来館しています。多くの方に深い感動、生きる勇気、希望を与え続ける作品を紹介するとともに、以前出演した番組から星野富弘さんのお話をお届けします。
URL:https://kinpoden.com/lifeline/%e3%80%8c%e7%89%b9%e9%9b%86%e3%80%80%e8%a9%a9%e7%94%bb%e4%bd%9c%e5%ae%b6%e3%83%bb%e6%98%9f%e9%87%8e%e5%af%8c%e5%bc%98%e3%80%8d-5/
CATEGORIES:テレビ「ライフライン」番組表
ATTACH;FMTTYPE=image/jpeg:https://kinpoden.com/wp-content/uploads/2024/06/image.jpg
END:VEVENT
BEGIN:VEVENT
DTSTART;TZID=Asia/Tokyo:20240629T000000
DTEND;TZID=Asia/Tokyo:20240630T235959
DTSTAMP:20260422T030520
CREATED:20240527T020830Z
LAST-MODIFIED:20240527T020830Z
UID:14587-1719619200-1719791999@kinpoden.com
SUMMARY:「いのちを通して」
DESCRIPTION:高橋 華さん \nお話：原田憲夫 \n  \n\n\n東京都八王子市にある専門犬舎YUSHA KENNEL（ユーシャ・ケンネル）のドッグブリーダー高橋華さんを紹介します。高橋さんは、メジャーリーガー、大谷翔平選手の愛犬として広く知られることになった犬種、コーイケルホンディエを扱うブリーダーです。2016年に番組出演をしたその後の歩みや高橋さんご自身についてお話を伺います。
URL:https://kinpoden.com/lifeline/%e3%80%8c%e3%81%84%e3%81%ae%e3%81%a1%e3%82%92%e9%80%9a%e3%81%97%e3%81%a6%e3%80%8d-3/
CATEGORIES:テレビ「ライフライン」番組表
ATTACH;FMTTYPE=image/jpeg:https://kinpoden.com/wp-content/uploads/2024/05/image-2024-05-27T105506.981-e1716775695734.jpg
END:VEVENT
BEGIN:VEVENT
DTSTART;TZID=Asia/Tokyo:20240622T000000
DTEND;TZID=Asia/Tokyo:20240623T235959
DTSTAMP:20260422T030520
CREATED:20240527T020627Z
LAST-MODIFIED:20240527T020627Z
UID:14586-1719014400-1719187199@kinpoden.com
SUMMARY:「プレイズコーヒー」
DESCRIPTION:池原仰一さん \nお話：関根弘興 \n  \n\n\n沖縄本島の南、南城市にある「プレイズコーヒー」は、高品質のスペシャルティコーヒーの豆を使用したさまざまなメニューを用意している店です。この店の代表でバリスタの池原仰一さんは、キリスト教会の牧師でもあります。「美味しいコーヒーと共に人生に豊かな時間を。」と願う池原さんに、コーヒー店を始めるきっかけや神様との出会いなどのお話を伺います。
URL:https://kinpoden.com/lifeline/%e3%80%8c%e3%83%97%e3%83%ac%e3%82%a4%e3%82%ba%e3%82%b3%e3%83%bc%e3%83%92%e3%83%bc%e3%80%8d-3/
CATEGORIES:テレビ「ライフライン」番組表
ATTACH;FMTTYPE=image/jpeg:https://kinpoden.com/wp-content/uploads/2024/05/image-2024-05-27T105502.038.jpg
END:VEVENT
BEGIN:VEVENT
DTSTART;TZID=Asia/Tokyo:20240615T000000
DTEND;TZID=Asia/Tokyo:20240616T235959
DTSTAMP:20260422T030520
CREATED:20240527T020529Z
LAST-MODIFIED:20240527T020529Z
UID:14585-1718409600-1718582399@kinpoden.com
SUMMARY:「鈴鹿に響く神のわざ」
DESCRIPTION:大竹海二さん \nお話：原田憲夫 \n  \n\n\n三重県鈴鹿市にあるキリスト教会の牧師、大竹海二さんを紹介します。大竹さんは東京芸術大学でトロンボーンと作曲を学んだ後、東京や千葉のキリスト教会の牧師として38年間務め、賛美歌の作曲・編曲も手がけました。昨年、76歳で鈴鹿キリスト教会の牧師となり、平日は近くのブックカフェでピアノを弾きながら歌の集いのリードもしています。いつもにこやかな大竹さんに、苦労した生い立ちや牧師としての思いについてお話を伺います。 \n　
URL:https://kinpoden.com/lifeline/%e3%80%8c%e9%88%b4%e9%b9%bf%e3%81%ab%e9%9f%bf%e3%81%8f%e7%a5%9e%e3%81%ae%e3%82%8f%e3%81%96%e3%80%8d-3/
CATEGORIES:テレビ「ライフライン」番組表
ATTACH;FMTTYPE=image/png:https://kinpoden.com/wp-content/uploads/2024/05/image-46.png
END:VEVENT
BEGIN:VEVENT
DTSTART;TZID=Asia/Tokyo:20240608T000000
DTEND;TZID=Asia/Tokyo:20240609T235959
DTSTAMP:20260422T030520
CREATED:20240527T020257Z
LAST-MODIFIED:20240527T020257Z
UID:14584-1717804800-1717977599@kinpoden.com
SUMMARY:「人生再出発」
DESCRIPTION:ライフ・ラインのつどい in 静岡 \n「人生再出発」 \n関根弘興牧師、平野翔一さん \n  \n\n\n静岡県浜松市で行った「ライフ・ラインのつどい」の様子を紹介します。このつどいでは、関根弘興牧師が「人生再出発」というタイトルで聖書からお話をしました。また、音楽ゲストは番組のオープニングテーマ曲「一歩」を歌う平野翔一さんです。音楽と聖書のお話をお届けします。 \n　
URL:https://kinpoden.com/lifeline/%e3%80%8c%e4%ba%ba%e7%94%9f%e5%86%8d%e5%87%ba%e7%99%ba%e3%80%8d-3/
CATEGORIES:テレビ「ライフライン」番組表
ATTACH;FMTTYPE=image/jpeg:https://kinpoden.com/wp-content/uploads/2024/05/image-2024-05-27T105443.020.jpg
END:VEVENT
BEGIN:VEVENT
DTSTART;TZID=Asia/Tokyo:20240601T000000
DTEND;TZID=Asia/Tokyo:20240602T235959
DTSTAMP:20260422T030520
CREATED:20240527T020100Z
LAST-MODIFIED:20240527T020100Z
UID:14583-1717200000-1717372799@kinpoden.com
SUMMARY:「美しさ」
DESCRIPTION:馬場そわかさん \nお話：原田憲夫 \n  \n\n\nフローリストの馬場そわかさんを紹介します。いけばな龍生派（りゅうせいは）家元教授である馬場さんは、教会でのウェディングフラワーのプロデュースをはじめ、店舗や舞台の装飾なども手がけています。また、自宅のアトリエにて、地域の子ども向けの教室を行っています。馬場さんのさまざまな活動についてお話を伺います。
URL:https://kinpoden.com/lifeline/%e3%80%8c%e7%be%8e%e3%81%97%e3%81%95%e3%80%8d-3/
CATEGORIES:テレビ「ライフライン」番組表
ATTACH;FMTTYPE=image/jpeg:https://kinpoden.com/wp-content/uploads/2024/05/image.jpg
END:VEVENT
BEGIN:VEVENT
DTSTART;TZID=Asia/Tokyo:20240525T000000
DTEND;TZID=Asia/Tokyo:20240526T235959
DTSTAMP:20260422T030520
CREATED:20240423T043937Z
LAST-MODIFIED:20240423T043937Z
UID:14582-1716595200-1716767999@kinpoden.com
SUMMARY:「疲れたときの処方箋」
DESCRIPTION:関根弘興牧師、神山みささん \n  \n  \n\n\n聖書のお話と音楽をお届けします。バイブルコーナーでおなじみの関根弘興牧師が「疲れたときの処方箋」というタイトルで聖書からお話をしました。また、ゴスペルフォークシンガー・神山みささんが、オリジナルのゴスペルソングを歌いました。 \n　
URL:https://kinpoden.com/lifeline/%e3%80%8c%e7%96%b2%e3%82%8c%e3%81%9f%e3%81%a8%e3%81%8d%e3%81%ae%e5%87%a6%e6%96%b9%e7%ae%8b%e3%80%8d-3/
CATEGORIES:テレビ「ライフライン」番組表
ATTACH;FMTTYPE=image/jpeg:https://kinpoden.com/wp-content/uploads/2024/04/image-2023-03-22T154049.346.jpg
END:VEVENT
BEGIN:VEVENT
DTSTART;TZID=Asia/Tokyo:20240518T000000
DTEND;TZID=Asia/Tokyo:20240519T235959
DTSTAMP:20260422T030520
CREATED:20240423T043810Z
LAST-MODIFIED:20240423T043810Z
UID:14581-1715990400-1716163199@kinpoden.com
SUMMARY:「神の祝福と守りの中で」
DESCRIPTION:渡邉圭司さん \nお話：原田憲夫 \n  \n\n\n埼玉県川越市の特別養護老人ホーム「川越キングス・ガーデン」を紹介します。施設長の渡邉圭司さんに施設を案内していただくとともに、2019年の台風19号で建物が浸水被害に遭い周囲から完全に孤立しながらも、100人の入所者・利用者が全員無事に避難できたお話などを伺います。 \n　
URL:https://kinpoden.com/lifeline/%e3%80%8c%e7%a5%9e%e3%81%ae%e7%a5%9d%e7%a6%8f%e3%81%a8%e5%ae%88%e3%82%8a%e3%81%ae%e4%b8%ad%e3%81%a7%e3%80%8d-3/
CATEGORIES:テレビ「ライフライン」番組表
ATTACH;FMTTYPE=image/png:https://kinpoden.com/wp-content/uploads/2024/04/image-44.png
END:VEVENT
BEGIN:VEVENT
DTSTART;TZID=Asia/Tokyo:20240511T000000
DTEND;TZID=Asia/Tokyo:20240512T235959
DTSTAMP:20260422T030520
CREATED:20240423T043638Z
LAST-MODIFIED:20240423T043638Z
UID:14580-1715385600-1715558399@kinpoden.com
SUMMARY:「いのちの道へ」
DESCRIPTION:葛葉美奈子さん \nお話：関根弘興 \n  \n\n\nゴスペルシンガーソングライター、クワイアディレクター、ボイストレーナーの葛葉美奈子さんは、15歳から歌手活動を始め、2002年にTBS R&Cレーベルからデビューします。以後、コンサートや楽曲制作、ゴスペルの指導など、精力的に活動をしています。デビュー21周年を記念した最新アルバム「Kuzuha's story album The path of life / いのちの道へ」の発売記念コンサートから歌をお届けするとともに、音楽との出会いやクリスチャンになったきっかけなどのお話を伺います。
URL:https://kinpoden.com/lifeline/%e3%80%8c%e3%81%84%e3%81%ae%e3%81%a1%e3%81%ae%e9%81%93%e3%81%b8%e3%80%8d-3/
CATEGORIES:テレビ「ライフライン」番組表
ATTACH;FMTTYPE=image/jpeg:https://kinpoden.com/wp-content/uploads/2024/04/image-2024-04-23T132945.777.jpg
END:VEVENT
BEGIN:VEVENT
DTSTART;TZID=Asia/Tokyo:20240504T000000
DTEND;TZID=Asia/Tokyo:20240505T235959
DTSTAMP:20260422T030520
CREATED:20240423T043528Z
LAST-MODIFIED:20240423T043528Z
UID:14579-1714780800-1714953599@kinpoden.com
SUMMARY:「最高の伴走者」
DESCRIPTION:恵 実樹さん \nお話：原田憲夫 \n  \n\n\nウェディングプランナーの恵実樹さんは、18年間多くのカップルの結婚式を手がけてきました。新郎新婦のためにその特別な日を最高なものにしようと尽力しています。キリスト教の価値観に基づいた温かい結婚式をプロデュースする恵さんに、お話を伺います。
URL:https://kinpoden.com/lifeline/%e3%80%8c%e6%9c%80%e9%ab%98%e3%81%ae%e4%bc%b4%e8%b5%b0%e8%80%85%e3%80%8d-3/
CATEGORIES:テレビ「ライフライン」番組表
ATTACH;FMTTYPE=image/jpeg:https://kinpoden.com/wp-content/uploads/2024/04/image.jpg
END:VEVENT
BEGIN:VEVENT
DTSTART;TZID=Asia/Tokyo:20240427T000000
DTEND;TZID=Asia/Tokyo:20240428T235959
DTSTAMP:20260422T030520
CREATED:20240322T053719Z
LAST-MODIFIED:20240322T053719Z
UID:14578-1714176000-1714348799@kinpoden.com
SUMMARY:「いつまでも残るもの」
DESCRIPTION:ライフ・ラインのつどい in 大阪 \n「いつまでも残るもの」 \n岩井基雄牧師、白鞘慧海さん \n  \n\n\n大阪府岸和田市で行った「ライフ・ラインのつどい」の様子を紹介します。このつどいでは、岩井基雄牧師が「いつまでも残るもの」というタイトルで聖書からお話をしました。また、音楽ゲストはゴスペルシンガー&ソングライターの白鞘慧海さんで、オリジナルのゴスペルソングを披露しました。音楽と聖書のお話をお届けします。 \n　
URL:https://kinpoden.com/lifeline/%e3%80%8c%e3%81%84%e3%81%a4%e3%81%be%e3%81%a7%e3%82%82%e6%ae%8b%e3%82%8b%e3%82%82%e3%81%ae%e3%80%8d-2-3/
CATEGORIES:テレビ「ライフライン」番組表
ATTACH;FMTTYPE=image/jpeg:https://kinpoden.com/wp-content/uploads/2024/03/image-2024-03-22T140512.013.jpg
END:VEVENT
BEGIN:VEVENT
DTSTART;TZID=Asia/Tokyo:20240420T000000
DTEND;TZID=Asia/Tokyo:20240421T235959
DTSTAMP:20260422T030520
CREATED:20240322T053542Z
LAST-MODIFIED:20240322T053542Z
UID:14577-1713571200-1713743999@kinpoden.com
SUMMARY:「スポーツで人生に健康と輝きを」
DESCRIPTION:金ジングクさん、鈴木まどかさん\n \nお話：関根弘興 \n  \n\n\nスポーツを通してイエス・キリストの素晴らしさを伝えているアスリートチャーチの金ジングクさん、鈴木まどかさん夫妻を紹介します。元陸上選手というお二人は、公園や運動場をはじめ福祉施設などを会場に、さまざまなスポーツイベントを行っています。今回は鈴木まどかさんにスポットをあて、陸上選手時代の壮絶な出来事や、ある人物との出会いについてお話を伺います。
URL:https://kinpoden.com/lifeline/%e3%80%8c%e3%82%b9%e3%83%9d%e3%83%bc%e3%83%84%e3%81%a7%e4%ba%ba%e7%94%9f%e3%81%ab%e5%81%a5%e5%ba%b7%e3%81%a8%e8%bc%9d%e3%81%8d%e3%82%92%e3%80%8d-3/
CATEGORIES:テレビ「ライフライン」番組表
ATTACH;FMTTYPE=image/jpeg:https://kinpoden.com/wp-content/uploads/2024/03/image-2024-03-22T140457.885.jpg
END:VEVENT
BEGIN:VEVENT
DTSTART;TZID=Asia/Tokyo:20240413T000000
DTEND;TZID=Asia/Tokyo:20240414T235959
DTSTAMP:20260422T030520
CREATED:20240322T053442Z
LAST-MODIFIED:20240322T053442Z
UID:14576-1712966400-1713139199@kinpoden.com
SUMMARY:「見えるものよりも」
DESCRIPTION:坂井田真実子さん \nお話：岩井基雄 \n  \n\n\nソプラノの坂井田真実子さんは、ソリスト、またオペラの舞台等で将来が期待される歌手として活躍していました。順調にキャリアを積んでいた2016年に、国指定難病NMOSD視神経脊髄炎を発症し、一時は下半身不随となります。その後、病症や後遺症と共存しつつ、ステージに復活。各地でコンサート活動を再開しています。リサイタルから歌をお届けするとともに、音楽を志すようになったきっかけや、病床の中で坂井田さんを支えたキリスト教信仰などについてお話を伺います。 \n  \n※2024マスターズゴルフにより、HBC（北海道放送）、ATV（青森テレビ）、BSN（新潟放送）は、放送休止になります。
URL:https://kinpoden.com/lifeline/%e3%80%8c%e8%a6%8b%e3%81%88%e3%82%8b%e3%82%82%e3%81%ae%e3%82%88%e3%82%8a%e3%82%82%e3%80%8d-2-3/
CATEGORIES:テレビ「ライフライン」番組表
ATTACH;FMTTYPE=image/jpeg:https://kinpoden.com/wp-content/uploads/2024/03/image-2024-03-22T140449.710.jpg
END:VEVENT
BEGIN:VEVENT
DTSTART;TZID=Asia/Tokyo:20240406T000000
DTEND;TZID=Asia/Tokyo:20240407T235959
DTSTAMP:20260422T030520
CREATED:20240322T051020Z
LAST-MODIFIED:20240322T051020Z
UID:14575-1712361600-1712534399@kinpoden.com
SUMMARY:「92歳！ 映画監督、山田火砂子のチカラ」
DESCRIPTION:山田火砂子さん、キャロリン愛子ホーランドさん \nお話：原田憲夫 \n  \n\n\n今年92歳を迎えた映画監督の山田火砂子さんと映画に出演したキャロリン愛子ホーランドさんをスタジオに迎え、映画「われ弱ければ 矢嶋楫子伝」と最新作「わたしのかあさん ―天使の詩―」について、撮影のエピソードや作品に対する思いなどを伺います。 \n　
URL:https://kinpoden.com/lifeline/%e3%80%8c92%e6%ad%b3%ef%bc%81-%e6%98%a0%e7%94%bb%e7%9b%a3%e7%9d%a3%e3%80%81%e5%b1%b1%e7%94%b0%e7%81%ab%e7%a0%82%e5%ad%90%e3%81%ae%e3%83%81%e3%82%ab%e3%83%a9%e3%80%8d-3/
CATEGORIES:テレビ「ライフライン」番組表
ATTACH;FMTTYPE=image/jpeg:https://kinpoden.com/wp-content/uploads/2024/03/image.jpg
END:VEVENT
BEGIN:VEVENT
DTSTART;TZID=Asia/Tokyo:20240330T000000
DTEND;TZID=Asia/Tokyo:20240331T235959
DTSTAMP:20260422T030520
CREATED:20240220T114814Z
LAST-MODIFIED:20240220T114814Z
UID:14574-1711756800-1711929599@kinpoden.com
SUMMARY:「再会～永遠の希望へ～」
DESCRIPTION:イースター番組 \n「再会～永遠の希望へ～」 \n 原田憲夫牧師、白鞘慧海さん \n  \n\n\nキリストの復活を記念してお祝いするイースター（復活祭）番組。今年のイースター番組は、原田憲夫牧師が「再会～永遠の希望へ～」というタイトルで語った聖書のお話と、ゴスペルシンガー&ソングライターの白鞘慧海さんが歌うオリジナルのゴスペルソングをお届けします。 \n　
URL:https://kinpoden.com/lifeline/%e3%80%8c%e5%86%8d%e4%bc%9a%ef%bd%9e%e6%b0%b8%e9%81%a0%e3%81%ae%e5%b8%8c%e6%9c%9b%e3%81%b8%ef%bd%9e%e3%80%8d-3/
CATEGORIES:テレビ「ライフライン」番組表
ATTACH;FMTTYPE=image/jpeg:https://kinpoden.com/wp-content/uploads/2024/02/image-2024-02-20T203534.964.jpg
END:VEVENT
BEGIN:VEVENT
DTSTART;TZID=Asia/Tokyo:20240323T000000
DTEND;TZID=Asia/Tokyo:20240324T235959
DTSTAMP:20260422T030520
CREATED:20240220T114641Z
LAST-MODIFIED:20240220T114641Z
UID:14573-1711152000-1711324799@kinpoden.com
SUMMARY:「音色を通して・２」
DESCRIPTION:鶴田ジェニー唯さん \nお話：関根弘興 \n  \n\n\n前回に続き、ヴァイオリニストの鶴田ジェニー唯さんを紹介します。 \n鶴田さんによるヴァイオリン演奏をお届けするとともに、音楽活動を続けるなかで経験した挫折や、音楽に対する思いについてお話を伺います。
URL:https://kinpoden.com/lifeline/%e3%80%8c%e9%9f%b3%e8%89%b2%e3%82%92%e9%80%9a%e3%81%97%e3%81%a6%e3%83%bb%ef%bc%92%e3%80%8d-3/
CATEGORIES:テレビ「ライフライン」番組表
ATTACH;FMTTYPE=image/jpeg:https://kinpoden.com/wp-content/uploads/2024/02/image-2024-02-20T203515.787.jpg
END:VEVENT
BEGIN:VEVENT
DTSTART;TZID=Asia/Tokyo:20240316T000000
DTEND;TZID=Asia/Tokyo:20240317T235959
DTSTAMP:20260422T030520
CREATED:20240220T114517Z
LAST-MODIFIED:20240220T114517Z
UID:14572-1710547200-1710719999@kinpoden.com
SUMMARY:「すべてを失っても～希望～」（２）
DESCRIPTION:佐藤 彰さん \n  \n\n\n福島県いわき市にある福島第一聖書バプテスト教会の牧師・佐藤彰さんを２週にわたって紹介します。佐藤さんは福島原発に近い場所にあるキリスト教会で活動をしていました。しかし、2011年３月11日に起こった東日本大震災、それに続く原発事故により、教会は閉鎖。教会のメンバーと共に流浪の避難生活を送ります。そして2013年、いわき市に新たなキリスト教会を建設し、教会の活動を再開しました。避難生活について、現在の教会の活動について、また2022年に立ち入り解除となり活動を再開した双葉郡大熊町にある教会を関根弘興牧師が訪ね、お話を伺います。
URL:https://kinpoden.com/lifeline/%e3%80%8c%e3%81%99%e3%81%b9%e3%81%a6%e3%82%92%e5%a4%b1%e3%81%a3%e3%81%a6%e3%82%82%ef%bd%9e%e5%b8%8c%e6%9c%9b%ef%bd%9e%e3%80%8d%ef%bc%88%ef%bc%92%ef%bc%89-3/
CATEGORIES:テレビ「ライフライン」番組表
ATTACH;FMTTYPE=image/jpeg:https://kinpoden.com/wp-content/uploads/2024/02/image-2024-02-20T203505.066.jpg
END:VEVENT
BEGIN:VEVENT
DTSTART;TZID=Asia/Tokyo:20240309T000000
DTEND;TZID=Asia/Tokyo:20240310T235959
DTSTAMP:20260422T030520
CREATED:20240220T114410Z
LAST-MODIFIED:20240220T114410Z
UID:14571-1709942400-1710115199@kinpoden.com
SUMMARY:「すべてを失っても～希望～」（１)
DESCRIPTION:佐藤 彰さん \n  \n\n\n福島県いわき市にある福島第一聖書バプテスト教会の牧師・佐藤彰さんを２週にわたって紹介します。佐藤さんは福島原発に近い場所にあるキリスト教会で活動をしていました。しかし、2011年３月11日に起こった東日本大震災、それに続く原発事故により、教会は閉鎖。教会のメンバーと共に流浪の避難生活を送ります。そして2013年、いわき市に新たなキリスト教会を建設し、教会の活動を再開しました。避難生活について、現在の教会の活動について、また2022年に立ち入り解除となり活動を再開した双葉郡大熊町にある教会を関根弘興牧師が訪ね、お話を伺います。
URL:https://kinpoden.com/lifeline/%e3%80%8c%e3%81%99%e3%81%b9%e3%81%a6%e3%82%92%e5%a4%b1%e3%81%a3%e3%81%a6%e3%82%82%ef%bd%9e%e5%b8%8c%e6%9c%9b%ef%bd%9e%e3%80%8d%ef%bc%88%ef%bc%91-3/
CATEGORIES:テレビ「ライフライン」番組表
ATTACH;FMTTYPE=image/jpeg:https://kinpoden.com/wp-content/uploads/2024/02/image-2024-02-20T203505.066.jpg
END:VEVENT
BEGIN:VEVENT
DTSTART;TZID=Asia/Tokyo:20240302T000000
DTEND;TZID=Asia/Tokyo:20240303T235959
DTSTAMP:20260422T030520
CREATED:20240220T114237Z
LAST-MODIFIED:20240220T114237Z
UID:14570-1709337600-1709510399@kinpoden.com
SUMMARY:「海の見える本屋 ぴりぽ」
DESCRIPTION:塚本春美さん \nお話：原田憲夫 \n  \n\n\n三重県鈴鹿市の千代崎海岸を見渡せる場所にあるブックカフェ「海の見える本屋 ぴりぽ」。四日市市の自宅のリビングで塚本春美さんが始めたブックカフェを、2021年にこの場所に移したものです。今では地域の憩いの場となり、歌声であふれる空間となっているという、その魅力に迫ります。 \n　
URL:https://kinpoden.com/lifeline/%e3%80%8c%e6%b5%b7%e3%81%ae%e8%a6%8b%e3%81%88%e3%82%8b%e6%9c%ac%e5%b1%8b-%e3%81%b4%e3%82%8a%e3%81%bd%e3%80%8d-3/
CATEGORIES:テレビ「ライフライン」番組表
ATTACH;FMTTYPE=image/png:https://kinpoden.com/wp-content/uploads/2024/02/image.png
END:VEVENT
BEGIN:VEVENT
DTSTART;TZID=Asia/Tokyo:20240224T000000
DTEND;TZID=Asia/Tokyo:20240225T235959
DTSTAMP:20260422T030520
CREATED:20240122T095620Z
LAST-MODIFIED:20240122T095620Z
UID:14569-1708732800-1708905599@kinpoden.com
SUMMARY:「星のように輝く」
DESCRIPTION:浅里愼也さん \nお話：岩井基雄牧師（第4週） \n北海道札幌市にある北星学園女子中学高等学校を2週にわたって紹介します。北星学園女子中学高等学校は1887年にアメリカ人宣教師サラ・C・スミスさんによって設立されたミッションスクールで、北海道の女子教育の道を拓いてきました。「自分らしさを大切にし、他者と共に生き、輝くことができる女性に」というサラ・C・スミスさんの思いは、130年以上経つ今でも受け継がれています。 1回目は、聖書のことば「世にあって星のように輝く」から付けられた学校名に込められている願いや学校の特徴、理念などを学校長・浅里愼也さんに伺います。 2回目は、浅里愼也さんに学校長としての思いやクリスチャンになった経緯などのお話を伺います。
URL:https://kinpoden.com/lifeline/%e3%80%8c%e6%98%9f%e3%81%ae%e3%82%88%e3%81%86%e3%81%ab%e8%bc%9d%e3%81%8f%e3%80%8d-2-3/
CATEGORIES:テレビ「ライフライン」番組表
ATTACH;FMTTYPE=image/jpeg:https://kinpoden.com/wp-content/uploads/2024/01/image-2024-01-22T184628.775.jpg
END:VEVENT
BEGIN:VEVENT
DTSTART;TZID=Asia/Tokyo:20240217T000000
DTEND;TZID=Asia/Tokyo:20240218T235959
DTSTAMP:20260422T030520
CREATED:20240122T095412Z
LAST-MODIFIED:20240122T095412Z
UID:14568-1708128000-1708300799@kinpoden.com
SUMMARY:「星のように輝く」
DESCRIPTION:浅里愼也さん \nお話：関根弘興牧師（第3週） \n北海道札幌市にある北星学園女子中学高等学校を2週にわたって紹介します。北星学園女子中学高等学校は1887年にアメリカ人宣教師サラ・C・スミスさんによって設立されたミッションスクールで、北海道の女子教育の道を拓いてきました。「自分らしさを大切にし、他者と共に生き、輝くことができる女性に」というサラ・C・スミスさんの思いは、130年以上経つ今でも受け継がれています。 1回目は、聖書のことば「世にあって星のように輝く」から付けられた学校名に込められている願いや学校の特徴、理念などを学校長・浅里愼也さんに伺います。 2回目は、浅里愼也さんに学校長としての思いやクリスチャンになった経緯などのお話を伺います。
URL:https://kinpoden.com/lifeline/%e3%80%8c%e6%98%9f%e3%81%ae%e3%82%88%e3%81%86%e3%81%ab%e8%bc%9d%e3%81%8f%e3%80%8d-4/
CATEGORIES:テレビ「ライフライン」番組表
ATTACH;FMTTYPE=image/jpeg:https://kinpoden.com/wp-content/uploads/2024/01/image-2024-01-22T184619.314.jpg
END:VEVENT
BEGIN:VEVENT
DTSTART;TZID=Asia/Tokyo:20240210T000000
DTEND;TZID=Asia/Tokyo:20240211T235959
DTSTAMP:20260422T030520
CREATED:20240122T095213Z
LAST-MODIFIED:20240122T095213Z
UID:14567-1707523200-1707695999@kinpoden.com
SUMMARY:「音色を通して」
DESCRIPTION:鶴田ジェニー唯さん \nお話：原田憲夫牧師 \n  \nバイオリニストの鶴田ジェニー唯さんを紹介します。鶴田さんは、クラ シックからジャズまで幅広い音楽ジャンルを演奏し、ユーオーディア管弦楽団をはじめ多くのコンサートに出演する注目の若手バイオリニストです。即興で演奏されるジャズバイオリンは話題を呼び、全国各地のコンサートに招かれ活躍しています。バイオリンの演奏をお届けするとともに、インターナショナルな背景で育った鶴田さんの生い立ちを伺います。
URL:https://kinpoden.com/lifeline/%e3%80%8c%e9%9f%b3%e8%89%b2%e3%82%92%e9%80%9a%e3%81%97%e3%81%a6%e3%80%8d-3/
CATEGORIES:テレビ「ライフライン」番組表
ATTACH;FMTTYPE=image/jpeg:https://kinpoden.com/wp-content/uploads/2024/01/image-2024-01-22T184608.665.jpg
END:VEVENT
BEGIN:VEVENT
DTSTART;TZID=Asia/Tokyo:20240203T000000
DTEND;TZID=Asia/Tokyo:20240204T235959
DTSTAMP:20260422T030520
CREATED:20240122T095100Z
LAST-MODIFIED:20240122T095100Z
UID:14566-1706918400-1707091199@kinpoden.com
SUMMARY:「証としてのキリスト教美術  ～田中忠雄展・２～」
DESCRIPTION:渡辺総一さん \nお話：原田憲夫牧師 \n  \n昨年、関西学院大学博物館でキリスト教画家・田中忠雄氏の生誕120年を記念しての展覧会が開かれました。前回に引き続き、その開催記念講演会「証しとしてのキリスト教美術」から、画家でキリスト教美術家の渡辺総一さんのお話をお届けします。
URL:https://kinpoden.com/lifeline/%e3%80%8c%e8%a8%bc%e3%81%a8%e3%81%97%e3%81%a6%e3%81%ae%e3%82%ad%e3%83%aa%e3%82%b9%e3%83%88%e6%95%99%e7%be%8e%e8%a1%93-%ef%bd%9e%e7%94%b0%e4%b8%ad%e5%bf%a0%e9%9b%84%e5%b1%95%e3%83%bb%ef%bc%92-3/
CATEGORIES:テレビ「ライフライン」番組表
ATTACH;FMTTYPE=image/jpeg:https://kinpoden.com/wp-content/uploads/2024/01/image.jpg
END:VEVENT
BEGIN:VEVENT
DTSTART;TZID=Asia/Tokyo:20240127T000000
DTEND;TZID=Asia/Tokyo:20240128T235959
DTSTAMP:20260422T030520
CREATED:20231225T103120Z
LAST-MODIFIED:20231225T103120Z
UID:14565-1706313600-1706486399@kinpoden.com
SUMMARY:「世の罪を取り除く神の小羊・イエス」
DESCRIPTION:ユーオーディア管弦楽団・合唱団 \n柳瀬洋さん、柳瀬佐和子さん、北あおいさん \nお話：関根弘興牧師 \n昨年７月に東京で開催された「第29回 ユーオーディア賛美の夕べ」をご紹介します。 \n今回の「ユーオーディア賛美の夕べ」は、新約聖書ヨハネの福音書１章29節「見よ、世の罪を取り除く神の小羊」から『小羊イエス』というテーマで開催されました。 \nユーオーディア代表の柳瀬洋さん、演奏曲「暗闇に光」「ほふられた小羊」を作曲した柳瀬佐和子さん、「羊」を作曲した北あおいさんにお話を伺います。 \n　　
URL:https://kinpoden.com/lifeline/%e3%80%8c%e4%b8%96%e3%81%ae%e7%bd%aa%e3%82%92%e5%8f%96%e3%82%8a%e9%99%a4%e3%81%8f%e7%a5%9e%e3%81%ae%e5%b0%8f%e7%be%8a%e3%83%bb%e3%82%a4%e3%82%a8%e3%82%b9%e3%80%8d-3/
CATEGORIES:テレビ「ライフライン」番組表
ATTACH;FMTTYPE=image/jpeg:https://kinpoden.com/wp-content/uploads/2023/12/image-2023-12-25T192113.722.jpg
END:VEVENT
BEGIN:VEVENT
DTSTART;TZID=Asia/Tokyo:20240120T000000
DTEND;TZID=Asia/Tokyo:20240121T235959
DTSTAMP:20260422T030520
CREATED:20231225T102916Z
LAST-MODIFIED:20231225T102916Z
UID:14564-1705708800-1705881599@kinpoden.com
SUMMARY:「バングラデシュの小さな病院で  体とこころの処方箋を人々に」
DESCRIPTION:近藤恵さん \nお話：岩井基雄牧師 \n医療宣教師の近藤恵さんをご紹介します。近藤さんは2008年からバングラデシュで活動し、たくさんの方々のこころと体を治療してきました。すべてが必要な経験だったと語る近藤さんですが、これまで多くの苦労があったといいます。バングラデシュでのさまざまな出来事や、医療宣教師になった経緯についてお話を伺います。
URL:https://kinpoden.com/lifeline/%e3%80%8c%e3%83%90%e3%83%b3%e3%82%b0%e3%83%a9%e3%83%87%e3%82%b7%e3%83%a5%e3%81%ae%e5%b0%8f%e3%81%95%e3%81%aa%e7%97%85%e9%99%a2%e3%81%a7-%e4%bd%93%e3%81%a8%e3%81%93%e3%81%93%e3%82%8d%e3%81%ae-3/
CATEGORIES:テレビ「ライフライン」番組表
ATTACH;FMTTYPE=image/jpeg:https://kinpoden.com/wp-content/uploads/2023/12/image-2023-12-25T192044.541.jpg
END:VEVENT
END:VCALENDAR